Workbook

Sheet Instructions
B7: RFQ | C7: Cisco SmartNet
B8: RFQ # | C8: SHS27-AB-04
B10: 1 | C10: Fill out the Price Form tab and return a copy of the completed Appendix A with your quotation submission. Please complete all cells highlighted in yellow. This is a mandatory requirement.
B11: 2 | C11: The proposed pricing should be all inclusive and does not contain hidden fees. If there are fees and costs extra to the pricing table, please clearly indicate those fees with a description and the amount.
B12: 3 | C12: All proposed pricing should be in Canadian dollars (CAD) and should include as separate items information on all federal and provincial taxes, where applicable.
B13: 4 | C13: PavCo will not pay for other costs, fees, charges or expenses that are not expressly stated on this price sheet.

Sheet Cisco RFQ Price Form
B1: Vendor to Complete
B2: Vendor's Legal Name
B3: Doing Buisness As (if applicable)
B4: Vendor Address
B6: Mandatory
L7: Vendor to Complete
A8: Renewal Type | B8: Item Listing | C8: Manufacturer | D8: Item Name | E8: Description | F8: Service SKU | G8: Service Level | H8: Begin Date | I8: End Date | J8: Required Quantity (EA) | L8: Quantity | N8: Unit Pricing ($) | O8: Total Pricing ($) | P8: Lead Time
K9: Total | M9: Total
A10: SmartNet Renewal | B10: 1 | C10: Cisco | D10: AIR-DNA-E | E10: Wireless Cisco DNA On-Prem Essential, Term Lic | F10: AIR-DNA-E-1R | G10: Subscription SSTC | H10: 46900 | I10: 47791 | J10: 116 | K10: 116 | L10: =J10 -> 116 | M10: =L10 -> 116
A11: SmartNet Renewal | B11: 2 | C11: Cisco | D11: AIR-DNA-E | E11: Wireless Cisco DNA On-Prem Essential, Term Lic | F11: AIR-DNA-E-3R | G11: Subscription SSTC | H11: 46330 | I11: 47791 | J11: 629 | K11: 629 | L11: 629 | M11: 629
A12: SmartNet Renewal | B12: 3 | C12: Cisco | D12: C9300-48-E-A | E12: 48-port NW & DNA Essentials to NW & DNA Advantage Upgrade | F12: C9300-48-E-A-3 | G12: Subscription SSTC | H12: 46330 | I12: 47791 | J12: 10 | K12: 10 | L12: =J12 -> 10 | M12: =L12 -> 10
A13: SmartNet Renewal | B13: 4 | C13: Cisco | D13: C9300-DNA-A-48 | E13: C9300 DNA Essentials, 48-Port Term License | F13: C9300-DNA-E-48-3Y | G13: Subscription SSTC | H13: 46614 | I13: 47791 | J13: 5 | K13: 5 | L13: =J13 -> 5 | M13: =L13 -> 5
A14: SmartNet Renewal | B14: 5 | C14: Cisco | D14: C9300-DNA-A-48 | E14: C9300 DNA Essentials, 48-Port Term License | F14: C9300-DNA-E-48-3Y | G14: Subscription SSTC | H14: 46676 | I14: 47791 | J14: 37 | K14: 37 | L14: =J14 -> 37 | M14: =L14 -> 37
A15: SmartNet Renewal | B15: 6 | C15: Cisco | D15: C9300-DNA-A-48 | E15: C9300 DNA Essentials, 48-Port Term License | F15: C9300-DNA-E-48-3Y | G15: Subscription SSTC | H15: 46650 | I15: 47791 | J15: 50 | K15: 50 | L15: =J15 -> 50 | M15: =L15 -> 50
A16: SmartNet Renewal | B16: 7 | C16: Cisco | D16: C9300-DNA-A-48 | E16: C9300 DNA Essentials, 48-Port Term License | F16: C9300-DNA-E-48-3Y | G16: Subscription SSTC | H16: 46622 | I16: 47791 | J16: 50 | K16: 50 | L16: =J16 -> 50 | M16: =L16 -> 50
A17: SmartNet Renewal | B17: 8 | C17: Cisco | D17: C9300-DNA-A-48= | E17: C9300 DNA Essentials, 48-Port Spare 3-Year Term License | F17: C9300-DNA-E-48-3Y | G17: Subscription SSTC | H17: 46330 | I17: 47791 | J17: 2 | K17: 2 | L17: =J17 -> 2 | M17: =L17 -> 2
A18: SmartNet Renewal | B18: 9 | C18: Cisco | D18: C9500X-DNA-60L4D-A | E18: C9500X DNA Advantage, Term License | F18: C9500X-DNA-A-3Y | G18: Subscription SSTC | H18: 46614 | I18: 47791 | J18: 4 | K18: 4 | L18: =J18 -> 4 | M18: =L18 -> 4
A19: SmartNet Renewal | B19: 10 | C19: Cisco | D19: R-ISE-VMC-K9= | E19: Cisco ISE Virtual Machine Common PID | F19: CON-ECMU-RISE9KVM | G19: ECMU | H19: 46330 | I19: 47791 | J19: 2 | K19: 2 | L19: =J19 -> 2 | M19: =L19 -> 2
A20: SmartNet Renewal | B20: 11 | C20: Cisco | D20: SF-FMC-VMW-10-K9 | E20: Cisco Firepower Management Center, (VMWare) for 10 devices | F20: CON-ECMU-SFFMCK9V | G20: ECMU | H20: 46330 | I20: 47791 | J20: 1 | K20: 1 | L20: =J20 -> 1 | M20: =L20 -> 1
A21: SmartNet Renewal | B21: 12 | C21: Cisco | D21: CW9800H2 | E21: Cisco Catalyst CW9800H2 Wireless Controller | F21: CON-L1NBD-CW98H21A | G21: L1NBD | H21: 46937 | I21: 47791 | J21: 2 | K21: 2 | L21: =J21 -> 2 | M21: =L21 -> 2
A22: SmartNet Renewal | B22: 13 | C22: Cisco | D22: C9300X-48HX-E | E22: Catalyst 9300 48-port mGig UPoE+, Network Essentials | F22: CON-SNT-C9300UX4 | G22: SNT | H22: 46330 | I22: 47791 | J22: 12 | K22: 12 | L22: =J22 -> 12 | M22: =L22 -> 12
A23: SmartNet Renewal | B23: 14 | C23: Cisco | D23: C9500X-60L4D-A | E23: Catalyst 9500 60x10/25/50G + 4x400G, Advantage | F23: CON-SNT-C954SXU5 | G23: SNT | H23: 46330 | I23: 47791 | J23: 4 | K23: 4 | L23: =J23 -> 4 | M23: =L23 -> 4
... A25: SmartNet Renewal | B25: 16 | C25: Cisco | D25: FPR2120-NGFW-K9 | E25: ^Cisco Firepower 2120 NGFW Appliance, 1U | F25: CON-SNT-FPR21GFN | G25: SNT | H25: 46330 | I25: 47791 | J25: 2 | K25: 2 | L25: =J25 -> 2 | M25: =L25 -> 2
A26: SmartNet Renewal | B26: 17 | C26: Cisco | D26: FPR3110-NGFW-K9 | E26: Cisco Secure Firewall 3110 NGFW Appliance, 1U | F26: CON-SNT-FPR3110N | G26: SNT | H26: 46544 | I26: 47791 | J26: 2 | K26: =J26 -> 2 | L26: =J26 -> 2 | M26: =L26 -> 2
A27: SmartNet Renewal | B27: 18 | C27: Cisco | D27: FPR3140-NGFW-K9 | E27: Cisco Secure Firewall 3140 NGFW Appliance, 1U | F27: CON-SNT-FPR3140N | G27: SNT | H27: 46330 | I27: 47791 | J27: 2 | K27: 2 | L27: =J27 -> 2 | M27: =L27 -> 2
A28: SmartNet Renewal | B28: 19 | C28: Cisco | D28: ISR4321-V/K9 | E28: Cisco ISR 4321 Bundle, w/UC License | F28: CON-SNT-ISR4321V | G28: SNT | H28: 46330 | I28: 47791 | J28: 2 | K28: 2 | L28: =J28 -> 2 | M28: =L28 -> 2
A29: SmartNet Renewal | B29: 20 | C29: Cisco | D29: N9K-C93360YC-FX2 | E29: Nexus 9300 w/ 96p 1/10/25G, 12p 100G, MACsec capable | F29: CON-SNT-N9KC933F | G29: SNT | H29: 46330 | I29: 47791 | J29: 2 | K29: 2 | L29: =J29 -> 2 | M29: =L29 -> 2
A30: SmartNet Renewal | B30: 21 | C30: Cisco | D30: L-AC-PLS-LIC= | E30: Secure Client Advantage Term License, Total Unique Users | F30: L-AC-PLS-3Y-S1 | G30: Subscription ANYSL | H30: 46330 | I30: 47791 | J30: 50 | K30: 50 | L30: =J30 -> 50 | M30: =L30 -> 50
A31: SmartNet Renewal | B31: 22 | C31: Cisco | D31: L-FPR3110T-TMC= | E31: Cisco Secure Firewall 3110 TD, AMP & URL Filtering License | F31: L-FPR3110T-TMC-1Y | G31: Subscription FTDMI | H31: 46544 | I31: 47791 | J31: 2 | K31: 2 | L31: =J31 -> 2 | M31: =L31 -> 2
A32: SmartNet Renewal | B32: 23 | C32: Cisco | D32: L-FPR3140T-T= | E32: Cisco Secure Firewall 3140 Threat Defence License | F32: L-FPR3140T-T-1Y | G32: Subscription FTDMI | H32: 46901 | I32: 47791 | J32: 2 | K32: 2 | L32: =J32 -> 2 | M32: =L32 -> 2
A33: Flex Renewal | B33: 24 | C33: Cisco | D33: A-FLEX-ENH-CUBE | E33: Cisco Collaboration Flex Plan CUBE Enhanced - license - 1 trunk session | F33: A-FLEX-ENH-CUBE | G33: Flex Subscription | H33: 46330 | I33: 46695 | J33: 4 | K33: 4 | L33: 4 | M33: 4
A34: Flex Renewal | B34: 25 | C34: Cisco | D34: A-FLEX-NUPL-A | E34: Cisco Collaboration Flex Plan Calling Access - On-Premise license - 1 named | F34: A-FLEX-NUPL-A | G34: Flex Subscription | H34: 46330 | I34: 46695 | J34: 192 | K34: 192 | L34: 192 | M34: 192
A35: Flex Renewal | B35: 26 | C35: Cisco | D35: A-FLEX-NUPL-E | E35: Cisco Collaboration Flex Plan Calling Enhanced - On-Premise license - 1 named | F35: A-FLEX-NUPL-E | G35: Flex Subscription | H35: 46330 | I35: 46695 | J35: 53 | K35: 53 | L35: 53 | M35: 53
A36: Flex Renewal | B36: 27 | C36: Cisco | D36: A-FLEX-NUPL-P | E36: Cisco Collaboration Flex Plan Calling Professional - On-Premise license - 1 | F36: A-FLEX-NUPL-P | G36: Flex Subscription | H36: 46330 | I36: 46695 | J36: 93 | K36: 93 | L36: 93 | M36: 93
B38: Subtotal | O38: =SUM(O10:O36) -> 0
M39: Discount (if applicable): | O39: 0
B40: Location | C40: Ship to: | M40: Other Fees: | O40: 0
B41: BCP | C41: BC Place | M41: Delivery: | O41: 0
C42: 777 Pacific Blvd, Vancouver, BC V6B 4Y8 | M42: Subtotal: | O42: =O38+O40+O41-O39 -> 0
M43: PST: | O43: =O42*7% -> 0
...

Sheet Cisco RFQ Bill of Material
A1: Bill of Material
A3: Item Listing | B3: Manufacturer | C3: Item Description | D3: Service SKU | E3: Service Level | F3: Begin Date | G3: End Date | H3: Quantity Requested | J3: Renewal Type
H4: BCP | I4: Total
A5: ='Cisco RFQ Price Form'!B10 -> 1 | B5: ='Cisco RFQ Price Form'!C10 -> Cisco | C5: ='Cisco RFQ Price Form'!D10&" — "&'Cisco RFQ Price Form'!E10 -> AIR-DNA-E — Wireless Cisco DNA On-Prem Essential, Term Lic | D5: ='Cisco RFQ Price Form'!F10 -> AIR-DNA-E-1R | E5: ='Cisco RFQ Price Form'!G10 -> Subscription SSTC | F5: ='Cisco RFQ Price Form'!H10 -> 46900 | G5: ='Cisco RFQ Price Form'!I10 -> 47791 | H5: ='Cisco RFQ Price Form'!J10 -> 116 | I5: ='Cisco RFQ Price Form'!K10 -> 116 | J5: ='Cisco RFQ Price Form'!A10 -> SmartNet Renewal
A6: ='Cisco RFQ Price Form'!B11 -> 2 | B6: ='Cisco RFQ Price Form'!C11 -> Cisco | C6: ='Cisco RFQ Price Form'!D11&" — "&'Cisco RFQ Price Form'!E11 -> AIR-DNA-E — Wireless Cisco DNA On-Prem Essential, Term Lic | D6: ='Cisco RFQ Price Form'!F11 -> AIR-DNA-E-3R | E6: ='Cisco RFQ Price Form'!G11 -> Subscription SSTC | F6: ='Cisco RFQ Price Form'!H11 -> 46330 | G6: ='Cisco RFQ Price Form'!I11 -> 47791 | H6: ='Cisco RFQ Price Form'!J11 -> 629 | I6: ='Cisco RFQ Price Form'!K11 -> 629 | J6: ='Cisco RFQ Price Form'!A11 -> SmartNet Renewal
A7: ='Cisco RFQ Price Form'!B12 -> 3 | B7: ='Cisco RFQ Price Form'!C12 -> Cisco | C7: ='Cisco RFQ Price Form'!D12&" — "&'Cisco RFQ Price Form'!E12 -> C9300-48-E-A — 48-port NW & DNA Essentials to NW & DNA Advantage Upgrade | D7: ='Cisco RFQ Price Form'!F12 -> C9300-48-E-A-3 | E7: ='Cisco RFQ Price Form'!G12 -> Subscription SSTC | F7: ='Cisco RFQ Price Form'!H12 -> 46330 | G7: ='Cisco RFQ Price Form'!I12 -> 47791 | H7: ='Cisco RFQ Price Form'!J12 -> 10 | I7: ='Cisco RFQ Price Form'!K12 -> 10 | J7: ='Cisco RFQ Price Form'!A12 -> SmartNet Renewal
A8: ='Cisco RFQ Price Form'!B13 -> 4 | B8: ='Cisco RFQ Price Form'!C13 -> Cisco | C8: ='Cisco RFQ Price Form'!D13&" — "&'Cisco RFQ Price Form'!E13 -> C9300-DNA-A-48 — C9300 DNA Essentials, 48-Port Term License | D8: ='Cisco RFQ Price Form'!F13 -> C9300-DNA-E-48-3Y | E8: ='Cisco RFQ Price Form'!G13 -> Subscription SSTC | F8: ='Cisco RFQ Price Form'!H13 -> 46614 | G8: ='Cisco RFQ Price Form'!I13 -> 47791 | H8: ='Cisco RFQ Price Form'!J13 -> 5 | I8: ='Cisco RFQ Price Form'!K13 -> 5 | J8: ='Cisco RFQ Price Form'!A13 -> SmartNet Renewal
A9: ='Cisco RFQ Price Form'!B14 -> 5 | B9: ='Cisco RFQ Price Form'!C14 -> Cisco | C9: ='Cisco RFQ Price Form'!D14&" — "&'Cisco RFQ Price Form'!E14 -> C9300-DNA-A-48 — C9300 DNA Essentials, 48-Port Term License | D9: ='Cisco RFQ Price Form'!F14 -> C9300-DNA-E-48-3Y | E9: ='Cisco RFQ Price Form'!G14 -> Subscription SSTC | F9: ='Cisco RFQ Price Form'!H14 -> 46676 | G9: ='Cisco RFQ Price Form'!I14 -> 47791 | H9: ='Cisco RFQ Price Form'!J14 -> 37 | I9: ='Cisco RFQ Price Form'!K14 -> 37 | J9: ='Cisco RFQ Price Form'!A14 -> SmartNet Renewal
A10: ='Cisco RFQ Price Form'!B15 -> 6 | B10: ='Cisco RFQ Price Form'!C15 -> Cisco | C10: ='Cisco RFQ Price Form'!D15&" — "&'Cisco RFQ Price Form'!E15 -> C9300-DNA-A-48 — C9300 DNA Essentials, 48-Port Term License | D10: ='Cisco RFQ Price Form'!F15 -> C9300-DNA-E-48-3Y | E10: ='Cisco RFQ Price Form'!G15 -> Subscription SSTC | F10: ='Cisco RFQ Price Form'!H15 -> 46650 | G10: ='Cisco RFQ Price Form'!I15 -> 47791 | H10: ='Cisco RFQ Price Form'!J15 -> 50 | I10: ='Cisco RFQ Price Form'!K15 -> 50 | J10: ='Cisco RFQ Price Form'!A15 -> SmartNet Renewal
A11: ='Cisco RFQ Price Form'!B16 -> 7 | B11: ='Cisco RFQ Price Form'!C16 -> Cisco | C11: ='Cisco RFQ Price Form'!D16&" — "&'Cisco RFQ Price Form'!E16 -> C9300-DNA-A-48 — C9300 DNA Essentials, 48-Port Term License | D11: ='Cisco RFQ Price Form'!F16 -> C9300-DNA-E-48-3Y | E11: ='Cisco RFQ Price Form'!G16 -> Subscription SSTC | F11: ='Cisco RFQ Price Form'!H16 -> 46622 | G11: ='Cisco RFQ Price Form'!I16 -> 47791 | H11: ='Cisco RFQ Price Form'!J16 -> 50 | I11: ='Cisco RFQ Price Form'!K16 -> 50 | J11: ='Cisco RFQ Price Form'!A16 -> SmartNet Renewal
A12: ='Cisco RFQ Price Form'!B17 -> 8 | B12: ='Cisco RFQ Price Form'!C17 -> Cisco | C12: ='Cisco RFQ Price Form'!D17&" — "&'Cisco RFQ Price Form'!E17 -> C9300-DNA-A-48= — C9300 DNA Essentials, 48-Port Spare 3-Year Term License | D12: ='Cisco RFQ Price Form'!F17 -> C9300-DNA-E-48-3Y | E12: ='Cisco RFQ Price Form'!G17 -> Subscription SSTC | F12: ='Cisco RFQ Price Form'!H17 -> 46330 | G12: ='Cisco RFQ Price Form'!I17 -> 47791 | H12: ='Cisco RFQ Price Form'!J17 -> 2 | I12: ='Cisco RFQ Price Form'!K17 -> 2 | J12: ='Cisco RFQ Price Form'!A17 -> SmartNet Renewal
A13: ='Cisco RFQ Price Form'!B18 -> 9 | B13: ='Cisco RFQ Price Form'!C18 -> Cisco | C13: ='Cisco RFQ Price Form'!D18&" — "&'Cisco RFQ Price Form'!E18 -> C9500X-DNA-60L4D-A — C9500X DNA Advantage, Term License | D13: ='Cisco RFQ Price Form'!F18 -> C9500X-DNA-A-3Y | E13: ='Cisco RFQ Price Form'!G18 -> Subscription SSTC | F13: ='Cisco RFQ Price Form'!H18 -> 46614 | G13: ='Cisco RFQ Price Form'!I18 -> 47791 | H13: ='Cisco RFQ Price Form'!J18 -> 4 | I13: ='Cisco RFQ Price Form'!K18 -> 4 | J13: ='Cisco RFQ Price Form'!A18 -> SmartNet Renewal
A14: ='Cisco RFQ Price Form'!B19 -> 10 | B14: ='Cisco RFQ Price Form'!C19 -> Cisco | C14: ='Cisco RFQ Price Form'!D19&" — "&'Cisco RFQ Price Form'!E19 -> R-ISE-VMC-K9= — Cisco ISE Virtual Machine Common PID | D14: ='Cisco RFQ Price Form'!F19 -> CON-ECMU-RISE9KVM | E14: ='Cisco RFQ Price Form'!G19 -> ECMU | F14: ='Cisco RFQ Price Form'!H19 -> 46330 | G14: ='Cisco RFQ Price Form'!I19 -> 47791 | H14: ='Cisco RFQ Price Form'!J19 -> 2 | I14: ='Cisco RFQ Price Form'!K19 -> 2 | J14: ='Cisco RFQ Price Form'!A19 -> SmartNet Renewal
A15: ='Cisco RFQ Price Form'!B20 -> 11 | B15: ='Cisco RFQ Price Form'!C20 -> Cisco | C15: ='Cisco RFQ Price Form'!D20&" — "&'Cisco RFQ Price Form'!E20 -> SF-FMC-VMW-10-K9 — Cisco Firepower Management Center, (VMWare) for 10 devices | D15: ='Cisco RFQ Price Form'!F20 -> CON-ECMU-SFFMCK9V | E15: ='Cisco RFQ Price Form'!G20 -> ECMU | F15: ='Cisco RFQ Price Form'!H20 -> 46330 | G15: ='Cisco RFQ Price Form'!I20 -> 47791 | H15: ='Cisco RFQ Price Form'!J20 -> 1 | I15: ='Cisco RFQ Price Form'!K20 -> 1 | J15: ='Cisco RFQ Price Form'!A20 -> SmartNet Renewal
A16: ='Cisco RFQ Price Form'!B21 -> 12 | B16: ='Cisco RFQ Price Form'!C21 -> Cisco | C16: ='Cisco RFQ Price Form'!D21&" — "&'Cisco RFQ Price Form'!E21 -> CW9800H2 — Cisco Catalyst CW9800H2 Wireless Controller | D16: ='Cisco RFQ Price Form'!F21 -> CON-L1NBD-CW98H21A | E16: ='Cisco RFQ Price Form'!G21 -> L1NBD | F16: ='Cisco RFQ Price Form'!H21 -> 46937 | G16: ='Cisco RFQ Price Form'!I21 -> 47791 | H16: ='Cisco RFQ Price Form'!J21 -> 2 | I16: ='Cisco RFQ Price Form'!K21 -> 2 | J16: ='Cisco RFQ Price Form'!A21 -> SmartNet Renewal
... A31: ='Cisco RFQ Price Form'!B36 -> 27 | B31: ='Cisco RFQ Price Form'!C36 -> Cisco | C31: ='Cisco RFQ Price Form'!D36&" — "&'Cisco RFQ Price Form'!E36 -> A-FLEX-NUPL-P — Cisco Collaboration Flex Plan Calling Professional - On-Premise license - 1 | D31: ='Cisco RFQ Price Form'!F36 -> A-FLEX-NUPL-P | E31: ='Cisco RFQ Price Form'!G36 -> Flex Subscription | F31: ='Cisco RFQ Price Form'!H36 -> 46330 | G31: ='Cisco RFQ Price Form'!I36 -> 46695 | H31: ='Cisco RFQ Price Form'!J36 -> 93 | I31: ='Cisco RFQ Price Form'!K36 -> 93 | J31: ='Cisco RFQ Price Form'!A36 -> Flex Renewal
A32: TOTAL QUANTITY | H32: =SUM(H5:H31) -> 1331 | I32: =SUM(I5:I31) -> 1331

Sheet Cisco RFQ Product Specs
A1: Item Name | B1: Service Level | C1: Description | D1: Service SKU | E1: Serial Number | F1: Quantity | G1: Begin Date | H1: End Date | I1: Renewal Type
A2: FPR2120-NGFW-K9 | B2: SNT | C2: ^Cisco Firepower 2120 NGFW Appliance, 1U | D2: CON-SNT-FPR21GFN | E2: JMX2120L3PK | F2: 1 | G2: 46249 | H2: 47785 | I2: SmartNet Renewal
A3: FPR2120-NGFW-K9 | B3: SNT | C3: ^Cisco Firepower 2120 NGFW Appliance, 1U | D3: CON-SNT-FPR21GFN | E3: JMX2120L3PM | F3: 1 | G3: 46249 | H3: 47785 | I3: SmartNet Renewal
A4: N9K-C93360YC-FX2 | B4: SNT | C4: Nexus 9300 w/ 96p 1/10/25G, 12p 100G, MACsec capable | D4: CON-SNT-N9KC933F | E4: FDO26020G9M | F4: 1 | G4: 46249 | H4: 47785 | I4: SmartNet Renewal
A5: N9K-C93360YC-FX2 | B5: SNT | C5: Nexus 9300 w/ 96p 1/10/25G, 12p 100G, MACsec capable | D5: CON-SNT-N9KC933F | E5: FDO260419CZ | F5: 1 | G5: 46249 | H5: 47785 | I5: SmartNet Renewal
A6: ISR4321-V/K9 | B6: SNT | C6: Cisco ISR 4321 Bundle, w/UC License | D6: CON-SNT-ISR4321V | E6: FLM2311V0NX | F6: 1 | G6: 46249 | H6: 47785 | I6: SmartNet Renewal
A7: ISR4321-V/K9 | B7: SNT | C7: Cisco ISR 4321 Bundle, w/UC License | D7: CON-SNT-ISR4321V | E7: FLM2311V0NW | F7: 1 | G7: 46249 | H7: 47785 | I7: SmartNet Renewal
A8: C9500X-60L4D-A | B8: SNT | C8: Catalyst 9500 60x10/25/50G + 4x400G, Advantage | D8: CON-SNT-C954SXU5 | E8: FDO27161MBJ | F8: 1 | G8: 46249 | H8: 47785 | I8: SmartNet Renewal
A9: C9500X-60L4D-A | B9: SNT | C9: Catalyst 9500 60x10/25/50G + 4x400G, Advantage | D9: CON-SNT-C954SXU5 | E9: FDO28170NME | F9: 1 | G9: 46249 | H9: 47785 | I9: SmartNet Renewal
A10: C9500X-60L4D-A | B10: SNT | C10: Catalyst 9500 60x10/25/50G + 4x400G, Advantage | D10: CON-SNT-C954SXU5 | E10: FDO27161MJW | F10: 1 | G10: 46249 | H10: 47785 | I10: SmartNet Renewal
A11: DN3-HW-APL | B11: SNT | C11: Cisco Catalyst Center Appliance (Gen 3) - 32 Core | D11: CON-SNT-DN3HBAPL | E11: WMP2821000P | F11: 1 | G11: 46249 | H11: 47785 | I11: SmartNet Renewal
A12: C9500X-60L4D-A | B12: SNT | C12: Catalyst 9500 60x10/25/50G + 4x400G, Advantage | D12: CON-SNT-C954SXU5 | E12: FDO28130MSS | F12: 1 | G12: 46249 | H12: 47785 | I12: SmartNet Renewal
A13: FPR3140-NGFW-K9 | B13: SNT | C13: Cisco Secure Firewall 3140 NGFW Appliance, 1U | D13: CON-SNT-FPR3140N | E13: FJC29181LXX | F13: 1 | G13: 46254 | H13: 47785 | I13: SmartNet Renewal
... A28: FPR3110-NGFW-K9 | B28: SNT | C28: Cisco Secure Firewall 3110 NGFW Appliance, 1U | D28: CON-SNT-FPR3110N | E28: FJC28111MLJ | F28: 1 | G28: 46544 | H28: 47785 | I28: SmartNet Renewal
A29: SF-FMC-VMW-10-K9 | B29: ECMU | C29: Cisco Firepower Management Center, (VMWare) for 10 devices | D29: CON-ECMU-SFFMCK9V | F29: 1 | G29: 46249 | H29: 47785 | I29: SmartNet Renewal
A30: R-ISE-VMC-K9= | B30: ECMU | C30: Cisco ISE Virtual Machine Common PID | D30: CON-ECMU-RISE9KVM | F30: 2 | G30: 46299 | H30: 47785 | I30: SmartNet Renewal
A31: C9500X-DNA-60L4D-A | B31: Subscription SSTC | C31: C9500X DNA Advantage, Term License | D31: C9500X-DNA-A-3Y | F31: 1 | G31: 46614 | H31: 47785 | I31: SmartNet Renewal
A32: C9500X-DNA-60L4D-A | B32: Subscription SSTC | C32: C9500X DNA Advantage, Term License | D32: C9500X-DNA-A-3Y | F32: 1 | G32: 46614 | H32: 47785 | I32: SmartNet Renewal
A33: C9500X-DNA-60L4D-A | B33: Subscription SSTC | C33: C9500X DNA Advantage, Term License | D33: C9500X-DNA-A-3Y | F33: 1 | G33: 46614 | H33: 47785 | I33: SmartNet Renewal
A34: C9500X-DNA-60L4D-A | B34: Subscription SSTC | C34: C9500X DNA Advantage, Term License | D34: C9500X-DNA-A-3Y | F34: 1 | G34: 46614 | H34: 47785 | I34: SmartNet Renewal
A35: C9300-DNA-A-48 | B35: Subscription SSTC | C35: C9300 DNA Essentials, 48-Port Term License | D35: C9300-DNA-E-48-3Y | F35: 1 | G35: 46622 | H35: 47785 | I35: SmartNet Renewal
A36: C9300-DNA-A-48 | B36: Subscription SSTC | C36: C9300 DNA Essentials, 48-Port Term License | D36: C9300-DNA-E-48-3Y | F36: 1 | G36: 46622 | H36: 47785 | I36: SmartNet Renewal
A37: C9300-DNA-A-48 | B37: Subscription SSTC | C37: C9300 DNA Essentials, 48-Port Term License | D37: C9300-DNA-E-48-3Y | F37: 1 | G37: 46650 | H37: 47785 | I37: SmartNet Renewal
A38: C9300-DNA-A-48 | B38: Subscription SSTC | C38: C9300 DNA Essentials, 48-Port Term License | D38: C9300-DNA-E-48-3Y | F38: 1 | G38: 46650 | H38: 47785 | I38: SmartNet Renewal
A39: C9300-DNA-A-48 | B39: Subscription SSTC | C39: C9300 DNA Essentials, 48-Port Term License | D39: C9300-DNA-E-48-3Y | F39: 1 | G39: 46650 | H39: 47785 | I39: SmartNet Renewal
A40: C9300-DNA-A-48 | B40: Subscription SSTC | C40: C9300 DNA Essentials, 48-Port Term License | D40: C9300-DNA-E-48-3Y | F40: 1 | G40: 46650 | H40: 47785 | I40: SmartNet Renewal
... A304: C9300-DNA-A-48= | B304: Subscription SSTC | C304: C9300 DNA Essentials, 48-Port Spare 3-Year Term License | D304: C9300-DNA-E-48-3Y | F304: 2 | G304: 46264 | H304: 47785 | I304: SmartNet Renewal
A305: CW9800H2 | B305: L1NBD | C305: Cisco Catalyst CW9800H2 Wireless Controller | D305: CON-L1NBD-CW98H21A | E305: FLX2915028S | F305: 1 | G305: 46937 | H305: 47785 | I305: SmartNet Renewal
A306: CW9800H2 | B306: L1NBD | C306: Cisco Catalyst CW9800H2 Wireless Controller | D306: CON-L1NBD-CW98H21A | E306: FLX2915028P | F306: 1 | G306: 46937 | H306: 47785 | I306: SmartNet Renewal
A307: L-AC-PLS-LIC= | B307: Subscription ANYSL | C307: Secure Client Advantage Term License, Total Unique Users | D307: L-AC-PLS-3Y-S1 | E307: 6LT8UEFCILO | F307: 50 | G307: 46249 | H307: 47785 | I307: SmartNet Renewal
A308: L-FPR3140T-T= | B308: Subscription FTDMI | C308: Cisco Secure Firewall 3140 Threat Defence License | D308: L-FPR3140T-T-1Y | F308: 2 | G308: 46901 | H308: 47785 | I308: SmartNet Renewal
A309: L-FPR3110T-TMC= | B309: Subscription FTDMI | C309: Cisco Secure Firewall 3110 TD, AMP & URL Filtering License | D309: L-FPR3110T-TMC-1Y | F309: 2 | G309: 46544 | H309: 47785 | I309: SmartNet Renewal
A310: A-FLEX-ENH-CUBE | B310: Flex Subscription | C310: Cisco Collaboration Flex Plan CUBE Enhanced - license - 1 trunk session | D310: A-FLEX-ENH-CUBE | F310: 4 | G310: 1 YEAR | H310: 1 YEAR | I310: Flex Renewal
A311: A-FLEX-NUPL-A | B311: Flex Subscription | C311: Cisco Collaboration Flex Plan Calling Access - On-Premise license - 1 named | D311: A-FLEX-NUPL-A | F311: 192 | G311: 1 YEAR | H311: 1 YEAR | I311: Flex Renewal
A312: A-FLEX-NUPL-E | B312: Flex Subscription | C312: Cisco Collaboration Flex Plan Calling Enhanced - On-Premise license - 1 named | D312: A-FLEX-NUPL-E | F312: 53 | G312: 1 YEAR | H312: 1 YEAR | I312: Flex Renewal
A313: A-FLEX-NUPL-P | B313: Flex Subscription | C313: Cisco Collaboration Flex Plan Calling Professional - On-Premise license - 1 | D313: A-FLEX-NUPL-P | F313: 93 | G313: 1 YEAR | H313: 1 YEAR | I313: Flex Renewal
