Workbook
Name Bidder: '[1]2. Cost Summary'!$C$3

Sheet 1. Instructions
B1: Exhibit E - Cost Workbook
B2: Cost Workbook Instructions (no input required on this sheet)
B4: The cost worksheets list all costs required to design, configure, develop, implement, operate, and maintain the solution as defined in the Statement of Work (SOW).
B5: Bidders are required to complete cost worksheets 3 through 7 of this Cost Workbook.
B6: For any items indicated on the worksheets that have no cost, Bidder must indicate the cost as $0, not blank or N/A.
B7: Bidder is only permitted to input data to non-shaded cells.
B10: Description of Cost Worksheets
B11: 1. Instructions | C11: No bidder input required on this worksheet. Instructions provided for bidder to complete the cost workbook.
B12: 2. Cost Summary | C12: No bidder input required on this worksheet. Sheet calculates from data input on sheets 3 through 7.
B13: 3. Project Phase Calculator | C13: Bidder enters project development phase information including bidder name, phase titles, phase start dates, and phase end dates. The tool auto-calculates the phase durations to ensure project completion within the 24-month timeframe identified in Exhibit A: Statement of Work. Phases should align with those identified throughout the proposal. Bidder is not required to use all phases listed in the calculator.
B14: 4. Base Contract Deliverables | C14: Bidder enters costs associated with all project deliverables. The cost of each deliverable can be split between phases to represent the development phase(s) during which the deliverable will be submitted.
B15: 5. Licensing Tools & Hosting Costs | C15: Bidder enters all licensing costs including all SaaS licensing and related software and tools pertaining to development, implementation, data migration, ongoing access, support and hosting (if applicable) of the solution. Indicate in the "Product Information | Description" Column whether the cost is one-time or ongoing. Bidder also enters license costs for two optional one-year Maintenance and Operations (M&O) periods, which will not be scored. Costs for optional years may be different and will not be scored. NOTE: Hosting costs are "Mandatory Optional" and must reported in section B of this tab but will not be evaluated.
B16: 6. Maintenance & Operations | C16: Bidder enters recurring Maintenance and Operations (M&O) services costs as defined in SOW Section 14.
B17: 7. Staff Rate Sheet (UT) | C17: Bidder enters hourly rate information for Key Staff. Rates will be used in the calculation of Unanticipated Task (UT) costs.
B18: Refer to RFP Section 4.3.1 Cost Workbook Instructions for further detail.

Sheet 2. Cost Summary
A1: 2. Cost Summary
B3: Bidder Name: | C3: Company_ABC
B4: Data entry not permitted below this line. Sheet calculates automatically. | G4: Item Total
A5: PROJECT COSTS - YEARS 1-3
A6: 1 | B6: Base Contract Deliverables (Tab 4) | G6: ='4. Base Contract Deliverables'!I59 -> 0
A7: 2 | B7: Licensing, Tools Cost | G7: =SUM(G8:G9) -> 0
A8: 2.1 | B8: Licensing, Tools Cost - Years 1-2 - BASE CONTRACT (Tab 5) | G8: ='5.Licensing Tools Hosting Costs'!J28 -> 0
A9: 2.2 | B9: Licensing, Tools Cost - Year 3 M&O - BASE CONTRACT (Tab 5) | G9: ='5.Licensing Tools Hosting Costs'!K28 -> 0
A10: 3 | B10: Maintenance and Operations Activities | G10: =SUM(G11:G11) -> 0
A11: 3.1 | B11: Maintenance and Operations - Year 3 M&O - BASE CONTRACT (Tab 6) | G11: ='6. Maintenance & Operations'!H5 -> 0
B13: Total Project Cost: | G13: =G6+G7+G10 -> 0
B14: Unanticipated Tasks (10%of Project Cost): | G14: =G13*0.1 -> 0
B15: PROJECT COST + UNANTICIPATED TASKS: | G15: =SUM(G13:G14) -> 0
A17: PROJECT HOSTING COSTS - YEARS 1-3 - MANDATORY OPTIONAL (NOT EVALUATED)
A18: 4 | B18: Hosting Cost | G18: =SUM(G19:G20) -> 0
A19: 4.1 | B19: Hosting Cost - Years 1-2 - BASE CONTRACT (Tab 5) | G19: ='5.Licensing Tools Hosting Costs'!J49 -> 0
A20: 4.2 | B20: Hosting Cost - Year 3 M&O - BASE CONTRACT (Tab 5) | G20: ='5.Licensing Tools Hosting Costs'!K49 -> 0
B22: TOTAL OPTIONAL HOSTING COST: | G22: =G18 -> 0
A24: OPTIONAL MAINTENANCE AND OPERATIONS COSTS - YEAR 4 (NOT EVALUATED)
A25: 5 | B25: Licensing, Tools Cost - Year 4 M&O - OPTIONAL YEAR (Tab 5) | G25: ='5.Licensing Tools Hosting Costs'!L28 -> 0
A26: 6 | B26: Hosting Cost - Year 4 M&O - OPTIONAL YEAR (Tab 5) | G26: ='5.Licensing Tools Hosting Costs'!L49 -> 0
A27: 7 | B27: Maintenance and Operations - Year 4 M&O - OPTIONAL YEAR (Tab 6) | G27: ='6. Maintenance & Operations'!H7 -> 0
B29: TOTAL OPTIONAL YEAR 4 COST: | G29: =SUM(G25:G27) -> 0
A31: OPTIONAL MAINTENANCE AND OPERATIONS COSTS - YEAR 5 (NOT EVALUATED)
A32: 8 | B32: Licensing, Tools Cost - Year 5 M&O - OPTIONAL YEAR (Tab 5) | G32: ='5.Licensing Tools Hosting Costs'!M28 -> 0
A33: 9 | B33: Hosting Cost - Year 5 M&O - OPTIONAL YEAR (Tab 5) | G33: ='5.Licensing Tools Hosting Costs'!M49 -> 0
A34: 10 | B34: Maintenance and Operations - Year 5 M&O - OPTIONAL YEAR (Tab 6) | G34: ='6. Maintenance & Operations'!H9 -> 0
B36: TOTAL OPTIONAL YEAR 5 COST: | G36: =SUM(G32:G34) -> 0
A38: BIDDER'S PROPOSED TOTAL COST (INCLUDING HOSTING) | G38: =G15+G22+G29+G36 -> 0
A39: BIDDER'S PROPOSED TOTAL COST (EXCLUDING HOSTING) | G39: =G15+G29+G36-G26-G33 -> 0

Sheet 3. Project Phase Calculator
B2: Bidder Name | C2: Project Phase Calculator
B3: Company_ABC | C3: Any iterative development phase(s) completed by the vendor shall include Design, Development, Testing and approval from the State; however, functionality will not move to production until final acceptance of the complete solution has been achieved following the three (3) month Product Stabilization and Final System Acceptance period. See SOW Section 10.4.7 for additional information.
B5: Proposed Project Phases | D5: Estimated Dates used to calculate Durations
B6: Phase | C6: Title | D6: Phase Start Date First Day of Planned Month (e.g. 1/1/2024) | E6: Phase End Date Last Day of Planned Month (e.g. 1/31/2024) | F6: Phase Duration (D to E, Months)
B7: Phase 1 | F7: =IF(OR(D7="",E7=""),0,ROUND(DAYS360(D7,E7,FALSE)/30,0)) -> 0
B8: Phase 2 | F8: =IF(OR(D8="",E8=""),0,ROUND(DAYS360(D8,E8,FALSE)/30,0)) -> 0
B9: Phase 3 | F9: =IF(OR(D9="",E9=""),0,ROUND(DAYS360(D9,E9,FALSE)/30,0)) -> 0
B10: Phase 4 | F10: =IF(OR(D10="",E10=""),0,ROUND(DAYS360(D10,E10,FALSE)/30,0)) -> 0
C12: Compliance Check
C13: WaterTAP Implementation Equals 24 months | D13: =IF(E13<=0,"",IF(E13<>24,"CHECK DURATION","OK")) | E13: =ROUND(DAYS360(D7,MAX(E7:E10),FALSE)/30,0) -> 0 | F13: months

Sheet 4. Base Contract Deliverables
B2: 3. Base Contract Deliverables
B3: Bidder Name: | C3: Company_ABC
C4: M&O and end-user availability will begin after production implementation of the complete solution; however, the State will consider a phased approach towards system development and deliverable submission. Provide phased deliverable costs in columns E-H, below. While four (4) columns are available, only use columns as needed to represent the development phase(s) during which the deliverable will be submitted. Base Contract Costs do not include optional years or M&O services (report on Tab 5 - Maintenance & Operations).
A5: Item # | B5: Deliverable Cost | C5: Task Group | D5: Payment Type & Frequency | E5: Phase 1 | F5: Phase 2 | G5: Phase 3 | H5: Phase 4 | I5: Total Contract Cost | J5: State Withhold | K5: Total Contractor Payment
E6: Deliverable Cost | F6: Deliverable Cost | G6: Deliverable Cost | H6: Deliverable Cost | J6: 0.15
A7: 1 | B7: Project Management | C7: Deliverable Group #1 | E7: =SUM(E8:E11) -> 0 | F7: =SUM(F8:F11) -> 0 | G7: =SUM(G8:G11) -> 0 | H7: =SUM(H8:H11) -> 0 | I7: =SUM(E7:H7) -> 0 | J7: =$J$6*I7 -> 0 | K7: =SUM(I7-J7) -> 0
A8: 1.1 | B8: Project Management Plan | D8: Deliverable | I8: =SUM(E8:H8) -> 0 | J8: =$J$6*I8 -> 0 | K8: =SUM(I8-J8) -> 0
A9: 1.2 | B9: Project Schedule | D9: Deliverable | I9: =SUM(E9:H9) -> 0 | J9: =$J$6*I9 -> 0 | K9: =SUM(I9-J9) -> 0
A10: 1.3 | B10: Weekly / Monthly Status Report | D10: Monthly Service Fee | I10: =SUM(E10:H10) -> 0 | J10: =$J$6*I10 -> 0 | K10: =SUM(I10-J10) -> 0
A11: 1.4 | B11: Sprint/Release Report | D11: Deliverable | I11: =SUM(E11:H11) -> 0 | J11: =$J$6*I11 -> 0 | K11: =SUM(I11-J11) -> 0
A12: 2 | B12: Design, Development, and Implementation | C12: Deliverable Group #2 | E12: =SUM(E13:E17) -> 0 | F12: =SUM(F13:F17) -> 0 | G12: =SUM(G13:G17) -> 0 | H12: =SUM(H13:H17) -> 0 | I12: =SUM(E12:H12) -> 0 | J12: =$J$6*I12 -> 0 | K12: =SUM(I12-J12) -> 0
A13: 2.1 | B13: Solution Architecture | D13: Deliverable | I13: =SUM(E13:H13) -> 0 | J13: =$J$6*I13 -> 0 | K13: =SUM(I13-J13) -> 0
A14: 2.2 | B14: Fit Gap Analysis | D14: Deliverable | I14: =SUM(E14:H14) -> 0 | J14: =$J$6*I14 -> 0 | K14: =SUM(I14-J14) -> 0
A15: 2.3 | B15: Functional and Technical Design Document | D15: Deliverable | I15: =SUM(E15:H15) -> 0 | J15: =$J$6*I15 -> 0 | K15: =SUM(I15-J15) -> 0
A16: 2.4 | B16: Implementation Plan | D16: Deliverable | I16: =SUM(E16:H16) -> 0 | J16: =$J$6*I16 -> 0 | K16: =SUM(I16-J16) -> 0
A17: 2.5 | B17: Solution Implementation | D17: Milestone | I17: =SUM(E17:H17) -> 0 | J17: =$J$6*I17 -> 0 | K17: =SUM(I17-J17) -> 0
A18: 3 | B18: System Interfaces | C18: Deliverable Group #3 | E18: =SUM(E19:E20) -> 0 | F18: =SUM(F19:F20) -> 0 | G18: =SUM(G19:G20) -> 0 | H18: =SUM(H19:H20) -> 0 | I18: =SUM(E18:H18) -> 0 | J18: =$J$6*I18 -> 0 | K18: =SUM(I18-J18) -> 0
A19: 3.1 | B19: Interface Management Plan | D19: Deliverable | I19: =SUM(E19:H19) -> 0 | J19: =$J$6*I19 -> 0 | K19: =SUM(I19-J19) -> 0
A20: 3.2 | B20: Interface Development | D20: Milestone | I20: =SUM(E20:H20) -> 0 | J20: =$J$6*I20 -> 0 | K20: =SUM(I20-J20) -> 0
A21: 4 | B21: Data Management and Conversion | C21: Deliverable Group #4 | E21: =SUM(E22:E23) -> 0 | F21: =SUM(F22:F23) -> 0 | G21: =SUM(G22:G23) -> 0 | H21: =SUM(H22:H23) -> 0 | I21: =SUM(E21:H21) -> 0 | J21: =$J$6*I21 -> 0 | K21: =SUM(I21-J21) -> 0
A22: 4.1 | B22: Final Data Management and Conversion Plan | D22: Deliverable | I22: =SUM(E22:H22) -> 0 | J22: =$J$6*I22 -> 0 | K22: =SUM(I22-J22) -> 0
A23: 4.2 | B23: Data Conversion Activities | D23: Milestone | I23: =SUM(E23:H23) -> 0 | J23: =$J$6*I23 -> 0 | K23: =SUM(I23-J23) -> 0
A24: 5 | B24: Testing | C24: Deliverable Group #5 | E24: =SUM(E25:E28) -> 0 | F24: =SUM(F25:F28) -> 0 | G24: =SUM(G25:G28) -> 0 | H24: =SUM(H25:H28) -> 0 | I24: =SUM(E24:H24) -> 0 | J24: =$J$6*I24 -> 0 | K24: =SUM(I24-J24) -> 0
A25: 5.1 | B25: End-to-End Testing Results | D25: Deliverable | I25: =SUM(E25:H25) -> 0 | J25: =$J$6*I25 -> 0 | K25: =SUM(I25-J25) -> 0
A26: 5.2 | B26: Master Test Plan | D26: Deliverable | I26: =SUM(E26:H26) -> 0 | J26: =$J$6*I26 -> 0 | K26: =SUM(I26-J26) -> 0
A27: 5.3 | B27: UAT Testing Results Report | D27: Deliverable | I27: =SUM(E27:H27) -> 0 | J27: =$J$6*I27 -> 0 | K27: =SUM(I27-J27) -> 0
A28: 5.4 | B28: Testing (UAT, Performance, Load, Security) | D28: Milestone | I28: =SUM(E28:H28) -> 0 | J28: =$J$6*I28 -> 0 | K28: =SUM(I28-J28) -> 0
A29: 6 | B29: Organizational Change Management and Training | C29: Deliverable Group #6 | E29: =SUM(E30:E36) -> 0 | F29: =SUM(F30:F36) -> 0 | G29: =SUM(G30:G36) -> 0 | H29: =SUM(H30:H36) -> 0 | I29: =SUM(E29:H29) -> 0 | J29: =$J$6*I29 -> 0 | K29: =SUM(I29-J29) -> 0
A30: 6.1 | B30: End User Training Plan | D30: Deliverable | I30: =SUM(E30:H30) -> 0 | J30: =$J$6*I30 -> 0 | K30: =SUM(I30-J30) -> 0
A31: 6.2 | B31: Organizational Change Management Deployment Plan | D31: Deliverable | I31: =SUM(E31:H31) -> 0 | J31: =$J$6*I31 -> 0 | K31: =SUM(I31-J31) -> 0
A32: 6.3 | B32: Organizational Change Management Schedule | D32: Deliverable | I32: =SUM(E32:H32) -> 0 | J32: =$J$6*I32 -> 0 | K32: =SUM(I32-J32) -> 0
A33: 6.4 | B33: Organizational Change Management Quarterly Status Report | D33: Deliverable | I33: =SUM(E33:H33) -> 0 | J33: =$J$6*I33 -> 0 | K33: =SUM(I33-J33) -> 0
A34: 6.5 | B34: Organizational Change Management Performance Measurement Plan | D34: Deliverable | I34: =SUM(E34:H34) -> 0 | J34: =$J$6*I34 -> 0 | K34: =SUM(I34-J34) -> 0
A35: 6.6 | B35: Training | D35: Milestone | I35: =SUM(E35:H35) -> 0 | J35: =$J$6*I35 -> 0 | K35: =SUM(I35-J35) -> 0
A36: 6.7 | B36: Training Completion Report | D36: Deliverable | I36: =SUM(E36:H36) -> 0 | J36: =$J$6*I36 -> 0 | K36: =SUM(I36-J36) -> 0
A37: 7 | B37: Configuration and Release Management | C37: Deliverable Group #7 | E37: =SUM(E38:E42) -> 0 | F37: =SUM(F38:F42) -> 0 | G37: =SUM(G38:G42) -> 0 | H37: =SUM(H38:H42) -> 0 | I37: =SUM(E37:H37) -> 0 | J37: =$J$6*I37 -> 0 | K37: =SUM(I37-J37) -> 0
A38: 7.1 | B38: Configuration Management Plan | D38: Deliverable | I38: =SUM(E38:H38) -> 0 | J38: =$J$6*I38 -> 0 | K38: =SUM(I38-J38) -> 0
A39: 7.2 | B39: Pilot Deployment Report and Signoff | D39: Deliverable | I39: =SUM(E39:H39) -> 0 | J39: =$J$6*I39 -> 0 | K39: =SUM(I39-J39) -> 0
A40: 7.3 | B40: Release Management Plan | D40: Deliverable | I40: =SUM(E40:H40) -> 0 | J40: =$J$6*I40 -> 0 | K40: =SUM(I40-J40) -> 0
A41: 7.4 | B41: Formal System Acceptance and Final Go-Live report | D41: Deliverable | I41: =SUM(E41:H41) -> 0 | J41: =$J$6*I41 -> 0 | K41: =SUM(I41-J41) -> 0
...

Sheet 5.Licensing Tools Hosting Costs
B1: 5. LICENSING, TOOLS, HOSTING COSTS
B2: Bidder Name: | C2: Company_ABC
B3: A. SOFTWARE TOOLS COSTS (including Third Party or Other) | G3: Base Contract (Years 1 - 3) | L3: Optional Years (NOT EVALUATED)
A4: Item # | B4: Product Name | C4: Product Information | Description | D4: SKU | E4: SLP# | F4: Purpose | G4: Qty. | H4: Unit Cost | I4: Software Tools Cost (Monthly) | J4: Extended Cost Years 1-2 Project | K4: Software Tools Cost Year 3 M&O | L4: Software Tools Cost Year 4 M&O (OPTIONAL YEAR) | M4: Software Tools Cost Year 5 M&O (OPTIONAL YEAR)
G5: 0 | H5: 0 | I5: 0 | J5: =(G5*H5)+(I5*24) -> 0
G6: 0 | H6: 0 | I6: 0 | J6: =(G6*H6)+(I6*24) -> 0
G7: 0 | H7: 0 | I7: 0 | J7: =(G7*H7)+(I7*24) -> 0
G8: 0 | H8: 0 | I8: 0 | J8: =(G8*H8)+(I8*24) -> 0
G9: 0 | H9: 0 | I9: 0 | J9: =(G9*H9)+(I9*24) -> 0
G10: 0 | H10: 0 | I10: 0 | J10: =(G10*H10)+(I10*24) -> 0
G11: 0 | H11: 0 | I11: 0 | J11: =(G11*H11)+(I11*24) -> 0
G12: 0 | H12: 0 | I12: 0 | J12: =(G12*H12)+(I12*24) -> 0
G13: 0 | H13: 0 | I13: 0 | J13: =(G13*H13)+(I13*24) -> 0
G14: 0 | H14: 0 | I14: 0 | J14: =(G14*H14)+(I14*24) -> 0
G15: 0 | H15: 0 | I15: 0 | J15: =(G15*H15)+(I15*24) -> 0
G16: 0 | H16: 0 | I16: 0 | J16: =(G16*H16)+(I16*24) -> 0
... G27: 0 | H27: 0 | I27: 0 | J27: =(G27*H27)+(I27*24) -> 0
B28: TOTAL: | J28: =SUM(J5:J27) -> 0 | K28: =SUM(K5:K27) -> 0 | L28: =SUM(L5:L27) -> 0 | M28: =SUM(M5:M27) -> 0
B31: B. HOSTING INCLUDING CLOUD, DATA, INFRASTRUCTURE, SERVICES COSTS (Mandatory Optional - NOT EVALUATED) | G31: Base Contract (Years 1 - 3) | L31: Optional Years (NOT EVALUATED)
B32: Product Name | C32: Product Information | Description (Number, Version, Open Source or Proprietary) | D32: SKU | E32: SLP# | F32: Purpose | G32: Qty. | H32: Unit Cost | I32: Hosting Cost (Monthly) | J32: Extended Cost Years 1-2 Project | K32: Hosting Cost Year 3 M&O | L32: Hosting Cost Year 4 M&O (OPTIONAL YEAR) | M32: Hosting Cost Year 5 M&O (OPTIONAL YEAR)
G33: 0 | H33: 0 | I33: 0 | J33: =(G33*H33)+(I33*24) -> 0
G34: 0 | H34: 0 | I34: 0 | J34: =(G34*H34)+(I34*24) -> 0
G35: 0 | H35: 0 | I35: 0 | J35: =(G35*H35)+(I35*24) -> 0
G36: 0 | H36: 0 | I36: 0 | J36: =(G36*H36)+(I36*24) -> 0
G37: 0 | H37: 0 | I37: 0 | J37: =(G37*H37)+(I37*24) -> 0
G38: 0 | H38: 0 | I38: 0 | J38: =(G38*H38)+(I38*24) -> 0
G39: 0 | H39: 0 | I39: 0 | J39: =(G39*H39)+(I39*24) -> 0
G40: 0 | H40: 0 | I40: 0 | J40: =(G40*H40)+(I40*24) -> 0
G41: 0 | H41: 0 | I41: 0 | J41: =(G41*H41)+(I41*24) -> 0
G42: 0 | H42: 0 | I42: 0 | J42: =(G42*H42)+(I42*24) -> 0
G43: 0 | H43: 0 | I43: 0 | J43: =(G43*H43)+(I43*24) -> 0
G44: 0 | H44: 0 | I44: 0 | J44: =(G44*H44)+(I44*24) -> 0
... G48: 0 | H48: 0 | I48: 0 | J48: =(G48*H48)+(I48*24) -> 0
B49: TOTAL: | J49: =SUM(J33:J48) -> 0 | K49: =SUM(K33:K48) -> 0 | L49: =SUM(L33:L48) -> 0 | M49: =SUM(M33:M48) -> 0
G53: TOTAL Licensing, Tools, & Hosting Cost (Base Contract & Optional Years): | J53: =SUM(J49,J28) -> 0 | K53: =SUM(K49,K28) -> 0 | L53: =SUM(L49,L28) -> 0 | M53: =SUM(M49,M28) -> 0
A55: The Contractor shall provide costs for all software licenses required and assist the State in securing such licenses from software contractors and/or resellers, and any third-party tools necessary to meet the functional and non-functional requirement to support the WaterTAP system.

Sheet 6. Maintenance & Operations
A1: 6. Maintenance & Operations
B2: Bidder Name: | C2: Company_ABC
A3: Item # | B3: Cost Category | C3: Payment Type | D3: Unit of Measure | E3: Est. Unit Total (Hypothetical - For Evaluation Purposes) | F3: Bidder Proposed Monthly Service Fee Per Unit | G3: Monthly Service Cost Total | H3: Annual Service Cost Total | I3: BIDDER COMMENTS (Enter comment if proposed cost in column H equals $0.)
B4: Year 3 Maintenance & Operations - BASE CONTRACT
A5: 1 | B5: Maintenance Activities | C5: Monthly Service Fee | D5: Service | E5: 1 | F5: 0 | G5: =SUM(E5*F5) -> 0 | H5: =SUM(G5*12) -> 0
B6: Year 4 Maintenance & Operations - OPTIONAL YEAR
A7: 1 | B7: Maintenance Activities | C7: Monthly Service Fee | D7: Service | E7: 1 | F7: 0 | G7: =SUM(E7*F7) -> 0 | H7: =SUM(G7*12) -> 0
B8: Year 5 Maintenance & Operations - OPTIONAL YEAR
A9: 1 | B9: Maintenance Activities | C9: Monthly Service Fee | D9: Service | E9: 1 | F9: 0 | G9: =SUM(E9*F9) -> 0 | H9: =SUM(G9*12) -> 0
B11: TOTAL | H11: =SUM(H5,H7,H9) -> 0
A13: NOTES:

Sheet 7. Staff Rate Sheet (UT)
B1: 9. Staff Rate Sheet (Informational Only) *Hourly rate information will be used in the calculation of Unanticipated Task (UT) costs
B2: Bidder Name: | C2: Company_ABC
A3: Item # | B3: Job Classication Title | D3: Hourly Rate
A4: 1 | B4: Engagement Director
A5: 2 | B5: Project Manager
A6: 3 | B6: Sr. Data Architect
A7: 4 | B7: Sr. Software Solutions Architect
A8: 5 | B8: Sr. Business Analyst
A9: 6 | B9: Training Lead
A10: 7 | B10: Sr. Test and Validation Lead
A11: 8 | B11: Technical Lead
A12: 9 | B12: Organizational Change Management Lead
A13: 10 | B13: GIS Solution Expert
A16: 1920 | B16: Full-time staff calculation for the year
