Workbook
Name _Toc309317271: 'Deliverables (5)'!#REF!
Name _Toc309317271: 'Installation (6)'!#REF!
Name _Toc309317271: 'Main - Grand Totals (1)'!#REF!
Name _Toc309317271: 'Professional Services (4)'!#REF!
Name _Toc309317271: 'Software-Functionality (3)'!#REF!
Name _Toc309317271: 'Support-Maint-Hardware (2)'!#REF!
Name _Toc309317273: 'Deliverables (5)'!#REF!
Name _Toc309317273: 'Installation (6)'!#REF!
Name _Toc309317273: 'Main - Grand Totals (1)'!#REF!
Name _Toc309317273: 'Professional Services (4)'!#REF!
Name _Toc309317273: 'Software-Functionality (3)'!#REF!
Name _Toc309317273: 'Support-Maint-Hardware (2)'!#REF!
Name _Toc309317276: 'Deliverables (5)'!#REF!
Name _Toc309317276: 'Installation (6)'!#REF!
Name _Toc309317276: 'Main - Grand Totals (1)'!#REF!
Name _Toc309317276: 'Professional Services (4)'!#REF!
Name _Toc309317276: 'Software-Functionality (3)'!#REF!
Name _Toc309317276: 'Support-Maint-Hardware (2)'!$B$62
Name _Toc309317277: 'Deliverables (5)'!#REF!
Name _Toc309317277: 'Installation (6)'!#REF!
Name _Toc309317277: 'Main - Grand Totals (1)'!#REF!
Name _Toc309317277: 'Professional Services (4)'!#REF!
Name _Toc309317277: 'Software-Functionality (3)'!#REF!
Name _Toc309317277: 'Support-Maint-Hardware (2)'!#REF!

Sheet Main - Grand Totals (1)
C2: COOK COUNTY GOVERNMENT
C3: Office of the Chief Procurement Officer
C4: RFP No. 2617-05123
C5: PRICING PROPOSAL
A7: Instructions
A8: Proposers are required to provide input in blue cells only.
A9: All costs associated with the implementation of the proposed solution must be itemized and submitted in Excel format. PDF files will not be accepted.
A10: If cost is not applicable, Proposer must enter zero ($0).
A11: Cook County will assume zero ($0) cost on blank cells.
A12: When the pricing proposal is complete, Proposer must validate the final Total Cost columns.
A13: Insert "not applicable" in the Comments column if a given line item does not apply.
A14: It is the responsibility of Proposers to contact the Procurement Office in a timely manner if formula/cell errors are found.
B17: Company Name
A19: ID | B19: Cost Description | C19: Total Cost | D19: Comments
A20: 1.001 | B20: Project Cost - Year One
A21: 1.002 | B21: Project Cost -Year Two
A22: 1.003 | B22: Project Cost -Year Three
A23: 1.004 | B23: Project Cost -Year Four
A24: 1.005 | B24: Project Cost -Year Five
A25: 1.006 | B25: Total Five Years Project Cost | C25: =SUM(C20:C24) -> 0
A27: 1.007 | B27: Support, Maintenance, and Hardware Costs
A28: 1.008 | B28: Software/Functionality Costs
A29: 1.009 | B29: Professional Services Costs
A30: 1.01 | B30: Installation Costs
A31: 1.011 | B31: Total Five Year Project Cost | C31: =SUM(C27:C30) -> 0
B33: Optional Renewal | C33: Total Cost | D33: Comments
A34: 1.012 | B34: Optional Renewal Cost - Year One
A35: 1.013 | B35: Optional Renewal Cost - Year Two
A36: 1.014 | B36: Total Optional Renewal Two Year Cost | C36: =SUM(C34:C35) -> 0
B38: Proposers must return this pricing proposal in excel format.
B40: If 1.006 and 1.011 Total Costs are not identical, there may be an issue with your calculations. Please validate your totals.

Sheet Support-Maint-Hardware (2)
C2: COOK COUNTY GOVERNMENT
C3: Office of the Chief Procurement Officer
C4: ='Main - Grand Totals (1)'!C4 -> RFP No. 2617-05123
A7: Instructions
A8: Proposers are required to provide input in blue cells only.
A9: All costs associated with the implementation of the proposed solution must be itemized and submitted in Excel format. PDF files will not be accepted.
A10: If cost is not applicable, Proposer must enter zero ($0).
A11: Cook County will assume zero ($0) cost on blank cells.
A12: When the pricing proposal is complete, Proposer must validate the final Total Cost columns.
A13: Insert "not applicable" in the notes column if a given line item does not apply.
A14: It is the responsibility of Proposers to contact the Procurement Office in a timely manner if formula/cell errors are found.
A15: Use the notes column to provide additional details
B17: Company Name | C17: ='Main - Grand Totals (1)'!C17 -> 0
B18: Support, Maintenance, and other one-time fees
A19: ID | B19: Item | C19: Description | D19: Unit of Measure | E19: Cost per Unit | F19: Quantity | G19: Total Five Year Costs | H19: Year One Costs | I19: Year Two Costs | J19: Year Three Costs | K19: Year Four Costs | L19: Year Five Costs | M19: Comments | O19: Optional Year One Costs | P19: Optional Year Two Costs | Q19: Total Optional Two Year Costs | R19: Comments
A20: 2.001 | B20: SENSORS | C20: 2.1.2.8.1 | F20: 750 | G20: =E20*F20 -> 0 | Q20: =SUM(O20:P20) -> 0
A21: 2.002 | B21: BANDS | C21: 2.1.2.8.2 | F21: 750 | G21: =E21*F21 -> 0 | Q21: =SUM(O21:P21) -> 0
A22: 2.003 | B22: CHARGING/DOCKING STATION | C22: 2.1.2.8.3 | G22: =E22*F22 -> 0 | Q22: =SUM(O22:P22) -> 0
A23: 2.004 | B23: ACCESS POINTS/WIRELESS CONNECTIVITY/READERS | C23: 2.1.2.8.4 | G23: =E23*F23 -> 0 | Q23: =SUM(O23:P23) -> 0
A24: 2.005 | B24: HARDWARE SUPPORT AND MAINTENANCE | C24: 2.1.2.8.7 | G24: =E24*F24 -> 0 | Q24: =SUM(O24:P24) -> 0
A25: 2.006 | B25: PORTABLE DEVICES | C25: 2.1.2.8.7 | G25: =E25*F25 -> 0 | Q25: =SUM(O25:P25) -> 0
A26: 2.007 | B26: ADDITIONAL PORTABLE SYSTEM EQUIPMENT | C26: 2.1.2.8.7 | G26: =E26*F26 -> 0 | Q26: =SUM(O26:P26) -> 0
A27: 2.008 | B27: DESKTOP SYSTEMS | C27: 2.1.2.8.7 | G27: =E27*F27 -> 0 | Q27: =SUM(O27:P27) -> 0
A28: 2.009 | B28: DESKTOP SYSTEM MONITORS | C28: 2.1.2.8.7 | G28: =E28*F28 -> 0 | Q28: =SUM(O28:P28) -> 0
A29: 2.01 | B29: ADDITIONAL DESKTOP SYSTEM EQUIPMENT | C29: 2.1.2.8.7 | G29: =E29*F29 -> 0 | Q29: =SUM(O29:P29) -> 0
A30: 2.011 | B30: ADDITIONAL HARDWARE REQUIRED FOR SOLUTION | C30: 2.1.2.8.7 | G30: =E30*F30 -> 0 | Q30: =SUM(O30:P30) -> 0
A31: 2.012 | G31: =E31*F31 -> 0 | Q31: =SUM(O31:P31) -> 0
A32: 2.013 | G32: =E32*F32 -> 0 | Q32: =SUM(O32:P32) -> 0
A33: 2.014 | G33: =E33*F33 -> 0 | Q33: =SUM(O33:P33) -> 0
A34: 2.015 | G34: =E34*F34 -> 0 | Q34: =SUM(O34:P34) -> 0
A35: 2.016 | G35: =E35*F35 -> 0 | Q35: =SUM(O35:P35) -> 0
A36: 2.017 | G36: =E36*F36 -> 0 | Q36: =SUM(O36:P36) -> 0
A37: 2.018 | G37: =E37*F37 -> 0 | Q37: =SUM(O37:P37) -> 0
A38: 2.019 | G38: =E38*F38 -> 0 | Q38: =SUM(O38:P38) -> 0
A39: 2.02 | G39: =E39*F39 -> 0 | Q39: =SUM(O39:P39) -> 0
A40: 2.021 | G40: =E40*F40 -> 0 | Q40: =SUM(O40:P40) -> 0
A41: 2.022 | G41: =E41*F41 -> 0 | Q41: =SUM(O41:P41) -> 0
A42: 2.023 | G42: =E42*F42 -> 0 | Q42: =SUM(O42:P42) -> 0
... A62: 2.043 | G62: =E62*F62 -> 0 | Q62: =SUM(O62:P62) -> 0
F63: Support and Maintenance Total | G63: =SUM(G20:G62) -> 0 | H63: =SUM(H20:H62) -> 0 | I63: =SUM(I20:I62) -> 0 | J63: =SUM(J20:J62) -> 0 | K63: =SUM(K20:K62) -> 0 | L63: =SUM(L20:L62) -> 0 | O63: =SUM(O20:O62) -> 0 | P63: =SUM(P20:P62) -> 0 | Q63: =SUM(O63:P63) -> 0
...

Sheet Software-Functionality (3)
C2: COOK COUNTY GOVERNMENT
C3: Office of the Chief Procurement Officer
C4: ='Main - Grand Totals (1)'!C4 -> RFP No. 2617-05123
A7: Instructions
A8: Proposers are required to provide input in blue cells only.
A9: All costs associated with the implementation of the proposed solution must be itemized and submitted in Excel format. PDF files will not be accepted.
A10: If cost is not applicable, Proposer must enter zero ($0).
A11: Cook County will assume zero ($0) cost on blank cells.
A12: When the pricing proposal is complete, Proposer must validate the final Total Cost columns.
A13: Insert "not applicable" in the Comments column if a given line item does not apply.
A14: It is the responsibility of Proposers to contact the Procurement Office in a timely manner if formula/cell errors are found.
A15: Use the Comments column to provide additional details
B17: Company Name | C17: ='Main - Grand Totals (1)'!C17 -> 0
B18: Software Costs
A19: ID | B19: Software Functionality (what does it do? Include any integration/migration tools. Proposer may add more rows or add a sheet if necessary, but the totals in those additional tabs must populate to the Main - Grand Totals Tab) | C19: Module Name | D19: Unit of Measure | E19: Cost per Unit | F19: Quantity | G19: Total Five Year Costs | H19: Year One Costs | I19: Year Two Costs | J19: Year Three Costs | K19: Year Four Costs | L19: Year Five Costs | M19: Comments | O19: Optional Year One Costs | P19: Optional Year Two Costs | Q19: Total Optional Two Year Costs | R19: Comments
A20: 3.001 | B20: MAIN SYSTEM LICENSING | C20: 2.1.1.8.5 | G20: =E20*F20 -> 0 | Q20: =SUM(O20:P20) -> 0
A21: 3.002 | B21: PORTABLE SYSTEM LICENSING | C21: 2.1.1.8.5 | G21: =E21*F21 -> 0 | Q21: =SUM(O21:P21) -> 0
A22: 3.003 | B22: STATIONARY SYSTEM LICENSING | C22: 2.1.1.8.5 | G22: =E22*F22 -> 0 | Q22: =SUM(O22:P22) -> 0
A23: 3.004 | B23: APP LICENSING | C23: 2.1.1.8.5 | G23: =E23*F23 -> 0 | Q23: =SUM(O23:P23) -> 0
A24: 3.005 | B24: ADDITIONAL SOFTWARE REQUIRED TO RUN OR MAINTAIN SOLUTION [PLEASE ITEMIZE] | C24: 2.1.1.8.5 | G24: =E24*F24 -> 0 | Q24: =SUM(O24:P24) -> 0
A25: 3.006 | B25: OS LICENSING FOR MAIN SYSTEM | C25: 2.1.1.8.5 | G25: =E25*F25 -> 0 | Q25: =SUM(O25:P25) -> 0
A26: 3.007 | B26: DATABASE LICENSING FOR MAIN SYSTEM | C26: 2.1.1.8.5 | G26: =E26*F26 -> 0 | Q26: =SUM(O26:P26) -> 0
A27: 3.008 | B27: OTHER LICENSING FOR MAIN SYSTEM | C27: 2.1.1.8.5 | G27: =E27*F27 -> 0 | Q27: =SUM(O27:P27) -> 0
A28: 3.009 | B28: OS LICENSING FOR PORTABLE SYSTEMS | C28: 2.1.1.8.5 | G28: =E28*F28 -> 0 | Q28: =SUM(O28:P28) -> 0
A29: 3.01 | B29: OS LICENSING FOR STATIONARY SYSTEMS | C29: 2.1.1.8.5 | G29: =E29*F29 -> 0 | Q29: =SUM(O29:P29) -> 0
A30: 3.011 | B30: ALL HOSTING COSTS - PLEASE DESCRBE AND ITEMIZE AS NEEDED | C30: 2.1.2.8.5 | G30: =E30*F30 -> 0 | Q30: =SUM(O30:P30) -> 0
A31: 3.012 | B31: SOFTWARE SUPPORT AND MAINTENANCE FOR MAIN SYSTEM | C31: 2.1.2.8.8 | G31: =E31*F31 -> 0 | Q31: =SUM(O31:P31) -> 0
... A36: 3.017 | B36: ANY ADDITIONAL SOFTWARE AND SOFTWARE-ASSOCIATED COSTS NOT IDENTIFIED ABOVE REQUIRED FOR SOLUTION TO DELIVER SERVICES - PLEASE ITEMIZE AND DESCRIBE | C36: 2.1.2.8.11 | G36: =E36*F36 -> 0 | Q36: =SUM(O36:P36) -> 0
A37: 3.018 | G37: =E37*F37 -> 0 | Q37: =SUM(O37:P37) -> 0
A38: 3.019 | G38: =E38*F38 -> 0 | Q38: =SUM(O38:P38) -> 0
A39: 3.02 | G39: =E39*F39 -> 0 | Q39: =SUM(O39:P39) -> 0
A40: 3.021 | G40: =E40*F40 -> 0 | Q40: =SUM(O40:P40) -> 0
A41: 3.022 | G41: =E41*F41 -> 0 | Q41: =SUM(O41:P41) -> 0
A42: 3.023 | G42: =E42*F42 -> 0 | Q42: =SUM(O42:P42) -> 0
A43: 3.024 | G43: =E43*F43 -> 0 | Q43: =SUM(O43:P43) -> 0
A44: 3.025 | G44: =E44*F44 -> 0 | Q44: =SUM(O44:P44) -> 0
A45: 3.026 | G45: =E45*F45 -> 0 | Q45: =SUM(O45:P45) -> 0
A46: 3.027 | G46: =E46*F46 -> 0 | Q46: =SUM(O46:P46) -> 0
A47: 3.028 | G47: =E47*F47 -> 0 | Q47: =SUM(O47:P47) -> 0
A48: 3.029 | G48: =E48*F48 -> 0 | Q48: =SUM(O48:P48) -> 0
...

Sheet Professional Services (4)
C2: COOK COUNTY GOVERNMENT
C3: Office of the Chief Procurement Officer
C4: ='Main - Grand Totals (1)'!C4 -> RFP No. 2617-05123
A8: Instructions
A9: - Proposers are required to provide input in blue cells only.
A10: - All costs associated with the implementation of the proposed solution must be itemized and submitted in Excel format.
A11: - If cost is not applicable, Proposer must enter zero ($0).
A12: - Cook County will assume zero ($0) cost on blank cells.
A13: - When the pricing proposal is complete, Proposer must validate the final Total Cost columns.
A14: - Insert "not applicable" in the Comments column if a given line item does not apply.
A15: - Proposers are asked to provide their proposed roles and associated costs to support the overall implementation of the scope as defined in the RFP document. - For each role, Proposer must provide the following information: - Role: In column B, provide the role or job title - Description: In column C, provide a detailed job description for each role - Skill Level: In column F, provide the experience level, designated as I, II, or III. To ensure consistency in responses, levels are defined as Level I = 2-5 years of experience, Level II = 6-10 years of experience, and Level III = greater than 10 years of experience. - M/WBE: In column G, indicate of that particular role/resource will be provided by a M/WBE sub-contractor. - Hourly Rate: In column H, provide the maximum hourly rate paid to the actual employee(s) providing services for that role - Any additional notes about your pricing proposal may be clarified in appropriate section below. *Please note the information provided on row 19 is an example of how this tab may be completed.
B16: Company Name | C16: ='Main - Grand Totals (1)'!C16 -> 0 | D16: ='Main - Grand Totals (1)'!D16 -> 0 | E16: ='Main - Grand Totals (1)'!E16 -> 0
A18: ID | B18: Role | C18: Description of activities that this resource will be performing per phase. | D18: Phase from the RFP. It must align with Section 2.2 of the RFP. | E18: Phase of the Project | F18: Skill Level | G18: M/WBE Sub-Contractor | H18: Hourly Rate | I18: Total Number of Hours | J18: Total project cost | K18: Total M/WBE Costs | L18: Year One Costs | M18: Year Two Costs | N18: Year Three Costs | O18: Year Four Costs | P18: Year Five Costs | Q18: Comments | S18: Optional Year One Costs | T18: Optional Year Two Costs | U18: Total Optional Two Year Costs | V18: Comments
B19: EXAMPLE: Business Manager | C19: Consults with internal stakeholders to capture agreed-upon business objectives and processes. Performs research and fact-finding to determine business requirements and specifications for development of end-user programs, operational procedures and support and systems. | D19: Section 2.1.4 - Requirements Design and Configuration | E19: Phase 1 | F19: II | G19: Yes | H19: 50 | I19: 10 | J19: =H19*I19 -> 500 | K19: =IF(G19="Yes",J19,0) -> 500 | U19: =SUM(S19:T19) -> 0
A20: 4.001 | D20: PLEASE ITEMIZE AND DESCRIBE ALL NECESSRAY SERVICE REQUIRED TO IMPLEMENT AND MAINTAIN THE SOLUTION | J20: =H20*I20 -> 0 | K20: =IF(G20="Yes",J20,0) -> 0 | U20: =SUM(S20:T20) -> 0
A21: 4.002 | J21: =H21*I21 -> 0 | K21: =IF(G21="Yes",J21,0) -> 0 | U21: =SUM(S21:T21) -> 0
A22: 4.003 | J22: =H22*I22 -> 0 | K22: =IF(G22="Yes",J22,0) -> 0 | U22: =SUM(S22:T22) -> 0
A23: 4.004 | J23: =H23*I23 -> 0 | K23: =IF(G23="Yes",J23,0) -> 0 | U23: =SUM(S23:T23) -> 0
A24: 4.005 | J24: =H24*I24 -> 0 | K24: =IF(G24="Yes",J24,0) -> 0 | U24: =SUM(S24:T24) -> 0
A25: 4.006 | J25: =H25*I25 -> 0 | K25: =IF(G25="Yes",J25,0) -> 0 | U25: =SUM(S25:T25) -> 0
A26: 4.007 | J26: =H26*I26 -> 0 | K26: =IF(G26="Yes",J26,0) -> 0 | U26: =SUM(S26:T26) -> 0
A27: 4.008 | J27: =H27*I27 -> 0 | K27: =IF(G27="Yes",J27,0) -> 0 | U27: =SUM(S27:T27) -> 0
A28: 4.009 | J28: =H28*I28 -> 0 | K28: =IF(G28="Yes",J28,0) -> 0 | U28: =SUM(S28:T28) -> 0
A29: 4.01 | J29: =H29*I29 -> 0 | K29: =IF(G29="Yes",J29,0) -> 0 | U29: =SUM(S29:T29) -> 0
A30: 4.011 | J30: =H30*I30 -> 0 | K30: =IF(G30="Yes",J30,0) -> 0 | U30: =SUM(S30:T30) -> 0
A31: 4.012 | J31: =H31*I31 -> 0 | K31: =IF(G31="Yes",J31,0) -> 0 | U31: =SUM(S31:T31) -> 0
A32: 4.013 | J32: =H32*I32 -> 0 | K32: =IF(G32="Yes",J32,0) -> 0 | U32: =SUM(S32:T32) -> 0
... A39: 4.02 | J39: =H39*I39 -> 0 | K39: =IF(G39="Yes",J39,0) -> 0 | U39: =SUM(S39:T39) -> 0
H40: Professional Services Total | I40: =SUM(I20:I39) -> 0 | J40: =SUM(J20:J39) -> 0 | L40: =SUM(L20:L39) -> 0 | M40: =SUM(M20:M39) -> 0 | N40: =SUM(N20:N39) -> 0 | O40: =SUM(O20:O39) -> 0 | P40: =SUM(P20:P39) -> 0 | U40: =SUM(S40:T40) -> 0
J41: M/WBE Totals | K41: =SUM(K20:K39) -> 0 | U41: =SUM(S41:T41) -> 0
B43: Additional Pricing Proposal Comments: Please provide any additional comments regarding your Pricing in the section below.

Sheet Deliverables (5)
C2: COOK COUNTY GOVERNMENT
C3: Office of the Chief Procurement Officer
C4: ='Main - Grand Totals (1)'!C4 -> RFP No. 2617-05123
A7: Instructions
A8: - Proposers are required to provide input in blue cells only.
A9: - All costs associated with the implementation of the proposed solution must be itemized and submitted in Excel format.
A10: - If cost is not applicable, Proposer must enter zero ($0).
A11: - Cook County will assume zero ($0) cost on blank cells.
A12: - When the pricing proposal is complete, Proposer must validate the final Total Cost columns.
A13: - List deliverables sequentially.
A14: - The Sum of all deliverable costs should equal the total cost for the project.
A15: - Note that all deliverables must have a set of acceptance criteria that must be approved by Cook County as stated in the RFP.
A16: - If one deliverable will be completed in two parts, list each part on separate lines.
B18: Company Name | C18: ='Main - Grand Totals (1)'!C18 -> 0
B20: Deliverable | C20: Insert RFP Project Sections | D20: Year (1, 2, 3 or other) | E20: Cost Per Deliverable | F20: Cost for Year
B21: Example: System Design and Configuration Document | C21: 2.1.4 - Requirements Validation and System Design Config | D21: 1 | E21: 1000
B22: Example: System Solutions Overview Documentation | C22: 2.2.1 - System Solutions Overview | D22: 1 | E22: 10000 | F22: =SUM(E21:E22) -> 11000
A23: 5.001 | B23: APPROVED SOLUTION PROJECT PLAN/SOW
A24: 5.002 | B24: APPROVED SOLUTION PROJECT IMPLEMENTATION TIMELINE | F24: Cost for Year One
A25: 5.003 | B25: APPROVED SOLUTION TRAINING PLAN | F25: <Insert formula here>
A26: 5.004 | B26: APPROVED SOLUTION POST-IMPLEMENTATION PLAN
A27: 5.005 | F27: Cost for Year Two
A28: 5.006 | F28: <Insert formula here>
A29: 5.007
A30: 5.008 | F30: Cost for Year Three
A31: 5.009 | F31: <Insert formula here>
A32: 5.01
A33: 5.011 | F33: Cost for Year Four
A34: 5.012 | F34: <Insert formula here>
A35: 5.013
A36: 5.014 | F36: Cost for Year Five
A37: 5.015 | F37: <Insert formula here>
A38: 5.016
A39: 5.017
A40: 5.018
A41: 5.019
A42: 5.02
A43: 5.021
A44: 5.022
A45: 5.023
...

Sheet Installation (6)
C2: COOK COUNTY GOVERNMENT
C3: Office of the Chief Procurement Officer
C4: ='Main - Grand Totals (1)'!C4 -> RFP No. 2617-05123
A8: Instructions
A9: - Proposers are required to provide input in blue cells only.
A10: - All costs associated with the implementation of the proposed solution must be itemized and submitted in Excel format.
A11: - If cost is not applicable, Proposer must enter zero ($0).
A12: - Cook County will assume zero ($0) cost on blank cells.
A13: - When the pricing proposal is complete, Proposer must validate the final Total Cost columns.
A14: - Insert "not applicable" in the Comments column if a given line item does not apply.
A15: - Proposers are asked to provide their proposed roles and associated costs to support the overall implementation of the scope as defined in the RFP document. - For each role, Proposer must provide the following information: - Role: In column B, provide the role or job title - Description: In column C, provide a detailed job description for each role - Skill Level: In column F, provide the experience level, designated as I, II, or III. To ensure consistency in responses, levels are defined as Level I = 2-5 years of experience, Level II = 6-10 years of experience, and Level III = greater than 10 years of experience. - M/WBE: In column G, indicate of that particular role/resource will be provided by a M/WBE sub-contractor. - Hourly Rate: In column H, provide the maximum hourly rate paid to the actual employee(s) providing services for that role - Any additional notes about your pricing proposal may be clarified in appropriate section below.
B16: Company Name | C16: ='Main - Grand Totals (1)'!C16 -> 0 | D16: ='Main - Grand Totals (1)'!D16 -> 0 | E16: ='Main - Grand Totals (1)'!E16 -> 0
A18: ID | B18: Role | C18: Description of activities that this resource will be performing per phase. | D18: Phase from the RFP. It must align with Section 2.2 of the RFP. | E18: Phase of the Project | F18: Skill Level | G18: M/WBE Sub-Contractor | H18: Hourly Rate | I18: Total Number of Hours | J18: Total project cost | K18: Total M/WBE Costs | L18: Year One Costs | M18: Year Two Costs | N18: Year Three Costs | O18: Year Four Costs | P18: Year Five Costs | Q18: Comments | S18: Optional Year One Costs | T18: Optional Year Two Costs | U18: Total Optional Two Year Costs | V18: Comments
B19: EXAMPLE: Electrician | C19: Responsible for installing conduit and electrical power for electrical circuits., ensuring compliance with local codes. Interprets bluteprints, schematics and technical diagrams to map out wiring systems. Interacts with contractors and CCSO staff to explain technical requirements as needed. | D19: Section 2.29 - Installationi Materials and Labor Cost Estimates | E19: Phase 1 | F19: II | G19: Yes | H19: 50 | I19: 10 | J19: =H19*I19 -> 500 | K19: =IF(G19="Yes",J19,0) -> 500 | U19: =SUM(S19:T19) -> 0
A20: 6.001 | D20: PLEASE ITEMIZE AND DESCRIBE ALL NECESSRAY SERVICE REQUIRED TO IMPLEMENT AND MAINTAIN THE SOLUTION | J20: =H20*I20 -> 0 | K20: =IF(G20="Yes",J20,0) -> 0 | U20: =SUM(S20:T20) -> 0
A21: 6.002 | J21: =H21*I21 -> 0 | K21: =IF(G21="Yes",J21,0) -> 0 | U21: =SUM(S21:T21) -> 0
A22: 6.003 | J22: =H22*I22 -> 0 | K22: =IF(G22="Yes",J22,0) -> 0 | U22: =SUM(S22:T22) -> 0
A23: 6.004 | J23: =H23*I23 -> 0 | K23: =IF(G23="Yes",J23,0) -> 0 | U23: =SUM(S23:T23) -> 0
A24: 6.005 | J24: =H24*I24 -> 0 | K24: =IF(G24="Yes",J24,0) -> 0 | U24: =SUM(S24:T24) -> 0
A25: 6.006 | J25: =H25*I25 -> 0 | K25: =IF(G25="Yes",J25,0) -> 0 | U25: =SUM(S25:T25) -> 0
A26: 6.007 | J26: =H26*I26 -> 0 | K26: =IF(G26="Yes",J26,0) -> 0 | U26: =SUM(S26:T26) -> 0
A27: 6.008 | J27: =H27*I27 -> 0 | K27: =IF(G27="Yes",J27,0) -> 0 | U27: =SUM(S27:T27) -> 0
A28: 6.009 | J28: =H28*I28 -> 0 | K28: =IF(G28="Yes",J28,0) -> 0 | U28: =SUM(S28:T28) -> 0
A29: 6.01 | J29: =H29*I29 -> 0 | K29: =IF(G29="Yes",J29,0) -> 0 | U29: =SUM(S29:T29) -> 0
A30: 6.011 | J30: =H30*I30 -> 0 | K30: =IF(G30="Yes",J30,0) -> 0 | U30: =SUM(S30:T30) -> 0
A31: 6.012 | J31: =H31*I31 -> 0 | K31: =IF(G31="Yes",J31,0) -> 0 | U31: =SUM(S31:T31) -> 0
A32: 6.013 | J32: =H32*I32 -> 0 | K32: =IF(G32="Yes",J32,0) -> 0 | U32: =SUM(S32:T32) -> 0
... A39: 6.02 | J39: =H39*I39 -> 0 | K39: =IF(G39="Yes",J39,0) -> 0 | U39: =SUM(S39:T39) -> 0
H40: Installation Total | I40: =SUM(I20:I39) -> 0 | J40: =SUM(J20:J39) -> 0 | L40: =SUM(L20:L39) -> 0 | M40: =SUM(M20:M39) -> 0 | N40: =SUM(N20:N39) -> 0 | O40: =SUM(O20:O39) -> 0 | P40: =SUM(P20:P39) -> 0 | U40: =SUM(S40:T40) -> 0
J41: M/WBE Totals | K41: =SUM(K20:K39) -> 0 | U41: =SUM(S41:T41) -> 0
B43: Additional Pricing Proposal Comments: Please provide any additional comments regarding your Pricing in the section below.
