Workbook

Sheet Proposer Tab
A1: ITN Subcontractor Worksheet | M1: =TODAY() -> 46297
A2: Office of State Procurement | O2: v 05.06.2026
A3: 1. Vendor:
A4: The Vendor should complete the ITN Subcontractor Worksheet for each proposed subcontractor by providing: (1) the Subcontractor’s legal name, (2) Hudson and/or Veteran certification status, (3) a clear description of the work to be performed, and (4) the estimated percentage of the Total Contract Amount to be paid to the Subcontractor. Percentages must reflect the Vendor’s best good-faith estimate, be clearly stated, and the total for all subcontractors must not exceed 100%. Descriptions of work must be sufficiently detailed to allow the State to identify scope of work and any potential duplication or overlap. If applicable, the State will use this information to calculate points for Hudson/Veteran Evaluation. If the information provided is incomplete, unclear, or prevents accurate calculation, the Vendor may receive no points for this evaluation factor.
A5: 2. Subcontractor Information
A6: # | B6: Subcontractor Name | G6: Hudson/Veteran | I6: Description of Work | M6: Percentage to be paid to Subcontractor
A7: A
A8: B
A9: C
A10: D
A11: E
A12: F
A13: G
A14: H
A15: I
A16: J

Sheet Evaluation Tab
A1: Hudson/Veterans RFP Points Worksheet | M1: =TODAY() -> 46297
A2: Office of State Procurement | O2: v 18.9.17
A4: 1. RFP #, Title:
A6: 2. Enter total number of RFP Evaluations points reserved for Hudson/Veterans certified small entrepreneurships (must equal 12% of total RFP Evaluation points) | M6: 12
A9: 3. Proposer: | D9: ='Proposer Tab'!D3:O3 -> 0
A11: 4. Is the Proposer a certified small entrepreneurship through the Veterans Initiative?
B12: ="(if Yes, Proposer should receive 12% of total evaluation points; if No, proceed to question #5)" -> (if Yes, Proposer should receive 12% of total evaluation points; if No, proceed to question #5)
A14: 5. Is the Proposer a certified small entrepreneurship through the Hudson Initiative?
B15: ="(if Yes, Proposer should receive 10% of total evaluation points; if No, proceed to question #6)" -> (if Yes, Proposer should receive 10% of total evaluation points; if No, proceed to question #6)
A17: 6. Does the Proposer intend to subcontract with certified small entrepreneurships?
B18: (if Yes, complete question 7 below; if No to questions 4-6, the Proposer should receive 0 points)
A21: 7. Total estimated value of the contract (Proposer's cost proposal):
A23: 8. Subcontractor Information
A24: # | B24: Subcontractor Name | G24: Hudson/Veteran | I24: Description of Work | M24: Subcontract Value
A25: A | B25: =IF(ISBLANK('Proposer Tab'!B7:F7)," ",'Proposer Tab'!B7:F7) | G25: =IF(ISBLANK('Proposer Tab'!G7:H7)," ",'Proposer Tab'!G7:H7) | I25: =IF(ISBLANK('Proposer Tab'!I7:L7)," ",'Proposer Tab'!I7:L7) | M25: ='Proposer Tab'!M7:O7 -> 0
A26: B | B26: =IF(ISBLANK('Proposer Tab'!B8:F8)," ",'Proposer Tab'!B8:F8) | G26: =IF(ISBLANK('Proposer Tab'!G8:H8)," ",'Proposer Tab'!G8:H8) | I26: =IF(ISBLANK('Proposer Tab'!I8:L8)," ",'Proposer Tab'!I8:L8) | M26: ='Proposer Tab'!M8:O8 -> 0
A27: C | B27: =IF(ISBLANK('Proposer Tab'!B9:F9)," ",'Proposer Tab'!B9:F9) | G27: =IF(ISBLANK('Proposer Tab'!G9:H9)," ",'Proposer Tab'!G9:H9) | I27: =IF(ISBLANK('Proposer Tab'!I9:L9)," ",'Proposer Tab'!I9:L9) | M27: ='Proposer Tab'!M9:O9 -> 0
A28: D | B28: =IF(ISBLANK('Proposer Tab'!B10:F10)," ",'Proposer Tab'!B10:F10) | G28: =IF(ISBLANK('Proposer Tab'!G10:H10)," ",'Proposer Tab'!G10:H10) | I28: =IF(ISBLANK('Proposer Tab'!I10:L10)," ",'Proposer Tab'!I10:L10) | M28: ='Proposer Tab'!M10:O10 -> 0
A29: E | B29: =IF(ISBLANK('Proposer Tab'!B11:F11)," ",'Proposer Tab'!B11:F11) | G29: =IF(ISBLANK('Proposer Tab'!G11:H11)," ",'Proposer Tab'!G11:H11) | I29: =IF(ISBLANK('Proposer Tab'!I11:L11)," ",'Proposer Tab'!I11:L11) | M29: ='Proposer Tab'!M11:O11 -> 0
A30: F | B30: =IF(ISBLANK('Proposer Tab'!B12:F12)," ",'Proposer Tab'!B12:F12) | G30: =IF(ISBLANK('Proposer Tab'!G12:H12)," ",'Proposer Tab'!G12:H12) | I30: =IF(ISBLANK('Proposer Tab'!I12:L12)," ",'Proposer Tab'!I12:L12) | M30: ='Proposer Tab'!M12:O12 -> 0
A31: G | B31: =IF(ISBLANK('Proposer Tab'!B13:F13)," ",'Proposer Tab'!B13:F13) | G31: =IF(ISBLANK('Proposer Tab'!G13:H13)," ",'Proposer Tab'!G13:H13) | I31: =IF(ISBLANK('Proposer Tab'!I13:L13)," ",'Proposer Tab'!I13:L13) | M31: ='Proposer Tab'!M13:O13 -> 0
A32: H | B32: =IF(ISBLANK('Proposer Tab'!B14:F14)," ",'Proposer Tab'!B14:F14) | G32: =IF(ISBLANK('Proposer Tab'!G14:H14)," ",'Proposer Tab'!G14:H14) | I32: =IF(ISBLANK('Proposer Tab'!I14:L14)," ",'Proposer Tab'!I14:L14) | M32: ='Proposer Tab'!M14:O14 -> 0
A33: I | B33: =IF(ISBLANK('Proposer Tab'!B15:F15)," ",'Proposer Tab'!B15:F15) | G33: =IF(ISBLANK('Proposer Tab'!G15:H15)," ",'Proposer Tab'!G15:H15) | I33: =IF(ISBLANK('Proposer Tab'!I15:L15)," ",'Proposer Tab'!I15:L15) | M33: ='Proposer Tab'!M15:O15 -> 0
A34: J | B34: =IF(ISBLANK('Proposer Tab'!B16:F16)," ",'Proposer Tab'!B16:F16) | G34: =IF(ISBLANK('Proposer Tab'!G16:H16)," ",'Proposer Tab'!G16:H16) | I34: =IF(ISBLANK('Proposer Tab'!I16:L16)," ",'Proposer Tab'!I16:L16) | M34: ='Proposer Tab'!M16:O16 -> 0
A35: =IF(AND(O17="No",OR(B25<>"",B26<>"",B27<>"",B28<>"",B29<>"",B30<>"",B31<>"",B32<>"",B33<>"",B34<>"")),"Error - Please check response to Question #6.","")
A36: 9. Total value of scope overlap/duplication among subcontractors: | Q36: The agency is responsible for determining the Total value of scope overlap/duplication among subcontractors. This determination should be based upon the detailed description of the subcontracted work to be performed and the anticipated dollar value of the subcontracts.
B37: (usually $0, unless two or more prospective subcontractors are shown for the same work)
B38: (if $0, proceed to end)
A40: 10. Scope Overlap Correction | Q40: Scope Overlap Correction formula: If the Subcontractor is affected by Overlap, then the Total value of scope overlap/duplication among subcontracts amount (#9) is multiplied by the individual Subcontract Value (#8 A-J) which is then divided by the total value of subcontracts affected by overlap (sum of #10 A-J with "Yes" in the Affected by Overlap column). That amount is subtracted from the individual Subcontract Value (#8 A-J) and the Net Subcontract Value is displayed (#10 A-J).
A41: # | B41: Subcontract Value | F41: Affected by Overlap? | I41: Overlap Reduction | L41: Net Subcontract Value
A42: A | B42: =IF(M25="","",M25) -> 0 | I42: =IF(AND(F42="Yes",COUNTIF(F$42:H$51,"Yes")>1),-$M$36*B42/SUMIF(F$42:H$51,"Yes",B$42:E$51),0) -> 0 | L42: =IF(B42="","",B42+I42) -> 0
A43: B | B43: =IF(M26="","",M26) -> 0 | I43: =IF(AND(F43="Yes",COUNTIF(F$42:H$51,"Yes")>1),-$M$36*B43/SUMIF(F$42:H$51,"Yes",B$42:E$51),0) -> 0 | L43: =IF(B43="","",B43+I43) -> 0
A44: C | B44: =IF(M27="","",M27) -> 0 | I44: =IF(AND(F44="Yes",COUNTIF(F$42:H$51,"Yes")>1),-$M$36*B44/SUMIF(F$42:H$51,"Yes",B$42:E$51),0) -> 0 | L44: =IF(B44="","",B44+I44) -> 0
A45: D | B45: =IF(M28="","",M28) -> 0 | I45: =IF(AND(F45="Yes",COUNTIF(F$42:H$51,"Yes")>1),-$M$36*B45/SUMIF(F$42:H$51,"Yes",B$42:E$51),0) -> 0 | L45: =IF(B45="","",B45+I45) -> 0
A46: E | B46: =IF(M29="","",M29) -> 0 | I46: =IF(AND(F46="Yes",COUNTIF(F$42:H$51,"Yes")>1),-$M$36*B46/SUMIF(F$42:H$51,"Yes",B$42:E$51),0) -> 0 | L46: =IF(B46="","",B46+I46) -> 0
A47: F | B47: =IF(M30="","",M30) -> 0 | I47: =IF(AND(F47="Yes",COUNTIF(F$42:H$51,"Yes")>1),-$M$36*B47/SUMIF(F$42:H$51,"Yes",B$42:E$51),0) -> 0 | L47: =IF(B47="","",B47+I47) -> 0
A48: G | B48: =IF(M31="","",M31) -> 0 | I48: =IF(AND(F48="Yes",COUNTIF(F$42:H$51,"Yes")>1),-$M$36*B48/SUMIF(F$42:H$51,"Yes",B$42:E$51),0) -> 0 | L48: =IF(B48="","",B48+I48) -> 0
A49: H | B49: =IF(M32="","",M32) -> 0 | I49: =IF(AND(F49="Yes",COUNTIF(F$42:H$51,"Yes")>1),-$M$36*B49/SUMIF(F$42:H$51,"Yes",B$42:E$51),0) -> 0 | L49: =IF(B49="","",B49+I49) -> 0
A50: I | B50: =IF(M33="","",M33) -> 0 | I50: =IF(AND(F50="Yes",COUNTIF(F$42:H$51,"Yes")>1),-$M$36*B50/SUMIF(F$42:H$51,"Yes",B$42:E$51),0) -> 0 | L50: =IF(B50="","",B50+I50) -> 0
A51: J | B51: =IF(M34="","",M34) -> 0 | I51: =IF(AND(F51="Yes",COUNTIF(F$42:H$51,"Yes")>1),-$M$36*B51/SUMIF(F$42:H$51,"Yes",B$42:E$51),0) -> 0 | L51: =IF(B51="","",B51+I51) -> 0
...
