Workbook

Sheet Rate History
B1: =INPUT!$C$3 -> Albemarle
B2: =INPUT!$D$11 -> RFP#<######>
B3: =INPUT!$C$23 -> Vision
B4: Rate History - Monthly Rates
B8: =INPUT!C16 -> Vision | E8: Enrollment | G8: =INPUT!D8 -> 46023 | H8: =EDATE(G8,-12) -> 45658 | I8: =EDATE(H8,-12) -> 45292 | J8: =EDATE(I8,-12) -> 44927
B9: =INPUT!$C$3 -> Albemarle
C10: Base ASO Fee | E10: =SUM(E19,E28,E37,E46) -> 0
E12: --
E13: =SUM(E19,E28,E37,E46) -> 0
C18: Plan Name
C19: TOTAL | E19: =SUM(E20:E25) -> 0
B20: Premiums | C20: =INPUT!$C$117 -> Subscriber Only
C21: =INPUT!$C$118 -> Subscriber + Spouse
C22: =INPUT!$C$119 -> Subscriber + Child
C23: =INPUT!$C$120 -> Subscriber + Child(ren)
C24: =INPUT!$C$121 -> Family
C25: =INPUT!$C$122 -> Medicare
C27: Plan Name
C28: TOTAL | E28: =SUM(E29:E34) -> 0
B29: Premiums | C29: =INPUT!$C$117 -> Subscriber Only
C30: =INPUT!$C$118 -> Subscriber + Spouse
C31: =INPUT!$C$119 -> Subscriber + Child
C32: =INPUT!$C$120 -> Subscriber + Child(ren)
C33: =INPUT!$C$121 -> Family
C34: =INPUT!$C$122 -> Medicare
C36: Plan Name
C37: TOTAL | E37: =SUM(E38:E43) -> 0
B38: Premiums | C38: =INPUT!$C$117 -> Subscriber Only
C39: =INPUT!$C$118 -> Subscriber + Spouse
C40: =INPUT!$C$119 -> Subscriber + Child
C41: =INPUT!$C$120 -> Subscriber + Child(ren)
C42: =INPUT!$C$121 -> Family
C43: =INPUT!$C$122 -> Medicare
C45: Plan Name
C46: TOTAL | E46: =SUM(E47:E52) -> 0
B47: Premiums | C47: =INPUT!$C$117 -> Subscriber Only
C48: =INPUT!$C$118 -> Subscriber + Spouse
C49: =INPUT!$C$119 -> Subscriber + Child
C50: =INPUT!$C$120 -> Subscriber + Child(ren)
C51: =INPUT!$C$121 -> Family
...

Sheet INPUT
B1: Key: | C1: Internal Inputs (Bolton) | D1: Bidder Inputs | K1: Internal Instructions
K2: -Hide this worksheet before releasing to Market
B3: Group Name: | C3: Albemarle | D3: Group Abbreviation: | E3: <Abbreviation> | F3: Additional Group Name: | G3: <Other Group Name> | K3: -Password Protect Sheets esp. large responses to prevent too many large responses
B5: Sub-Groups: | C5: <Sub-group 1> | D5: <Sub-group 2> | E5: <Sub-group 3> | F5: <Sub-group 4> | G5: <Sub-group 5> | S5: TF | T5: Technical Proposal Form
S6: FF | T6: Financial Proposal Form
C7: Effective Date (MM/DD/YYY) | D7: Current YTD | E7: Prior Year 1 | F7: Prior Year 2 | S7: PF | T7: Price Proposal Form
B8: Plan Years: | C8: 46753 | D8: 46023 | E8: 1.1.2025 | F8: 45292
D10: Final For Reference
B11: RFP# | C11: <######> | D11: =B11&C11 -> RFP#<######>
B13: Proposal Form Type: | C13: Technical Proposal | D13: Price Proposal | K13: Internal Checklist:
F14: Rate Guarantee: | K14: Is everything printer friendly
B15: Benefit Coverage / Services: | F15: Years | K15: Group Name Changed
B16: Benefit Name 1 | C16: Vision | F16: 3 | G16: Three | K16: Worksheet Forms coordinate with name of Worksheet Tab Name
B17: Benefit Name 2 | F17: 3 | G17: Three | K17: Worksheet Form coordinates with table of contents and specific questions referencing Worksheet Form
B18: Benefit Name 3 | F18: 3 | G18: Three | K18: Sheets are protected
B19: Benefit Name 4 | F19: 3 | G19: Three
B20: Benefit Name 5 | F20: 3 | G20: Three | K20: Roboto Font?
B21: Benefit Name 6
B23: Final For Reference | C23: Vision | E23: Final For Reference | F23: =G16&" ("&F16&")"&" Years" -> Three (3) Years
B35: Applicable Coverages | C35: Proposal Form | D35: # | E35: Name | F35: Final For Reference (Worksheet Name) | G35: Worksheet Tab
B36: ~ | C36: ~ | D36: ~ | E36: ~ | F36: ~ | G36: ~
B37: ALL | C37: Technical | D37: 1.0 | E37: General Questionnaire | F37: =C37&" Proposal Form "&D37&" - "&E37 -> Technical Proposal Form 1.0 - General Questionnaire | G37: =LEFT(C37,1)&"F "&D37 -> TF 1.0
B38: ALL | C38: Technical | D38: 1.0 | E38: Client Specific Questionnaire | F38: =C38&" Proposal Form "&D38&" - "&E38 -> Technical Proposal Form 1.0 - Client Specific Questionnaire | G38: =LEFT(C38,1)&"F "&D38 -> TF 1.0
B39: ALL | C39: Financial | D39: 3.0 | E39: Performance Guarantees | F39: =C39&" Proposal Form "&D39&" - "&E39 -> Financial Proposal Form 3.0 - Performance Guarantees | G39: =LEFT(C39,1)&"F "&D39 -> FF 3.0
B40: ALL | C40: Technical | D40: 11.0 | E40: Deviations | F40: =C40&" Proposal Form "&D40&" - "&E40 -> Technical Proposal Form 11.0 - Deviations | G40: =LEFT(C40,1)&"F "&D40 -> TF 11.0
B41: ALL | C41: Technical | D41: 12.0 | E41: Key Differentiators | F41: =C41&" Proposal Form "&D41&" - "&E41 -> Technical Proposal Form 12.0 - Key Differentiators | G41: =LEFT(C41,1)&"F "&D41 -> TF 12.0
B42: ALL | C42: Technical | D42: 13.0 | E42: References | F42: =C42&" Proposal Form "&D42&" - "&E42 -> Technical Proposal Form 13.0 - References | G42: =LEFT(C42,1)&"F "&D42 -> TF 13.0
G43: =LEFT(C43,1)&"F "&D43 -> F
B44: VIS | C44: Technical | D44: 1.0 | E44: Vision Technical Questionnaire | F44: =C44&" Proposal Form "&D44&" - "&E44 -> Technical Proposal Form 1.0 - Vision Technical Questionnaire | G44: =LEFT(C44,1)&"F "&D44 -> TF 1.0
B45: VIS | C45: Technical | D45: 2.0 | E45: Vision Geo Access | F45: =C45&" Proposal Form "&D45&" - "&E45 -> Technical Proposal Form 2.0 - Vision Geo Access | G45: =LEFT(C45,1)&"F "&D45 -> TF 2.0
B46: VIS | C46: Technical | D46: 3.0 | E46: Vision Providers by County | F46: =C46&" Proposal Form "&D46&" - "&E46 -> Technical Proposal Form 3.0 - Vision Providers by County | G46: =LEFT(C46,1)&"F "&D46 -> TF 3.0
F47: =C47&" Proposal Form "&D47&" - "&E47 -> Proposal Form - | G47: =LEFT(C47,1)&"F "&D47 -> F
B48: VIS | C48: Technical | D48: 4.0 | E48: Top Vision Providers | F48: =C48&" Proposal Form "&D48&" - "&E48 -> Technical Proposal Form 4.0 - Top Vision Providers | G48: =LEFT(C48,1)&"F "&D48 -> TF 4.0
B49: VIS | C49: Technical | D49: 5.0 | E49: Proposed Vision Plan Design | F49: =C49&" Proposal Form "&D49&" - "&E49 -> Technical Proposal Form 5.0 - Proposed Vision Plan Design | G49: =LEFT(C49,1)&"F "&D49 -> TF 5.0
B50: VIS | C50: Technical | D50: 6.0 | E50: Large Retail Chains - Vision | F50: =C50&" Proposal Form "&D50&" - "&E50 -> Technical Proposal Form 6.0 - Large Retail Chains - Vision | G50: =LEFT(C50,1)&"F "&D50 -> TF 6.0
G51: =LEFT(C51,1)&"F "&D51 -> F
B52: VIS | C52: Financial | D52: 1.0 | E52: Vision Price Questionnaire | F52: =C52&" Proposal Form "&D52&" - "&E52 -> Financial Proposal Form 1.0 - Vision Price Questionnaire | G52: =LEFT(C52,1)&"F "&D52 -> FF 1.0
B53: VIS | C53: Financial | D53: 2.0 | E53: Administrative Services Only (ASO) Fees | F53: =C53&" Proposal Form "&D53&" - "&E53 -> Financial Proposal Form 2.0 - Administrative Services Only (ASO) Fees | G53: =LEFT(C53,1)&"F "&D53 -> FF 2.0
B54: VIS | C54: Financial | D54: 3.0 | E54: Vision Premium Equivalent Rates | F54: =C54&" Proposal Form "&D54&" - "&E54 -> Financial Proposal Form 3.0 - Vision Premium Equivalent Rates | G54: =LEFT(C54,1)&"F "&D54 -> FF 3.0
B55: VIS | C55: Financial | D55: 2.0 | E55: Vision Fully-Insured Premiums | F55: =C55&" Proposal Form "&D55&" - "&E55 -> Financial Proposal Form 2.0 - Vision Fully-Insured Premiums | G55: =LEFT(C55,1)&"F "&D55 -> FF 2.0
...

Sheet Instructions & Info
B1: =INPUT!$C$3 -> Albemarle
B2: =INPUT!$D$11 -> RFP#<######>
B3: =INPUT!$C$23 -> Vision
B4: Instructions
B6: Please Read:
B7: NOTICE: | C7: You must read these instructions in full and confirm you have read and understand them by entering your name and date in the appropriate fields at the bottom of this spreadsheet.
B8: Instructions: | C8: ="The following Proposal Forms in this workbook will be used to gather vendor responses in regards to your capabilities to provide the required services of this RFP to "&$B$1&". Your responses will be compared and evaluated against the other vendors' responses. " -> The following Proposal Forms in this workbook will be used to gather vendor responses in regards to your capabilities to provide the required services of this RFP to Albemarle. Your responses will be compared and evaluated against the other vendors' responses.
C9: Please do not modify the tabs. Modifying the tabs or layout may eliminate your company from consideration. Please do not: - Add or Delete Cells - Renumber or Add Questions - Delete Questions - If you cannot respond to a question please just note - 'No Response Available' or 'N/A'. Responses to questions should be brief and concise. 'Yes' or 'No' responses are encouraged when appropriate within the dropdown menu. The maximum amount of characters for a response is 500.
B10: Hold Harmless Agreement | C10: Vendor shall indemnify and hold harmless the Client, its respective directors, officers, employees (acting in the course of their employment, but not as claimants) and agents, against any and all liability or expense (including the cost of legal defense or settlement) which was caused by (vendor’s) negligent or intentional misconduct, breach of this Agreement, fraud, or its breach of fiduciary responsibility, related to or arising out of this Agreement or the Client’s role as employer or Plan sponsor. The party seeking indemnification under (a) above must notify the indemnifying party promptly in writing of any actual or threatened action, suit or proceeding to which it claims such indemnity applies. Failure to notify the indemnifying party shall be deemed a waiver of the right to seek indemnification. The party seeking indemnification may assume responsibility for the direction of its own defense at any time, including the right to settle or compromise any claim against it without the consent of the indemnifying party, provided that in doing so it shall be deemed to have waived its right to indemnification except in cases where the indemnifying party has declined to defend against the claim. The indemnification obligations of (vendor) shall terminate upon the expiration of the Agreement except as to any matter concerning which a claim has been asserted by notice to the other party at the time of such expiration or within 365 days after effective date of Agreement termination.
B11: RFP Information
B12: RFP Coverages: | C12: =INPUT!$C$23 -> Vision
B13: Effective Date for all Lines: | C13: =INPUT!$C$8 -> 46753
B14: Current Carrier(s): | C14: Coverage | D14: Carrier Name
C15: Vision | D15: Anthem
C17: Clinical Programs / Point Solutions | D17: CareATC
C18: HRIS / Benefits Administrator | D18: ADP
B19: Proposed Fee Guarantee: | C19: =INPUT!F23 -> Three (3) Years
B20: Notes:
B21: Current Commissions: | C21: N/A
B22: Requested Commissions: | C22: N/A
B23: RFP Timeline: | C23: Activity | D23: Date
C24: RFP Released | D24: 46297
C25: Deadline to submit questions | D25: 46336
C26: Addendum with responses released to vendors | D26: 46338
C27: RFPs due | D27: 46343
C28: Bidder interviews conducted (Optional) | D28: 46447
C29: Evaluate Financial RFP Responses, Score and Select Finalists (if applicable) or winning Vendor | D29: 46472
C30: Request BAFO (if applicable)
C31: BAFO Due (if applicable)
C32: Evaluate BAFO, Finalize Analysis and Recommendations (if applicable)
C33: Select Vendor | D33: 46539
C34: Implementation (including Open Enrollment) | D34: 46568
C35: Effective Date | D35: =INPUT!$C$8 -> 46753
B36: Provided Data: | C36: Current plan documents: SBC/SPD as applicable - separate attachment | D36: Separate Attachment
C37: Census | D37: Separate Attachment
C38: Enrollment data | D38: Separate Attachment
C39: Claims data | D39: Separate Attachment
C40: Disruption data | D40: Within this File
B41: Disclaimer & Intent to Bid: | C41: By entering my name and date below I am confirming my firm's intent to bid, that I have read the above instructions in full regarding providing responses to the Questions in this workbook, and completion of the proposal forms. I also confirm our firm understands the information provided in this Request for Proposal and all attachments is confidential and proprietary and will only be used to prepare a proposal response.
B42: Company:
...

Sheet REPRICING FILE
B1: =INPUT!$C$3 -> Albemarle
B2: =INPUT!$D$11 -> RFP#<######>
B3: =INPUT!$C$23 -> Vision
B4: Claims Repricing File
B6: Please complete the repricing excel file(s) that was sent separately from this bidforms workbook:
B7: .xlsb

Sheet FF 1.0 VIS Q
B1: =INPUT!$C$3 -> Albemarle
B2: =INPUT!$D$11 -> RFP#<######>
B3: =INPUT!$C$23 -> Vision
B4: =INPUT!F52 -> Financial Proposal Form 1.0 - Vision Price Questionnaire
B6: This Questionnaire is designed for you to answer specific questions regarding your organization and the services you are proposing. Please respond to these questions completely and accurately. Please choose from the drop down in the "Response" column when available and input your response in the "Additional Response" Section. Also provide attachments when applicable.
E8: Bidder Name | F8: ='Instructions & Info'!$C$42 -> 0
B10: # | C10: Question | D10: ACTION | E10: RESPONSE | F10: ADDITIONAL RESPONSE | G10: Character Length
B11: 1 | C11: How do you determine your fee schedule for Vision claims? | D11: Provide Response | E11: <Select One> | G11: =LEN(F11) -> 0
B12: =B11+1 -> 2 | C12: How often do you update your fee schedule for the Vision provider network(s) for the plan you are proposing? | D12: Provide Response | E12: <Select One> | G12: =LEN(F12) -> 0
B13: =B12+1 -> 3 | C13: Confirm you can provide ID card preparation, printing and mailing to employee's home at no additional cost. If there is an additional cost, please describe. | D13: Provide Response | E13: <Select One> | G13: =LEN(F13) -> 0
B14: =B13+1 -> 4 | C14: Describe any implementation fees should the business be awarded? | D14: Provide Response | E14: <Select One> | G14: =LEN(F14) -> 0
B15: =B14+1 -> 5 | C15: Will you provide an implementation credit if awarded the business? | D15: Provide Response | E15: <Select One> | G15: =LEN(F15) -> 0
B16: =B15+1 -> 6 | C16: Will you offer any communication credits? Please specify amount and if this credit will be provided for all years of the awarded contract (3 years plus 2, 1-year extensions)? Also describe any limitations to the use of this credit and documentation required. | D16: Provide Response | E16: <Select One> | G16: =LEN(F16) -> 0
B17: =B16+1 -> 7 | C17: Will you offer any technology credits? Please specify amount and if this credit will be provided for all years of the awarded contract (3 years plus 2, 1-year extensions)? Also describe any limitations to the use of this credit and documentation required. | D17: Provide Response | E17: <Select One> | G17: =LEN(F17) -> 0
B18: =B17+1 -> 8 | C18: Will you offer any discretionary credits? Please specify amount and if this credit will be provided for all years of the awarded contract (3 years plus 2, 1-year extensions)? Also describe any limitations to the use of this credit and documentation required. | D18: Provide Response | E18: <Select One> | G18: =LEN(F18) -> 0
B19: =B18+1 -> 9 | C19: Is there any impact to rates/fees if you are awarded multiple lines of coverage? | D19: Provide Response | E19: <Select One> | G19: =LEN(F19) -> 0
B20: =B19+1 -> 10 | C20: Indicate whether billing statements and accompanying paid claims detail are available online to the Group's benefits personnel. | D20: Provide Response | E20: <Select One> | G20: =LEN(F20) -> 0
B21: =B20+1 -> 11 | C21: Provide a thorough explanation of how paid claim reports are reconciled to billing invoices.
B22: =B21+1 -> 12 | C22: Confirm renewals will be delivered by 180 days prior to the start of each renewal plan year. | D22: Provide Response | E22: <Select One> | G22: =LEN(F22) -> 0
B23: =B22+1 -> 13 | C23: Confirm fees are final regardless of plan enrollment unless enrollment changes by +/- 15% | D23: Provide Response | E23: <Select One> | G23: =LEN(F23) -> 0
B24: =B23+1 -> 14 | C24: How will renewals be calculated for a group of this size? | D24: Provide Response | E24: <Select One> | G24: =LEN(F24) -> 0
B25: =B24+1 -> 15 | C25: List all online benefit administration platforms you integrate with, and if you provide a PSPM offset or other credit to the benefit administration fee if one of these platforms are used in the future. Please list the amount of credit or offset that would be provided to the client in the event they implement a new online benefit administration system. | D25: Provide Response / Attachment | E25: <Select One> | G25: =LEN(F25) -> 0
B26: ~ | C26: ATTACHMENTS - Please provide the following as attachments to your Price Proposal RFP Response IF INCLUDED IN YOUR OFFER: | G26: =LEN(F26) -> 0
B27: A | C27: Performance Guarantees | D27: Provide as Attachment | E27: <Select One> | G27: =LEN(F27) -> 0
B28: B | C28: Provider Recruitment Guarantee | D28: Provide as Attachment | E28: <Select One> | G28: =LEN(F28) -> 0
B29: C | C29: In-Network Utilization Guarantee | D29: Provide as Attachment | E29: <Select One> | G29: =LEN(F29) -> 0
B30: D | C30: Trend OR Discount Guarantee | D30: Provide as Attachment | E30: <Select One> | G30: =LEN(F30) -> 0
B31: E | C31: Description of any Cross Sell Discounts (i.e. other coverages and benefits, etc.) | D31: Provide as Attachment | E31: <Select One> | G31: =LEN(F31) -> 0
B32: F | C32: Descriptions of any other guarantees or financial offers should be attached | D32: Provide as Attachment | E32: <Select One> | G32: =LEN(F32) -> 0
B33: G | C33: Formal fee and rates proposed on company letterhead | D33: Provide as Attachment | E33: <Select One> | G33: =LEN(F33) -> 0

Sheet FF 2.0 VIS ASO FEE
B1: =INPUT!$C$3 -> Albemarle
B2: =INPUT!$D$11 -> RFP#<######>
B3: =INPUT!$C$23 -> Vision
B4: =INPUT!$F$53 -> Financial Proposal Form 2.0 - Administrative Services Only (ASO) Fees
B6: Bidder Name | C6: ='Instructions & Info'!$C$42 -> 0
C8: =INPUT!D112 -> BlueView Vision | H8: =INPUT!F112 -> Vision Embedded
B9: VISION (ASO) | C9: Current Plan Design | H9: Current Plan Design
B10: Enrollment (Monthly)
B11: Enrolled Subscribers | C11: =INPUT!D124 -> 2580
B12: Waived Subscribers
B13: Total
B14: FEES - Per Subscriber Per Month (PSPM) | C14: Mature Basis ($) | D14: Included in Base Admin Fee | E14: Optional / Buy-Up | F14: Comments | H14: Mature Basis ($) | I14: Included in Base Admin Fee | J14: Optional / Buy-Up | K14: Comments
B15: Base Administrative Fee | C15: <Enter Amount> | H15: <Enter Amount>
B16: Network Access Fee | C16: <Enter Amount> | D16: <Select One> | E16: <Select One> | H16: <Enter Amount> | I16: <Select One> | J16: <Select One>
B17: Network/Vendor Interface Fee | C17: <Enter Amount> | D17: <Select One> | E17: <Select One> | H17: <Enter Amount> | I17: <Select One> | J17: <Select One>
C18: <Enter Amount> | D18: <Select One> | E18: <Select One> | H18: <Enter Amount> | I18: <Select One> | J18: <Select One>
B19: Claims Fiduciary - As claims fiduciary, you will be responsible for final claims determination and the legal defense of disputed benefits payments for vision. | C19: <Enter Amount> | D19: <Select One> | E19: <Select One> | H19: <Enter Amount> | I19: <Select One> | J19: <Select One>
B20: Self-funded run-off claims for 12 months following the termination | C20: <Enter Amount> | D20: <Select One> | E20: <Select One> | H20: <Enter Amount> | I20: <Select One> | J20: <Select One>
B21: ID Card(s) Printed and Mailed to New Members | C21: <Enter Amount> | D21: <Select One> | E21: <Select One> | H21: <Enter Amount> | I21: <Select One> | J21: <Select One>
B22: Benefit Summaries and Evidence or Certificate of Coverage | C22: <Enter Amount> | D22: <Select One> | E22: <Select One> | H22: <Enter Amount> | I22: <Select One> | J22: <Select One>
B23: Estimate the Cost of Care Tool | C23: <Enter Amount> | D23: <Select One> | E23: <Select One> | H23: <Enter Amount> | I23: <Select One> | J23: <Select One>
B24: Ad hoc Reporting | C24: <Enter Amount> | D24: <Select One> | E24: <Select One> | H24: <Enter Amount> | I24: <Select One> | J24: <Select One>
B25: Other (Name) | C25: <Enter Amount> | D25: <Select One> | E25: <Select One> | H25: <Enter Amount> | I25: <Select One> | J25: <Select One>
B26: Other (Name) | C26: <Enter Amount> | D26: <Select One> | E26: <Select One> | H26: <Enter Amount> | I26: <Select One> | J26: <Select One>
B27: TOTAL ADMINISTRATIVE FEES
B28: TOTAL ANNUAL FIXED COST | C28: =C27*12*C11 -> 0 | H28: =H27*12*H11 -> 0
B29: EXPECTED CLAIMS | D29: Comments | I29: Comments
B30: Expected Monthly Claims PSPM (Mature Year)
B31: % Trend Factor
B32: Trend Months Projected
B33: ADMINISTRATIVE FEE / PREMIUM RATE GUARANTEES | C33: Provide Fee Cap or Guarantee for all Years of Contract | H33: Provide Fee Cap or Guarantee for all Years of Contract
B34: ="YEAR 2 - "&YEAR(INPUT!$C$8)+1 -> YEAR 2 - 2029
B35: ="YEAR 3 - "&YEAR(INPUT!$C$8)+2 -> YEAR 3 - 2030
B36: ="YEAR 4 - "&YEAR(INPUT!$C$8)+3 -> YEAR 4 - 2031
B37: ="YEAR 5 - "&YEAR(INPUT!$C$8)+4 -> YEAR 5 - 2032
B38: GUARANTEES | C38: Dollar, % Admin Fee and/or PSPM | H38: Dollar, % Admin Fee and/or PSPM
B39: Provider Recruitment Guarantee
B40: In-Network Utilization Guarantee
B41: Trend OR Discount Guarantee
B42: Other (Name)
...

Sheet FF 3.0 VIS PEQ Rates
B1: =INPUT!$C$3 -> Albemarle
B2: =INPUT!$D$11 -> RFP#<######>
B3: =INPUT!$C$23 -> Vision
B4: =INPUT!$F$54 -> Financial Proposal Form 3.0 - Vision Premium Equivalent Rates
B6: Bidder Name | C6: ='Instructions & Info'!$C$42 -> 0
B8: Provide Rate Equivalents for Current Self-Insured Funding Arrangement and Current Benefits
B10: =INPUT!D112 -> BlueView Vision
B11: Premium Equivalents | C11: =INPUT!C117 -> Subscriber Only | D11: =INPUT!C118 -> Subscriber + Spouse | E11: =INPUT!C119 -> Subscriber + Child | F11: =INPUT!C120 -> Subscriber + Child(ren) | G11: =INPUT!C121 -> Family
B12: Current Enrollment | C12: =INPUT!D117 -> 1466 | D12: =INPUT!D118 -> 326 | E12: =INPUT!D119 -> 254 | F12: =INPUT!D120 -> 192 | G12: =INPUT!D121 -> 342
B13: Proposed Premium Equivalent Rate
B14: Total Monthly Premium Equivalent | C14: =SUMPRODUCT(C12:G12,C13:G13) -> 0
B16: Fixed Cost Components (included in above rates) | C16: =C11 -> Subscriber Only | D16: =D11 -> Subscriber + Spouse | E16: =E11 -> Subscriber + Child | F16: =F11 -> Subscriber + Child(ren) | G16: =G11 -> Family
B17: Administrative Fee (PSPM)
B18: Network Access Fee (PSPM)
B19: Fixed Cost | C19: =C17+C18 -> 0 | D19: =D17+D18 -> 0 | E19: =E17+E18 -> 0 | F19: =F17+F18 -> 0 | G19: =G17+G18 -> 0
B20: Total Monthly Fixed Cost | C20: =SUMPRODUCT(C12:G12,C19:G19) -> 0
B21: *PSPM - Per Subscriber Per Month
B23: RATE GUARANTEE End Date
B26: =INPUT!F112 -> Vision Embedded
B27: Premiums | C27: =INPUT!E117 -> Subscriber Only | D27: =INPUT!E118 -> Subscriber + Spouse | E27: =INPUT!E119 -> Subscriber + Child(ren) | F27: =INPUT!E120 -> Family | G27: =INPUT!E121 -> 0
B28: Current Enrollment | C28: =INPUT!F117 -> 1729 | D28: =INPUT!F118 -> 263 | E28: =INPUT!F119 -> 378 | F28: =INPUT!F120 -> 426 | G28: =INPUT!F121 -> 494
B29: Proposed Premium Rates
B30: Total Monthly Premium Equivalent | C30: =SUMPRODUCT(C28:G28,C29:G29) -> 0
B32: Fixed Cost Components (included in above rates) | C32: =C27 -> Subscriber Only | D32: =D27 -> Subscriber + Spouse | E32: =E27 -> Subscriber + Child(ren) | F32: =F27 -> Family | G32: =G27 -> 0
B33: Administrative Fee (PSPM)
B34: Network Access Fee (PSPM)
B35: Fixed Cost | C35: =C33+C34 -> 0 | D35: =D33+D34 -> 0 | E35: =E33+E34 -> 0 | F35: =F33+F34 -> 0 | G35: =G33+G34 -> 0
B36: Total Monthly Fixed Cost | C36: =SUMPRODUCT(C28:G28,C35:G35) -> 0
B37: *PSPM - Per Subscriber Per Month
B40: RATE GUARANTEE End Date

Sheet FF 2.0 VIS FI Rates
B1: =INPUT!$C$3 -> Albemarle
B2: =INPUT!$D$11 -> RFP#<######>
B3: =INPUT!$C$23 -> Vision
B4: =INPUT!$F$55 -> Financial Proposal Form 2.0 - Vision Fully-Insured Premiums
B6: Bidder Name | C6: ='Instructions & Info'!$C$42 -> 0
B8: Provide Premium Rates for Current Fully-Insured Funding Arrangement and Current Benefits
B10: =INPUT!D112 -> BlueView Vision
B11: Premiums | C11: =INPUT!C117 -> Subscriber Only | D11: =INPUT!C118 -> Subscriber + Spouse | E11: =INPUT!C119 -> Subscriber + Child | F11: =INPUT!C120 -> Subscriber + Child(ren) | G11: =INPUT!C121 -> Family
B12: Current Enrollment | C12: =INPUT!D117 -> 1466 | D12: =INPUT!D118 -> 326 | E12: =INPUT!D119 -> 254 | F12: =INPUT!D120 -> 192 | G12: =INPUT!D121 -> 342
B13: Proposed Premium Rates
B14: Total Monthly Premiums | C14: =SUMPRODUCT(C12:G12,C13:G13) -> 0
B18: =INPUT!F112 -> Vision Embedded
B19: Premiums | C19: =INPUT!E117 -> Subscriber Only | D19: =INPUT!E118 -> Subscriber + Spouse | E19: =INPUT!E119 -> Subscriber + Child(ren) | F19: =INPUT!E120 -> Family | G19: =INPUT!E121 -> 0
B20: Current Enrollment | C20: =INPUT!F117 -> 1729 | D20: =INPUT!F118 -> 263 | E20: =INPUT!F119 -> 378 | F20: =INPUT!F120 -> 426 | G20: =INPUT!F121 -> 494
B21: Proposed Premium Rates
B22: Total Monthly Premiums | C22: =SUMPRODUCT(C20:G20,C21:G21) -> 0
B30: RATE GUARANTEE End Date

Sheet FF 5.0 VIS CPT Allowed
B1: =INPUT!$C$3 -> Albemarle
B2: =INPUT!$D$11 -> RFP#<######>
B3: =INPUT!$C$23 -> Vision
B4: =INPUT!F56 -> Financial Proposal Form 5.0 - Top Vision CPT Pricing by Zip Codes
B6: TOP VISION CPT CODE PRICING
B7: Please enter your allowed amounts by procedure (in and out of network)
D9: Bidder Name | E9: ='Instructions & Info'!$C$42 -> 0
D11: Network Name: | E11: <Enter Proposed Network>
C13: 3-Digit Zip: | E13: =INPUT!E140 -> xx | H13: =INPUT!E141 -> xx | K13: =INPUT!E142 -> xx | N13: =INPUT!E143 -> xx | Q13: =INPUT!E144 -> xx | T13: =INPUT!E145 -> xx
B15: Procedure Code | C15: Procedure Description | E15: In-Network | F15: Out-of- Network | H15: In-Network | I15: Out-of- Network | K15: In-Network | L15: Out-of- Network | N15: In-Network | O15: Out-of- Network | Q15: In-Network | R15: Out-of- Network | T15: In-Network | U15: Out-of- Network
B16: 92002 | C16: OPHTH SERV: MED EXAM & EVAL; INTERMED NEW PT
B17: 92004 | C17: OPHTH SERV: MED EXAM; COMP NEW PT 1/MORE VISITS
B18: 92012 | C18: OPHTH SERV: MED EXAM & EVAL; INITERMED ESTAB PT
B19: 92014 | C19: OPHTH SERV: MED EXAM & EVAL; COMP ESTAB PT
B20: 92015 | C20: DETERM REFRACTIVE STATE
B21: 92072
B22: 92250
B23: 92310 | C23: SCRIPT & FIT CONTACT LENS; CORNEAL EX APHAKIA
B24: S0500 | C24: DISPOSABLE CONTACT LENS, PER LENS
B25: S0518
B26: S0581 | C26: NON-STANDARD LENS
B27: S0620 | C27: ROUTINE OPHTHALMOLOGICAL EXAMINATION INCLUDING REF
B28: S0621 | C28: ROUTINE OPHTHALMOLOGICAL EXAMINATION INCLUDING REF
B29: S0800 | C29: LASER SURGERY
B30: V2020 | C30: FRAMES PURCHASES
B31: V2025
B32: V2100 | C32: SPHERE 1VIS PLANO +/- 4.00 PER LENS
B33: V2101 | C33: SPHERE 1VIS +/- 4.12-7.00D PER LENS
B34: V2102 | C34: SPHERE 1VIS +/- 7.12-20.00D PER LENS
B35: V2103 | C35: SPHEROCYLINDER 1VIS PLANO +/-4.0S .12-2.00C EA
B36: V2104 | C36: SPHEROCYLINDER 1VIS PLANO +/-4.0S 2.12-4.0C EA
B37: V2105 | C37: SPHEROCYLINDER 1VIS PLANO +/-4.0S 4.25-6.0C EA
B38: V2107 | C38: SPHEROCYLINDER 1VIS +/- 4.25-7.00S .12-2.00C EA
B39: V2108 | C39: SPHEROCYLINDER 1VIS +/- 4.25-7.00S 2.12-4.00D EA
B40: V2111 | C40: SPHEROCYLINDER 1VIS 4.25-7.00S OVER 6.00C EA
B41: V2112 | C41: SPHEROCYLINDER 1VIS +/- 7.25-12.0S .25-2.25C EA
B42: V2199 | C42: NOT OTHERWISE CLASSIFIED SINGLE VIS LENS
B43: V2200 | C43: SPHERE BIFOC PLANO TO +/- 4.00D PER LENS
... B54: V2303 | C54: SPHEROCYLINDER TRIFOC PLANO +/-4.0S .12-2.0C EA
B55: V2410
...

Sheet FF 6.0 VIS CPT Covered
B1: =INPUT!$C$3 -> Albemarle
B2: =INPUT!$D$11 -> RFP#<######>
B3: =INPUT!$C$23 -> Vision
B4: =INPUT!$F$58 -> Financial Proposal Form 6.0 - Top CPT Pricing by Zip Codes (Covered)
B6: Provide average COVERED AMOUNT for each 3-digit zip code
C8: Bidder Name | D8: ='Instructions & Info'!$C$42 -> 0
C9: Exams | G9: Frames | J9: Lenses (Single Vision, Bifocal, Trifocal) | O9: Progressive Lenses | P9: Contacts & Fit | R9: Contact Lenses | T9: Vision Services | AC9: Other
C10: 92002 | D10: 92004 | E10: 92012 | F10: 92014 | G10: V2020 | H10: V2025 | I10: S0518 | J10: V2100 | K10: V2200 | L10: V2300 | M10: V2410 | N10: V2499 | O10: V2781 | P10: 92072 | Q10: 92310 | R10: S0500 | S10: V2599 | T10: V2744 | U10: V2745 | V10: V2750 | W10: V2755 | X10: V2762 | Y10: V2783 | Z10: V2784 | AA10: V2797 | AB10: V2799 | AC10: 92250
B11: 3-Digit Zips
B12: =INPUT!E140 -> xx
B13: =INPUT!E141 -> xx
B14: =INPUT!E142 -> xx
B15: =INPUT!E143 -> xx
B16: =INPUT!E144 -> xx
B17: =INPUT!E145 -> xx
B18: =INPUT!E146 -> 0
B19: =INPUT!E147 -> 0
B20: =INPUT!E148 -> 0
B21: =INPUT!E149 -> 0
B22: =INPUT!E150 -> 0
B23: =INPUT!E151 -> 0
... B35: =INPUT!E163 -> 0

Sheet FF 6.0 VIS CPT Retail
B1: =INPUT!$C$3 -> Albemarle
B2: =INPUT!$D$11 -> RFP#<######>
B3: =INPUT!$C$23 -> Vision
B4: =INPUT!$F$57 -> Financial Proposal Form 6.0 - Top CPT Pricing by Zip Codes (Retail)
B6: Provide average RETAIL AMOUNT for each 3-digit zip code
C8: Bidder Name | D8: ='Instructions & Info'!$C$42 -> 0
C9: Exams | G9: Frames | J9: Lenses (Single Vision, Bifocal, Trifocal) | O9: Progressive Lenses | P9: Contacts & Fit | R9: Contact Lenses | T9: Vision Services | AC9: Other
C10: 92002 | D10: 92004 | E10: 92012 | F10: 92014 | G10: V2020 | H10: V2025 | I10: S0518 | J10: V2100 | K10: V2200 | L10: V2300 | M10: V2410 | N10: V2499 | O10: V2781 | P10: 92072 | Q10: 92310 | R10: S0500 | S10: V2599 | T10: V2744 | U10: V2745 | V10: V2750 | W10: V2755 | X10: V2762 | Y10: V2783 | Z10: V2784 | AA10: V2797 | AB10: V2799 | AC10: 92250
B11: 3-Digit Zips
B12: =INPUT!E140 -> xx
B13: =INPUT!E141 -> xx
B14: =INPUT!E142 -> xx
B15: =INPUT!E143 -> xx
B16: =INPUT!E144 -> xx
B17: =INPUT!E145 -> xx
B18: =INPUT!E146 -> 0
B19: =INPUT!E147 -> 0
B20: =INPUT!E148 -> 0
B21: =INPUT!E149 -> 0
B22: =INPUT!E150 -> 0
B23: =INPUT!E151 -> 0
... B35: =INPUT!E163 -> 0

Sheet FF 3.0 PG
B1: =INPUT!$C$3 -> Albemarle
B2: =INPUT!$D$11 -> RFP#<######>
B3: =INPUT!$C$23 -> Vision
B4: =INPUT!F39 -> Financial Proposal Form 3.0 - Performance Guarantees
B6: Please confirm your acceptance of the Minimum Standard for each performance guarantee metric and the correlating fees at risk. These commitments must be client-specific and not reflective of your overall book of business.
B7: If you are able to provide an Alternative Minimum Standard for any of the items (i.e., over and above the Minimum Standard), please detail these Alternative Minimum Standards.
C9: Bidder Name | D9: ='Instructions & Info'!$C$42 -> 0
B11: Implementation (First Year Only) | E11: Total Max %/$ of Fees At Risk
B12: Ongoing Performance Guarantees (Annually) | E12: Total Max %/$ of Fees At Risk
B14: Service Category | C14: Minimum Standards/Results | D14: Response | E14: Alternative Minimum Standard (Describe) | F14: Required Percent of Fees at Risk | G14: Frequency
B15: Implementation | C15: Code benefits in the systems (claims, member services, etc.) with 100% accuracy | D15: <Select One> | G15: <Select One>
C16: Provide benefits and financial contracts within two months of the plan effective date | D16: <Select One> | G16: <Select One>
B17: Eligibility | C17: Eligibility updates: System must be updated within 2 business days of receipt of enrollment/eligibility data ; receipts after 4:00 pm are recorded as the following business day. | D17: <Select One> | G17: <Select One>
C18: Manual eligibility updates: Emergency requests completed within one hour; rush requests completed by close of business the same day | D18: <Select One> | G18: <Select One>
C19: Eligibility updates will be guaranteed with 98% accuracy. | D19: <Select One> | G19: <Select One>
B20: ID Cards | C20: Timely delivery of initial ID cards: 99% mailed within 10 business days after eligibility data has been provided by the County. This includes all initial ID cards for new enrollees. | D20: <Select One> | G20: <Select One>
C21: Accuracy of new and replacement ID cards: 100% of all ID cards will contain accurate information compared to the enrollment information furnished by the County. | D21: <Select One> | G21: <Select One>
B22: Account Management | C22: Average evaluation score of 4.0 or higher out of 5 or 85% satisfaction. | D22: <Select One> | G22: <Select One>
C23: Client inquiry: Response Less than or equal to 2 business days | D23: <Select One> | G23: <Select One>
B24: Network Maintenance | C24: Network utilization rate must be 80% or greater | D24: <Select One> | G24: <Select One>
C25: Report loss of providers and provider groups with membership greater than 50 employees within 10 days of notification of plan withdrawal | D25: <Select One> | G25: <Select One>
B26: Claims Administration | C26: 95.0% of all claims processed within 5 business days | D26: <Select One> | G26: <Select One>
C27: 99% financial (dollar) accuracy the total dollar amount paid correctly in the sample divided by the total dollar amount paid in the sample. | D27: <Select One> | G27: <Select One>
C28: 97% payment accuracy the number of claims in the sample without payment errors divided by the total number of claims in the sample. | D28: <Select One> | G28: <Select One>
C29: 95% processing accuracy the number of claims in the sample without payment or nonpayment errors divided by the total number of claims in the sample | D29: <Select One> | G29: <Select One>
B30: Customer Service | C30: Average speed of answer will be less than 25 seconds | D30: <Select One> | G30: <Select One>
C31: Call abandonment rate will be 3% or less, reported annually | D31: <Select One> | G31: <Select One>
C32: Same day call resolution will be > 98% | D32: <Select One> | G32: <Select One>
C33: Complaint acknowledgement within five business days (all cases) | D33: <Select One> | G33: <Select One>
C34: Complaint resolution within 30 calendar days (all cases) | D34: <Select One> | G34: <Select One>
C35: 85% of participants that respond to the Enrollee Satisfaction Survey will rate carrier overall as Good, Very Good or Excellent. | D35: <Select One> | G35: <Select One>
C36: Preferred provider retention rate of > 90% (based on voluntary turnover) | D36: <Select One> | G36: <Select One>
B37: Web Portal Availability | C37: Portal must be available for all members to access 99% of the time | D37: <Select One> | G37: <Select One>
C38: All members must have access to enroll in an online member account within 30 days of their enrollment. | D38: <Select One> | G38: <Select One>
B39: Client Reporting | C39: Client-specific reporting package as agreed upon will be provided within 25 days from the close of the month. | D39: <Select One> | G39: <Select One>
B40: TOTAL ADMINISTRATION AT RISK | F40: =SUM(F15:F39) -> 0 | G40: <Select One>
B41: Unless specified above, the length of the Performance Guarantee period will follow the term of the sold contract period.
