Workbook

Sheet Rate History
B1: =INPUT!$C$3 -> Albemarle
B2: =INPUT!$D$11 -> RFP#<######>
B3: =INPUT!$C$23 -> Dental
B4: Rate History - Monthly Rates
B8: =INPUT!$C$16 -> Dental | E8: Enrollment | G8: =INPUT!D8 -> 46023 | H8: =EDATE(G8,-12) -> 45658 | I8: =EDATE(H8,-12) -> 45292 | J8: =EDATE(I8,-12) -> 44927
B9: =INPUT!C3 -> Albemarle | C9: ASO Fee | E9: --
C11: Plan Name | G11: =INPUT!D168 -> Low
C12: Subscriber Only | E12: =INPUT!D173 -> 496
C13: Subscriber + Spouse | E13: =INPUT!D174 -> 79
C14: Subscriber + Child | E14: =INPUT!D175 -> 76
C15: Subscriber + Child(ren) | E15: =INPUT!D176 -> 67
C16: Family | E16: =INPUT!D177 -> 121
E17: =INPUT!D178 -> 0
C19: Plan Name | G19: =INPUT!F168 -> High
C20: =C12 -> Subscriber Only | E20: =INPUT!F173 -> 1236
C21: =C13 -> Subscriber + Spouse | E21: =INPUT!F174 -> 278
C22: =C14 -> Subscriber + Child | E22: =INPUT!F175 -> 256
C23: =C15 -> Subscriber + Child(ren) | E23: =INPUT!F176 -> 248
C24: =C16 -> Family | E24: =INPUT!F177 -> 513
C25: =C17 -> 0 | E25: =INPUT!F178 -> 0
C27: Plan Name | G27: =INPUT!H168 -> Dental C
C28: =C20 -> Subscriber Only | E28: =INPUT!H173 -> 0
C29: =C21 -> Subscriber + Spouse | E29: =INPUT!H174 -> 0
C30: =C22 -> Subscriber + Child | E30: =INPUT!H175 -> 0
C31: =C23 -> Subscriber + Child(ren) | E31: =INPUT!H176 -> 0
C32: =C24 -> Family | E32: =INPUT!H177 -> 0
C33: =C25 -> 0 | E33: =INPUT!H178 -> 0
C35: Plan Name | G35: =INPUT!J168 -> Dental D
C36: =C28 -> Subscriber Only | E36: =INPUT!J173 -> 0
C37: =C29 -> Subscriber + Spouse | E37: =INPUT!J174 -> 0
C38: =C30 -> Subscriber + Child | E38: =INPUT!J175 -> 0
C39: =C31 -> Subscriber + Child(ren) | E39: =INPUT!J176 -> 0
C40: =C32 -> Family | E40: =INPUT!J177 -> 0
C41: =C33 -> 0 | E41: =INPUT!J178 -> 0

Sheet INPUT
B1: Key: | C1: Internal Inputs (Bolton) | D1: Bidder Inputs | K1: Internal Instructions
K2: -Hide this worksheet before releasing to Market
B3: Group Name: | C3: Albemarle | D3: Group Abbreviation: | E3: <Abbreviation> | F3: Additional Group Name: | G3: <Other Group Name>
B5: Sub-Groups: | C5: <Sub-group 1> | D5: <Sub-group 2> | E5: <Sub-group 3> | F5: <Sub-group 4> | G5: <Sub-group 5> | S5: TF | T5: Technical Form
C7: Effective Date (MM/DD/YYY) | D7: Current YTD | E7: Prior Year 1 | F7: Prior Year 2 | S7: PF | T7: Proposal Form
B8: Plan Years: | C8: 46753 | D8: 46023 | E8: 45658 | F8: 45292 | S8: BF | T8: Bid Form
D10: Final For Reference
B11: RFP# | C11: <######> | D11: =B11&C11 -> RFP#<######>
B13: Proposal Form Type: | C13: Technical Proposal | D13: Price Proposal | K13: Internal Checklist:
F14: Rate Guarantee: | K14: Is everything printer friendly
B15: Benefit Coverage / Services: | F15: Years | K15: Group Name Changed
B16: Benefit Name 1 | C16: Dental | F16: 3 | G16: Three | K16: Worksheet Forms coordinate with name of Worksheet Tab Name
B17: Benefit Name 2 | F17: 3 | G17: Three | K17: Worksheet Form coordinates with table of contents and specific questions referencing Worksheet Form
B18: Benefit Name 3 | F18: 3 | G18: Three | K18: Roboto Font
B19: Benefit Name 4 | F19: 3 | G19: Three | K19: Sheets are protected
B20: Benefit Name 5 | F20: 3 | G20: Three
B21: Benefit Name 6
B23: Final For Reference | C23: Dental | E23: Final For Reference | F23: =G16&" ("&F16&")"&" Years" -> Three (3) Years
B35: Applicable Coverages | C35: Proposal Form | D35: # | E35: Name | F35: Final For Reference (Worksheet Name) | G35: Worksheet Tab
B36: ~ | C36: ~ | D36: ~ | E36: ~ | F36: ~ | G36: ~
B37: ALL | C37: Technical | D37: 1.0 | E37: General Questionnaire | F37: =C37&" Proposal Form "&D37&" - "&E37 -> Technical Proposal Form 1.0 - General Questionnaire | G37: =LEFT(C37,1)&"F "&D37 -> TF 1.0 | J37: 1 | K37: Technical Form
B38: ALL | C38: Technical | D38: 1.1 | E38: Client Specific Questionnaire | F38: =C38&" Proposal Form "&D38&" - "&E38 -> Technical Proposal Form 1.1 - Client Specific Questionnaire | G38: =LEFT(C38,1)&"F "&D38 -> TF 1.1
B39: DEN | C39: Technical | D39: 1.2 | E39: Dental Questionnaire | F39: =C39&" Proposal Form "&D39&" - "&E39 -> Technical Proposal Form 1.2 - Dental Questionnaire | G39: =LEFT(C39,1)&"F "&D39 -> TF 1.2 | J39: 0.17 | K39: VISION
B40: DEN | C40: Technical | D40: 2.0 | E40: Dental Geo Access PPO | F40: =C40&" Proposal Form "&D40&" - "&E40 -> Technical Proposal Form 2.0 - Dental Geo Access PPO | G40: =LEFT(C40,1)&"F "&D40 -> TF 2.0
B41: DEN | C41: Technical | D41: 2.1 | E41: Dental Providers by County | F41: =C41&" Proposal Form "&D41&" - "&E41 -> Technical Proposal Form 2.1 - Dental Providers by County | G41: =LEFT(C41,1)&"F "&D41 -> TF 2.1 | K41: DENTAL
B42: DEN | C42: Technical | D42: 3.0 | E42: Top Dental Providers | F42: =C42&" Proposal Form "&D42&" - "&E42 -> Technical Proposal Form 3.0 - Top Dental Providers | G42: =LEFT(C42,1)&"F "&D42 -> TF 3.0 | K42: DENTAL
B43: DEN | C43: Technical | D43: 4.0 | E43: Proposed Dental Plan Design | F43: =C43&" Proposal Form "&D43&" - "&E43 -> Technical Proposal Form 4.0 - Proposed Dental Plan Design | G43: =LEFT(C43,1)&"F "&D43 -> TF 4.0
B44: ALL | C44: Technical | D44: 5.0 | E44: Deviations | F44: =C44&" Proposal Form "&D44&" - "&E44 -> Technical Proposal Form 5.0 - Deviations | G44: =LEFT(C44,1)&"F "&D44 -> TF 5.0 | J44: 0.13 | K44: VISION
B45: ALL | C45: Technical | D45: 6.0 | E45: Key Differentiators | F45: =C45&" Proposal Form "&D45&" - "&E45 -> Technical Proposal Form 6.0 - Key Differentiators | G45: =LEFT(C45,1)&"F "&D45 -> TF 6.0 | J45: 0.14 | K45: VISION
B46: ALL | C46: Technical | D46: 7.0 | E46: References | F46: =C46&" Proposal Form "&D46&" - "&E46 -> Technical Proposal Form 7.0 - References | G46: =LEFT(C46,1)&"F "&D46 -> TF 7.0 | J46: 0.15 | K46: VISION
J47: 0.16 | K47: VISION
J48: 0.18 | K48: VISION
K49: DENTAL
J50: 0.19 | K50: VISION
J51: 0.2 | K51: DENTAL
J52: 0.21 | K52: DENTAL
B54: DEN | C54: Financial | D54: 1.0 | E54: Dental Price Questionnaire | F54: =C54&" Proposal Form "&D54&" - "&E54 -> Financial Proposal Form 1.0 - Dental Price Questionnaire | G54: =LEFT(C54,1)&"F "&D54 -> FF 1.0
B55: DEN | C55: Financial | D55: 2.0 | E55: Administrative Services Only (ASO) Fees | F55: =C55&" Proposal Form "&D55&" - "&E55 -> Financial Proposal Form 2.0 - Administrative Services Only (ASO) Fees | G55: =LEFT(C55,1)&"F "&D55 -> FF 2.0
B56: DEN | C56: Financial | D56: 2.1 | E56: DHMO Fee schedule | F56: =C56&" Proposal Form "&D56&" - "&E56 -> Financial Proposal Form 2.1 - DHMO Fee schedule | G56: =LEFT(C56,1)&"F "&D56 -> FF 2.1
B57: DEN | C57: Financial | D57: 3.0 | E57: Monthly Premium Equivalent Rates | F57: =C57&" Proposal Form "&D57&" - "&E57 -> Financial Proposal Form 3.0 - Monthly Premium Equivalent Rates | G57: =LEFT(C57,1)&"F "&D57 -> FF 3.0
...

Sheet Instructions & Info
B1: =INPUT!$C$3 -> Albemarle
B2: =INPUT!$D$11 -> RFP#<######>
B3: =INPUT!$C$23 -> Dental
B4: Instructions
B6: Please Read:
B7: NOTICE: | C7: You must read these instructions in full and confirm you have read and understand them by entering your name and date in the appropriate fields at the bottom of this spreadsheet.
B8: Instructions: | C8: ="The following Proposal Forms in this workbook will be used to gather vendor responses in regards to your capabilities to provide the required services of this RFP to "&$B$1&". Your responses will be compared and scored against the other vendors responses. " -> The following Proposal Forms in this workbook will be used to gather vendor responses in regards to your capabilities to provide the required services of this RFP to Albemarle. Your responses will be compared and scored against the other vendors responses.
C9: Please do not modify the tabs. Modifying the tabs or layout may eliminate your company from consideration. Please do not: - Add or Delete Cells - Renumber or Add Questions - Delete Questions - If you cannot respond to a question please just note - 'No Response Available' or 'N/A'. Responses to questions should be brief and concise. 'Yes' or 'No' responses are encouraged when appropriate within the dropdown menu. The maximum amount of characters for a response is 500.
B10: Hold Harmless Agreement | C10: Vendor shall indemnify and hold harmless the Client, its respective directors, officers, employees (acting in the course of their employment, but not as claimants) and agents, against any and all liability or expense (including the cost of legal defense or settlement) which was caused by (vendor’s) negligent or intentional misconduct, breach of this Agreement, fraud, or its breach of fiduciary responsibility, related to or arising out of this Agreement or the Client’s role as employer or Plan sponsor. The party seeking indemnification under (a) above must notify the indemnifying party promptly in writing of any actual or threatened action, suit or proceeding to which it claims such indemnity applies. Failure to notify the indemnifying party shall be deemed a waiver of the right to seek indemnification. The party seeking indemnification may assume responsibility for the direction of its own defense at any time, including the right to settle or compromise any claim against it without the consent of the indemnifying party, provided that in doing so it shall be deemed to have waived its right to indemnification except in cases where the indemnifying party has declined to defend against the claim. The indemnification obligations of (vendor) shall terminate upon the expiration of the Agreement except as to any matter concerning which a claim has been asserted by notice to the other party at the time of such expiration or within 365 days after effective date of Agreement termination.
B11: RFP Information
B12: RFP Coverages: | C12: =INPUT!$C$23 -> Dental
B13: Effective Date for all Lines: | C13: =INPUT!$C$8 -> 46753
B14: Current Carrier(s): | C14: Coverage | D14: Carrier Name
C15: Dental | D15: Anthem
C17: Clinical Programs / Point Solutions | D17: CareATC
C18: HRIS / Benefits Administrator | D18: ADP
B19: Proposed Fee Guarantee: | C19: =INPUT!$F$23 -> Three (3) Years
B20: Notes:
B21: Current Commissions: | C21: N/A
B22: Requested Commissions: | C22: N/A
B23: RFP Timeline: | C23: Activity | D23: Date
C24: RFP Released | D24: 46297
C25: Deadline to submit questions | D25: 46336
C26: Addendum with responses released to vendors | D26: 46338
C27: RFPs due | D27: 46343
C28: Bidder interviews conducted (Optional) | D28: 46447
C29: Evaluate Financial RFP Responses, Score and Select Finalists (if applicable) or winning Vendor | D29: 46472
C30: Request BAFO (if applicable)
C31: BAFO Due (if applicable)
C32: Evaluate BAFO, Finalize Analysis and Recommendations (if applicable)
C33: Select Vendor | D33: 46539
C34: Implementation (including Open Enrollment) | D34: 46568
C35: Effective Date | D35: =[1]INPUT!$C$8 -> 46753
B36: Provided Data: | C36: Current plan documents: SBC/SPD as applicable - separate attachment | D36: Separate Attachment
C37: Census | D37: Separate Attachment
C38: Enrollment data | D38: Separate Attachment
C39: Claims data | D39: Separate Attachment
B42: Disclaimer & Intent to Bid: | C42: By entering my name and date below I am confirming my firm's intent to bid, that I have read the above instructions in full regarding providing responses to the Questions in this workbook, and completion of the proposal forms. I also confirm our firm understands the information provided in this Request for Proposal and all attachments is confidential and proprietary and will only be used to prepare a proposal response.
B43: Company:
B44: Name:
...

Sheet REPRICING FILE
B1: =INPUT!$C$3 -> Albemarle
B2: =INPUT!$D$11 -> RFP#<######>
B3: =INPUT!$C$23 -> Dental
B4: Dental Claims Repricing File
B6: Please complete the repricing excel file that was sent separately from this bidforms workbook:
B7: Albemarle_2028 RFP_Dental_Repricing.xlsb

Sheet FF 1.0 DEN Q
B1: =INPUT!$C$3 -> Albemarle
B2: =INPUT!$D$11 -> RFP#<######>
B3: =INPUT!$C$23 -> Dental
B4: =INPUT!F54 -> Financial Proposal Form 1.0 - Dental Price Questionnaire
B6: This Questionnaire is designed for you to answer specific questions regarding your organization and the services you are proposing. Please respond to these questions completely and accurately. Please choose from the drop down in the "Response" column when available and input your response in the "Additional Response" Section. Also provide attachments when applicable - see Attachments tab in this document for a full list of Attachments to submit with your proposal package.
E8: Bidder Name | F8: ='Instructions & Info'!$C$43 -> 0
B10: # | C10: Question | D10: ACTION | E10: RESPONSE | F10: ADDITIONAL RESPONSE | G10: Character Length
B11: 1 | C11: Confirm your proposed admin fees are mature for the 1st year. | D11: Provide Response | E11: <Select One> | G11: =LEN(F11) -> 0
B12: =B11+1 -> 2 | C12: Confirm your administration fees are firm for a minimum of 3 years | D12: Provide Response | E12: <Select One> | G12: =LEN(F12) -> 0
B13: =B12+1 -> 3 | C13: Which funding arrangement are you proposing for the proposed standardized plans? E.g. Fully-Insured, Self-Insured, Hybrid, etc. | D13: Provide Response | E13: <Select One> | G13: =LEN(F13) -> 0
B14: =B13+1 -> 4 | C14: Confirm you agree to a self-billing format for administrative fees. | D14: Provide Response | E14: <Select One> | G14: =LEN(F14) -> 0
B15: =B14+1 -> 5 | C15: Confirm no advance deposits or prefunding of claims is required. | D15: Provide Response | E15: <Select One> | G15: =LEN(F15) -> 0
B16: =B15+1 -> 6 | C16: Describe any late penalties that may be assessed. | D16: Provide Response | E16: <Select One> | G16: =LEN(F16) -> 0
B17: =B16+1 -> 7 | C17: How do you determine your fee schedule for Dental claims? | D17: Provide Response | E17: <Select One> | G17: =LEN(F17) -> 0
B18: =B17+1 -> 8 | C18: How often do you update your fee schedule for the Dental provider network(s) for the plan you are proposing? | D18: Provide Response | E18: <Select One> | G18: =LEN(F18) -> 0
B19: =B18+1 -> 9 | C19: Confirm you can provide ID card preparation, printing and mailing to employee's home at no additional cost. If there is an additional cost, please describe. | D19: Provide Response | E19: <Select One> | G19: =LEN(F19) -> 0
B20: =B19+1 -> 10 | C20: Will there be any implementation fees should the business be awarded? | D20: Provide Response | E20: <Select One> | G20: =LEN(F20) -> 0
B21: =B20+1 -> 11 | C21: Will you provide an implementation credit if awarded the business? | D21: Provide Response | E21: <Select One> | G21: =LEN(F21) -> 0
B22: =B21+1 -> 12 | C22: Will you offer any communication credits? Please specify amount and if this credit will be provided for all years of the awarded contract (3 years plus 2, 1-year extensions)? Also describe any limitations to the use of this credit and documentation required. | D22: Provide Response | E22: <Select One> | G22: =LEN(F22) -> 0
B23: =B22+1 -> 13 | C23: Will you offer any technology credits? Please specify amount and if this credit will be provided for all years of the awarded contract (3 years plus 2, 1-year extensions)? Also describe any limitations to the use of this credit and documentation required. | D23: Provide Response | E23: <Select One> | G23: =LEN(F23) -> 0
B24: =B23+1 -> 14 | C24: Will you offer any discretionary credits? Please specify amount and if this credit will be provided for all years of the awarded contract (3 years plus 2, 1-year extensions)? Also describe any limitations to the use of this credit and documentation required. | D24: Provide Response | E24: <Select One> | G24: =LEN(F24) -> 0
B25: =B24+1 -> 15 | C25: Is there any impact to rates/fees if you are awarded multiple lines of coverage? | D25: Provide Response | E25: <Select One> | G25: =LEN(F25) -> 0 | I25: Remove if no other awards being marketed together
B26: =B25+1 -> 16 | C26: Indicate whether billing statements and accompanying paid claims detail are available online to the Group's benefits personnel. | D26: Provide Response | E26: <Select One> | G26: =LEN(F26) -> 0
B27: =B26+1 -> 17 | C27: Confirm renewals will be delivered by 180 days prior to the start of each renewal plan year. | D27: Provide Response | E27: <Select One> | G27: =LEN(F27) -> 0
B28: =B27+1 -> 18 | C28: Confirm fees are final regardless of plan enrollment unless enrollment changes by +/- 15% | D28: Provide Response | E28: <Select One> | G28: =LEN(F28) -> 0
B29: =B28+1 -> 19 | C29: How will renewals be calculated for a group of this size? | D29: Provide Response | E29: <Select One> | G29: =LEN(F29) -> 0
B30: =B29+1 -> 20 | C30: Provide a thorough explanation of how paid claim reports are reconciled to billing invoices. | D30: Provide Response | E30: <Select One> | G30: =LEN(F30) -> 0
B31: =B30+1 -> 21 | C31: Describe how claims are funded and frequency of funding. Please describe the reconciliation process. | D31: Provide Response | E31: <Select One> | G31: =LEN(F31) -> 0
B32: =B31+1 -> 22 | C32: List all online benefit administration platforms you integrate with, and if you provide a PEPM offset or other credit to the benefit administration fee if one of these platforms are used in the future. Please list the amount of credit or offset that would be provided in the event a new online benefit administration system is implemented. | D32: Provide Response | E32: <Select One> | G32: =LEN(F32) -> 0
B33: =B32+1 -> 23 | C33: Does your proposal include any shared savings programs? If yes, list and identify what percent of savings are retained. Clarify when it applies, especially in situations with overlapping networks. This is often seen for out-of-network / non-participating providers. However in some cases, it may apply for in-network situations. | D33: Provide Response | E33: <Select One> | G33: =LEN(F33) -> 0
B34: ~ | C34: ATTACHMENTS - Please provide the following as attachments to your Price Proposal RFP Response IF INCLUDED IN YOUR OFFER: | G34: =LEN(F34) -> 0
B35: A | C35: Performance Guarantees | D35: Provide as Attachment | E35: <Select One> | G35: =LEN(F35) -> 0
B36: B | C36: Provider Recruitment Guarantee | D36: Provide as Attachment | E36: <Select One> | G36: =LEN(F36) -> 0
B37: C | C37: In-Network Utilization Guarantee | D37: Provide as Attachment | E37: <Select One> | G37: =LEN(F37) -> 0
B38: D | C38: Trend OR Discount Guarantee | D38: Provide as Attachment | E38: <Select One> | G38: =LEN(F38) -> 0
B39: E | C39: Description of any Cross Sell Discounts | D39: Provide as Attachment | E39: <Select One> | G39: =LEN(F39) -> 0
B40: F | C40: Descriptions of any other guarantees or financial offers should be attached | D40: Provide as Attachment | E40: <Select One> | G40: =LEN(F40) -> 0
B41: G | C41: Provide a sample contract. | D41: Provide as Attachment | E41: <Select One> | G41: =LEN(F41) -> 0

Sheet FF 2.0 DEN ASO Fee
B1: =INPUT!$C$3 -> Albemarle
B2: =INPUT!$D$11 -> RFP#<######>
B3: =INPUT!$C$23 -> Dental
B4: =INPUT!$F$55 -> Financial Proposal Form 2.0 - Administrative Services Only (ASO) Fees
B6: Bidder Name | C6: ='Instructions & Info'!$C$43 -> 0
B8: Network Name: | C8: <Enter Proposed Network> | I8: <Enter Proposed Network>
B10: Plans | C10: CURRENT PLANS | I10: PROPOSED <ACTIVES>
B11: DENTAL (ASO) | C11: CURRENT PLANS | I11: PROPOSED
B12: Enrollment (Monthly)
B13: Enrolled Subscribers | C13: =SUM('Rate History'!E11:E41) -> 3370
B15: Total | C15: =SUM(C13:D14) -> 3370 | I15: =C15 -> 3370
B16: FEES - Per Subscriber Per Month (PSPM) | C16: Without Shared Savings (Traditional) | D16: With Shared Savings | E16: Included in Base Admin Fee | F16: Fee Amount PSPM (if not included in Base Admin Fee) | G16: Comments | I16: With Shared Savings | J16: With Shared Savings | K16: Included in Base Admin Fee | L16: Fee Amount PSPM (if not included in Base Admin Fee) | M16: Comments
B17: Base Administrative Fee (Mature) | E17: <Select One> | K17: <Select One>
B18: Initial Plan Installation Fees (set-up fees) | E18: <Select One> | K18: <Select One>
B19: Network Access Fee | E19: <Select One> | K19: <Select One>
B20: Network/Vendor Interface Fee | E20: <Select One> | K20: <Select One>
B21: Utilization Review Fee | E21: <Select One> | K21: <Select One>
B22: Claims Fiduciary | E22: <Select One> | K22: <Select One>
B23: Self-funded run-off claims for 12 months following the termination | E23: <Select One> | K23: <Select One>
B24: ID Card(s) Printed and Mailed to New Members | E24: <Select One> | K24: <Select One>
B25: Benefit Summaries and Evidence or Certificate of Coverage | E25: <Select One> | K25: <Select One>
B26: Estimate the Cost of Care Tool | E26: <Select One> | K26: <Select One>
B27: Standard Reports Annually | E27: <Select One> | K27: <Select One>
B28: Ad hoc Reporting | E28: <Select One> | K28: <Select One>
... B30: Other (Name) | E30: <Select One> | K30: <Select One>
B31: TOTAL ADMINISTRATIVE FEES | C31: =SUM(C17:C30) -> 0 | D31: =SUM(D17:D30) -> 0 | I31: =SUM(I17:I30) -> 0 | J31: =SUM(J17:J30) -> 0
B32: TOTAL ANNUAL FIXED COST | C32: =C31*12*C13 -> 0 | D32: =D31*12*C13 -> 0 | I32: =I31*12*I13 -> 0 | J32: =J31*12*I13 -> 0
B33: EXPECTED CLAIMS
B34: Expected Monthly Claims PSPM
B35: % Trend Factor
B36: Trend Months Projected
B37: ADMINISTRATIVE FEE / PREMIUM RATE GUARANTEES | C37: Provide Fee Cap or Guarantee for all Years of Contract | I37: Provide Fee Cap or Guarantee for all Years of Contract
B38: ="YEAR 2 - "&YEAR(INPUT!$C$8)+1 -> YEAR 2 - 2029
B39: ="YEAR 3 - "&YEAR(INPUT!$C$8)+2 -> YEAR 3 - 2030
B40: ="YEAR 4 - "&YEAR(INPUT!$C$8)+3 -> YEAR 4 - 2031
B41: ="YEAR 5 - "&YEAR(INPUT!$C$8)+4 -> YEAR 5 - 2032
B42: GUARANTEES | C42: Dollar, % Admin Fee and/or PSPM | I42: Dollar, % Admin Fee and/or PSPM
B43: Provider Recruitment Guarantee
B44: In-Network Utilization Guarantee
B45: Trend OR Network Discount Guarantee
...

Sheet FF 2.1 DHMO Fee
B1: =INPUT!$C$3 -> Albemarle
B2: =INPUT!$D$11 -> RFP#<######>
B3: =INPUT!$C$23 -> Dental
B4: =INPUT!F56 -> Financial Proposal Form 2.1 - DHMO Fee schedule
B6: COMPLETE FOR THE DHMO PLAN YOU ARE QUOTING
B7: Please provide the deviated copay for the benefit if different from current
D8: Bidder Name | E8: ='Instructions & Info'!$C$43 -> 0 | K8: Sample
B9: Code | C9: Procedure Description | D9: Patient Charge Schedule | E9: Proposed Plan Deviations | K9: Patient Charge Schedule
B10: Office visit fee (Per patient, per office visit in addition to any other applicable patient charges)
C11: Office visit fee | K11: 0
B12: Diagnostic/preventive – Oral evaluations are limited to a combined total of 4 of the following evaluations during a 12 consecutive month period: periodic oral evaluations (D0120), comprehensive oral evaluations (D0150), comprehensive periodontal evaluations (D0180) and oral evaluations for patients under 3 years of age (D0145)
B13: D9310 | C13: Consultation (diagnostic service provided by dentist or physician other than requesting dentist or physician) | K13: 0
B14: D0120 | C14: Periodic oral evaluation – Established patient | K14: 0
B15: D0140 | C15: Limited oral evaluation – Problem focused | K15: 0
B16: D0145 | C16: Oral evaluation for a patient under 3 years of age and counseling with primary caregiver | K16: 0
B17: D0150 | C17: Comprehensive oral evaluation – New or established patient | K17: 0
B18: D0160 | C18: Detailed and extensive oral evaluation - Problem focused, by report (limit 2 per calendar year; only covered in conjunction with Temporomandibular Joint (TMJ) evaluation) | K18: 0
B19: D0170 | C19: Re-evaluation – Limited, problem focused (established patient; not post-operative visit) | K19: 0
B20: D0171 | C20: Re-evaluation – Post-operative office visit | K20: 0
B21: D0180 | C21: Comprehensive periodontal evaluation – New or established patient | K21: 0
B22: D0210 | C22: X-rays intraoral – Complete series of radiographic images (limit 1 every 3 years) | K22: 0
B23: D0220 | C23: X-rays intraoral – Periapical – First radiographic image | K23: 0
B24: D0230 | C24: X-rays intraoral – Periapical – Each additional radiographic image | K24: 0
... B54: D1110 | C54: Prophylaxis (cleaning) – Adult (limit 2 per calendar year) | K54: 0
C55: Additional prophylaxis (cleaning) – In addition to the 2 prophylaxes (cleanings) allowed per calendar year | K55: 41
B56: D1120 | C56: Prophylaxis (cleaning) – Child (limit 2 per calendar year) | K56: 0
C57: Additional prophylaxis (cleaning) – In addition to the 2 prophylaxes (cleanings) allowed per calendar year | K57: 30
B58: D1206 | C58: Topical application of fluoride varnish (limit 2 per calendar year). There is a combined limit of a total of 2 D1206s and/or D1208s per calendar year. | K58: 0
C59: Additional topical application of fluoride varnish in addition to any combination of two (2) D1206s (topical application of fluoride varnish) and/or D1208s (topical application of fluoride - excluding varnish) per calendar year | K59: 15
B60: D1208 | C60: Topical application of fluoride - Excluding varnish (limit 2 per calendar year) There is a combined limit of a total of 2 D1208s and/or D1206s per calendar year. | K60: 0
C61: Additional topical application of fluoride - Excluding varnish - In addition to any combination of two (2) D1206s (topical applications of fluoride varnish) and/or D1208s (topical application of fluoride - excluding varnish) per calendar year | K61: 15
B62: D1310 | C62: Nutritional counseling for control of dental disease | K62: 0
B63: D1330 | C63: Oral hygiene instructions | K63: 0
B64: D1351 | C64: Sealant – Per tooth | K64: 10
B65: D1352 | C65: Preventive resin restoration in a moderate to high caries risk patient – Permanent tooth | K65: 10
B66: D1353 | C66: Sealant repair – Per tooth | K66: 7
B67: D1354 | C67: Application of caries arresting medicament - Per tooth | K67: 0
B68: D1355 | C68: Caries preventive medicament application – Per tooth | K68: 0
B69: D1510 | C69: Space maintainer – Fixed – Unilateral | K69: 85
B70: D1516 | C70: Space maintainer – Fixed – Bilateral, upper | K70: 85
...

Sheet FF 3.0 DEN PEQ Rates
B1: =INPUT!$C$3 -> Albemarle
B2: =INPUT!$D$11 -> RFP#<######>
B3: =INPUT!$C$23 -> Dental
B4: =INPUT!$F$57 -> Financial Proposal Form 3.0 - Monthly Premium Equivalent Rates
B6: Bidder Name | C6: ='Instructions & Info'!$C$43 -> 0
B8: Provide Rate Equivalents for Current Self-Insured Funding Arrangement and Current Benefits
B10: =INPUT!D168 -> Low
B11: Premium Equivalents | C11: =INPUT!C173 -> Subscriber Only | D11: =INPUT!C174 -> Subscriber + Spouse | E11: =INPUT!C175 -> Subscriber + Child | F11: =INPUT!C176 -> Subscriber + Child(ren) | G11: =INPUT!C177 -> Family | H11: =INPUT!C178 -> Medicare
B12: Current Enrollment | C12: =INPUT!D173 -> 496 | D12: =INPUT!D174 -> 79 | E12: =INPUT!D175 -> 76 | F12: =INPUT!D176 -> 67 | G12: =INPUT!D177 -> 121 | H12: =INPUT!D178 -> 0
B13: Proposed Premium Equivalent Rate
B14: Total Monthly Premium Equivalent | C14: =SUMPRODUCT(C12:H12,C13:H13) -> 0
B16: Fixed Cost Components (included in above rates) | C16: =C11 -> Subscriber Only | D16: =D11 -> Subscriber + Spouse | E16: =E11 -> Subscriber + Child | F16: =F11 -> Subscriber + Child(ren) | G16: =G11 -> Family | H16: =H11 -> Medicare
B17: Administrative Fee (PSPM)
B18: Network Access Fee (PSPM)
B19: Fixed Cost | C19: =C17+C18 -> 0 | D19: =D17+D18 -> 0 | E19: =E17+E18 -> 0 | F19: =F17+F18 -> 0 | G19: =G17+G18 -> 0 | H19: =H17+H18 -> 0
B20: Total Monthly Fixed Cost | C20: =SUMPRODUCT(C12:H12,C19:H19) -> 0
B21: *PSPM - Per Subscriber Per Month
B26: =INPUT!F168 -> High
B27: Premiums | C27: =INPUT!E173 -> Subscriber Only | D27: =INPUT!E174 -> Subscriber + Spouse | E27: =INPUT!E175 -> Subscriber + Child(ren) | F27: =INPUT!E176 -> Family | G27: =INPUT!E177 -> 0 | H27: =INPUT!E178 -> 0
B28: Current Enrollment | C28: =INPUT!F173 -> 1236 | D28: =INPUT!F174 -> 278 | E28: =INPUT!F175 -> 256 | F28: =INPUT!F176 -> 248 | G28: =INPUT!F177 -> 513 | H28: =INPUT!F178 -> 0
B29: Proposed Premium Rates
B30: Total Monthly Premium Equivalent | C30: =SUMPRODUCT(C28:H28,C29:H29) -> 0
B32: Fixed Cost Components (included in above rates) | C32: =C27 -> Subscriber Only | D32: =D27 -> Subscriber + Spouse | E32: =E27 -> Subscriber + Child(ren) | F32: =F27 -> Family | G32: =G27 -> 0 | H32: =H27 -> 0
B33: Administrative Fee (PSPM)
B34: Network Access Fee (PSPM)
B35: Fixed Cost | C35: =C33+C34 -> 0 | D35: =D33+D34 -> 0 | E35: =E33+E34 -> 0 | F35: =F33+F34 -> 0 | G35: =G33+G34 -> 0 | H35: =H33+H34 -> 0
B36: Total Monthly Fixed Cost | C36: =SUMPRODUCT(C28:H28,C35:H35) -> 0
B37: *PSPM - Per Subscriber Per Month

Sheet FF 5.0 CDT Allowed
B1: =INPUT!$C$3 -> Albemarle
B2: =INPUT!$D$11 -> RFP#<######>
B3: =INPUT!$C$23 -> Dental
B4: =INPUT!F59 -> Financial Proposal Form 5.0 - Top CDT Pricing by Zip Codes
B6: TOP DENTAL CDT CODE PRICING
B8: Please enter your average allowed amounts by procedure (in and out of network) for your proposed network(s) in the requested regions that contains majority of the member population. Responses for the secondary network should include allowed charges for any leased or rental networks (where shared savings might apply).
E10: Bidder Name | F10: ='Instructions & Info'!$C$43 -> 0
E12: Network Name: | F12: <Enter Primary Proposed Network>
F13: <Enter Secondary Proposed Network>
C15: 3-Digit Zip: | F15: =INPUT!E196 -> 229xx | K15: =INPUT!E197 -> 244xx | P15: =INPUT!E198 -> 232xx | U15: =INPUT!E199 -> 245xx | Z15: =INPUT!E200 -> 227xx
B17: Procedure Code | C17: Procedure Description | F17: Avg. Covered Billed Charge | G17: Avg. Allowed Charge Primary PPO In-Network | H17: Avg. Allowed Charge Secondary PPO In-Network (if applicable; include leased or rental networks) | I17: Avg. Reimbursement 80th Percentile R&C PPO Out-of Network | K17: Avg. Covered Billed Charge | L17: Avg. Allowed Charge Primary PPO In-Network | M17: Avg. Allowed Charge Secondary PPO In-Network (if applicable; include leased or rental networks) | N17: Avg. Reimbursement 80th Percentile R&C PPO Out-of Network | P17: Avg. Covered Billed Charge | Q17: Avg. Allowed Charge Primary PPO In-Network | R17: Avg. Allowed Charge Secondary PPO In-Network (if applicable; include leased or rental networks) | S17: Avg. Reimbursement 80th Percentile R&C PPO Out-of Network | U17: Avg. Covered Billed Charge | V17: Avg. Allowed Charge Primary PPO In-Network | W17: Avg. Allowed Charge Secondary PPO In-Network (if applicable; include leased or rental networks) | X17: Avg. Reimbursement 80th Percentile R&C PPO Out-of Network | Z17: Avg. Covered Billed Charge | AA17: Avg. Allowed Charge Primary PPO In-Network | AB17: Avg. Allowed Charge Secondary PPO In-Network (if applicable; include leased or rental networks) | AC17: Avg. Reimbursement 80th Percentile R&C PPO Out-of Network
B18: D1110 | C18: Prophylaxis, adult
B19: D2740 | C19: Crown, porcelain/ceramic
B20: D0120 | C20: Periodic oral evaluation, established patient
B21: D2392 | C21: Resin-based composite, two surfaces, posterior
B22: D0274 | C22: Bitewings, four radiographic images
B23: D2391 | C23: Resin-based composite, one surface, posterior
B24: D6010 | C24: Surgical placement of implant body, endosteal implant
B25: D8889 | C25: Orthodontia
B26: D1120 | C26: Prophylaxis, child
B27: D0210 | C27: Intraoral complete series of radiographic images
B28: D7240 | C28: Removal of impacted tooth, completely bony
B29: D3330 | C29: Endodontic therapy, molar (excluding final restoration)
... B42: D0230 | C42: Intraoral periapical, each additional radiographic image

Sheet FF 6.0 PG
B1: =INPUT!$C$3 -> Albemarle
B2: =INPUT!$D$11 -> RFP#<######>
B3: =INPUT!$C$23 -> Dental
B4: =INPUT!F60 -> Financial Proposal Form 6.0 - Performance Guarantees
B6: Please confirm your acceptance of the Minimum Standard for each performance guarantee metric and the correlating fees at risk.
B7: If you are able to provide an Alternative Minimum Standard for any of the items (i.e., over and above the Minimum Standard), please detail these Alternative Minimum Standards.
C9: Bidder Name | D9: ='Instructions & Info'!$C$43 -> 0
B11: Implementation (First Year Only) | E11: Total Max %/$ of Fees At Risk
B12: Ongoing Performance Guarantees (Annually) | E12: Total Max %/$ of Fees At Risk
B14: Service Category | C14: Minimum Standards/Results | D14: Response | E14: Alternative Minimum Standard (Describe) | F14: Required Percent of Fees at Risk | G14: Frequency
B15: Implementation | C15: Code benefits in the systems (claims, member services, etc.) with 100% accuracy | D15: <Select One> | G15: <Select One>
C16: Provide benefits and financial contracts within two months of the plan effective date | D16: <Select One> | G16: <Select One>
B17: Eligibility | C17: Eligibility updates: System must be updated within 2 business days of receipt of enrollment/eligibility data ; receipts after 4:00 pm are recorded as the following business day. | D17: <Select One> | G17: <Select One>
C18: Manual eligibility updates: Emergency requests completed within one hour; rush requests completed by close of business the same day | D18: <Select One> | G18: <Select One>
C19: Eligibility updates will be guaranteed with 98% accuracy. | D19: <Select One> | G19: <Select One>
B20: ID Cards | C20: Timely delivery of initial ID cards: 99% mailed within 10 business days after eligibility data has been provided by the employer. This includes all initial ID cards for new enrollees. | D20: <Select One> | G20: <Select One>
C21: Accuracy of new and replacement ID cards: 100% of all ID cards will contain accurate information compared to the enrollment information furnished by the employer. | D21: <Select One> | G21: <Select One>
B22: Account Management | C22: Average evaluation score of 4.0 or higher out of 5 or 85% satisfaction. | D22: <Select One> | G22: <Select One>
C23: Client inquiry: Response Less than or equal to 2 business days | D23: <Select One> | G23: <Select One>
B24: Network Maintenance | C24: Network utilization rate must be 80% or greater | D24: <Select One> | G24: <Select One>
C25: Report loss of providers and provider groups with membership greater than 50 employees within 10 days of notification of plan withdrawal | D25: <Select One> | G25: <Select One>
B26: Claims Administration | C26: 95.0% of all claims processed within 5 business days | D26: <Select One> | G26: <Select One>
C27: 99% financial (dollar) accuracy the total dollar amount paid correctly in the sample divided by the total dollar amount paid in the sample. | D27: <Select One> | G27: <Select One>
C28: 97% payment accuracy the number of claims in the sample without payment errors divided by the total number of claims in the sample. | D28: <Select One> | G28: <Select One>
C29: 95% processing accuracy the number of claims in the sample without payment or nonpayment errors divided by the total number of claims in the sample | D29: <Select One> | G29: <Select One>
B30: Customer Service | C30: Average speed of answer will be less than 25 seconds | D30: <Select One> | G30: <Select One>
C31: Call abandonment rate will be 3% or less, reported annually | D31: <Select One> | G31: <Select One>
C32: Same day call resolution will be > 98% | D32: <Select One> | G32: <Select One>
C33: Complaint acknowledgement within five business days (all cases) | D33: <Select One> | G33: <Select One>
C34: Complaint resolution within 30 calendar days (all cases) | D34: <Select One> | G34: <Select One>
C35: 85% of participants that respond to the Enrollee Satisfaction Survey will rate carrier overall as Good, Very Good or Excellent. | D35: <Select One> | G35: <Select One>
C36: Preferred provider retention rate of > 90% (based on voluntary turnover) | D36: <Select One> | G36: <Select One>
B37: Web Portal Availability | C37: Portal must be available for all members to access 99% of the time | D37: <Select One> | G37: <Select One>
C38: All members must have access to enroll in an online member account within 30 days of their enrollment. | D38: <Select One> | G38: <Select One>
B39: Client Reporting | C39: Client-specific reporting package as agreed upon will be provided within 25 days from the close of the month. | D39: <Select One> | G39: <Select One>
B40: TOTAL ADMINISTRATION AT RISK | F40: =SUM(F15:F39) -> 0 | G40: <Select One>
B41: Unless specified above, the length of the Performance Guarantee period will follow the term of the sold contract period.
