Workbook

Sheet INPUT
B1: Key: | C1: Internal Inputs (Bolton) | D1: Bidder Inputs
B3: Group Name: | C3: Albemarle County | D3: Group Abbreviation: | E3: Albemarle County | F3: Additional Group Name:
B5: Sub-Groups:
C7: Effective Date (MM/DD/YYY) | D7: Current YTD | E7: Prior Year 1 | F7: Prior Year 2
B8: Plan Years: | C8: 46753 | D8: 46265 | E8: 46388 | F8: 46023
D10: Final For Reference
B11: RFP | C11: <ENTER RFP NUMBER> | D11: =B11&C11 -> RFP<ENTER RFP NUMBER>
B13: Proposal Form Type: | C13: Technical Proposal | D13: Price Proposal
F14: Rate Guarantee:
B15: Benefit Coverage / Services: | F15: Years
B16: Benefit Name 1 | F16: 3 | G16: Three
B17: Benefit Name 2 | F17: 3 | G17: Three
B18: Benefit Name 3 | F18: 3 | G18: Three
B19: Benefit Name 4 | F19: 3 | G19: Three
B20: Benefit Name 5 | C20: Drug | F20: 3 | G20: Three
B21: Benefit Name 6
B23: Final For Reference | C23: PBM | E23: Final For Reference | F23: =G16&" ("&F16&")"&" Years" -> Three (3) Years
B25: Reprice File Name | C25: 2026.09.11_Albemarle - DRUG RFP Repricing File_REQUIRED
B27: FF 2.1 Repricing Instructions | C27: Please quote your Broad Retail Network. (Current: "Base National East", approximately 60,000)
C28: Please quote your Retail 90 Network. (Currently over 26,000) | D28: "Broad Retail 90 Network" or "Narrow Network" | F28: Copay parity across channels: Mail / Retail 90
C29: Please quote your standard Closed / Exclusion Based Formulary. (CarelonRx: "Guided") Current: National Direct Plus Drug List - Four Tier | D29: "standard Open Formulary" or "standard Closed / Managed Formulary"
C30: Please quote Exclusive Specialty Network. | D30: "Open Specialty (not Exclusive Specialty)" or "Exclusive Specialty Network"
B32: FF 2.1 Repricing Instructions Custom Credits | C32: Annual Pharmacy Management Fund: $125,000
C33: Annual Audit Allowance: $40,000
B37: Applicable Coverages | C37: Proposal Form | D37: # | E37: Name | F37: Final For Reference (Worksheet Name) | G37: Worksheet Tab
B38: ~ | C38: ~ | D38: ~ | E38: ~ | F38: ~ | G38: ~
B39: ALL | C39: Technical | E39: General Questionnaire | F39: =C39&" Proposal Form "&D39&" - "&E39 -> Technical Proposal Form - General Questionnaire | G39: =LEFT(C39,1)&"F "&D39 -> TF
B40: RX | C40: Technical | D40: 1.0 | E40: General Company Information | F40: =C40&" Proposal Form "&D40&" - "&E40 -> Technical Proposal Form 1.0 - General Company Information | G40: =LEFT(C40,1)&"F "&D40 -> TF 1.0
B41: RX | C41: Technical | D41: 1.1 | E41: Account Management | F41: =C41&" Proposal Form "&D41&" - "&E41 -> Technical Proposal Form 1.1 - Account Management | G41: =LEFT(C41,1)&"F "&D41 -> TF 1.1
B42: RX | C42: Technical | D42: 1.2 | E42: Claims Procesing Information | F42: =C42&" Proposal Form "&D42&" - "&E42 -> Technical Proposal Form 1.2 - Claims Procesing Information | G42: =LEFT(C42,1)&"F "&D42 -> TF 1.2
B43: RX | C43: Technical | D43: 1.3 | E43: Clinical Drug Utilization Review & Prior Authorization | F43: =C43&" Proposal Form "&D43&" - "&E43 -> Technical Proposal Form 1.3 - Clinical Drug Utilization Review & Prior Authorization | G43: =LEFT(C43,1)&"F "&D43 -> TF 1.3
B44: RX | C44: Technical | D44: 1.4 | E44: Customer Service | F44: =C44&" Proposal Form "&D44&" - "&E44 -> Technical Proposal Form 1.4 - Customer Service | G44: =LEFT(C44,1)&"F "&D44 -> TF 1.4
B45: RX | C45: Technical | D45: 1.5 | E45: Eligibility | F45: =C45&" Proposal Form "&D45&" - "&E45 -> Technical Proposal Form 1.5 - Eligibility | G45: =LEFT(C45,1)&"F "&D45 -> TF 1.5
B46: RX | C46: Technical | D46: 1.6 | E46: Formulary | F46: =C46&" Proposal Form "&D46&" - "&E46 -> Technical Proposal Form 1.6 - Formulary | G46: =LEFT(C46,1)&"F "&D46 -> TF 1.6
B47: RX | C47: Technical | D47: 1.7 | E47: Generics | F47: =C47&" Proposal Form "&D47&" - "&E47 -> Technical Proposal Form 1.7 - Generics | G47: =LEFT(C47,1)&"F "&D47 -> TF 1.7
B48: RX | C48: Technical | D48: 1.8 | E48: Clinical GLP-1's | F48: =C48&" Proposal Form "&D48&" - "&E48 -> Technical Proposal Form 1.8 - Clinical GLP-1's | G48: =LEFT(C48,1)&"F "&D48 -> TF 1.8
B49: RX | C49: Technical | D49: 1.8 | E49: Implementation | F49: =C49&" Proposal Form "&D49&" - "&E49 -> Technical Proposal Form 1.8 - Implementation | G49: =LEFT(C49,1)&"F "&D49 -> TF 1.8
B50: RX | C50: Technical | D50: 1.9 | E50: Mail Order | F50: =C50&" Proposal Form "&D50&" - "&E50 -> Technical Proposal Form 1.9 - Mail Order | G50: =LEFT(C50,1)&"F "&D50 -> TF 1.9
B51: RX | C51: Technical | D51: 1.10 | E51: Reporting | F51: =C51&" Proposal Form "&D51&" - "&E51 -> Technical Proposal Form 1.10 - Reporting | G51: =LEFT(C51,1)&"F "&D51 -> TF 1.10
... B56: RX | C56: Technical | D56: 1.15 | E56: Client Specific Questionnaire | F56: =C56&" Proposal Form "&D56&" - "&E56 -> Technical Proposal Form 1.15 - Client Specific Questionnaire | G56: =LEFT(C56,1)&"F "&D56 -> TF 1.15
...

Sheet Instructions & Info
B1: =INPUT!$C$3 -> Albemarle County
B2: =INPUT!$D$11 -> RFP<ENTER RFP NUMBER>
B3: =INPUT!$C$23 -> PBM
B4: Instructions
B6: Please Read:
B7: NOTICE: | C7: You must read these instructions in full and confirm you have read and understand them by entering your name and date in the appropriate fields at the bottom of this spreadsheet.
B8: Instructions: | C8: ="The following Proposal Forms in this workbook will be used to gather vendor responses in regards to your capabilities to provide the required services of this RFP to "&$B$1&". Your responses will be compared and evaluated against the other vendors responses. " -> The following Proposal Forms in this workbook will be used to gather vendor responses in regards to your capabilities to provide the required services of this RFP to Albemarle County. Your responses will be compared and evaluated against the other vendors responses.
C9: Please do not modify the tabs. Modifying the tabs or layout may eliminate your company from consideration. Please do not: - Add or Delete Cells - Renumber or Add Questions - Delete Questions - If you cannot respond to a question please just note - 'No Response Available' or 'N/A'. Responses to questions should be brief and concise. 'Yes' or 'No' responses are encouraged when appropriate within the dropdown menu. The maximum amount of characters for a response is 700.
B10: Hold Harmless Agreement | C10: Vendor shall indemnify and hold harmless the Client, its respective directors, officers, employees (acting in the course of their employment, but not as claimants) and agents, against any and all liability or expense (including the cost of legal defense or settlement) which was caused by (vendor’s) negligent or intentional misconduct, breach of this Agreement, fraud, or its breach of fiduciary responsibility, related to or arising out of this Agreement or the Client’s role as employer or Plan sponsor. The party seeking indemnification under (a) above must notify the indemnifying party promptly in writing of any actual or threatened action, suit or proceeding to which it claims such indemnity applies. Failure to notify the indemnifying party shall be deemed a waiver of the right to seek indemnification. The party seeking indemnification may assume responsibility for the direction of its own defense at any time, including the right to settle or compromise any claim against it without the consent of the indemnifying party, provided that in doing so it shall be deemed to have waived its right to indemnification except in cases where the indemnifying party has declined to defend against the claim. The indemnification obligations of (vendor) shall terminate upon the expiration of the Agreement except as to any matter concerning which a claim has been asserted by notice to the other party at the time of such expiration or within 365 days after effective date of Agreement termination.
B11: RFP Information
B12: RFP Coverages: | C12: =INPUT!$C$23 -> PBM
B13: Effective Date for all Lines: | C13: =INPUT!$C$8 -> 46753
B14: Eligible Employees:
B15: Current Carrier(s): | C15: Coverage | D15: Carrier Name
C16: Medical | D16: Anthem
C17: Rx | D17: Anthem / CarelonRx
C18: Clinical Programs / Point Solutions | D18: CareATC
C19: HRIS / Benefits Administrator | D19: ADP
B20: Proposed Fee Guarantee: | C20: =INPUT!F23 -> Three (3) Years
B21: Notes:
B22: Current Commissions:
B23: Requested Commissions:
B24: RFP Timeline: | C24: Activity | D24: Date
C25: RFP Released | D25: 46297
C26: Deadline to submit questions | D26: 46336
C27: Addendum with responses released to vendors | D27: 46338
C28: RFPs due | D28: 46343
C29: Bidder interviews conducted (Optional) | D29: 46447
C30: Evaluate Financial RFP Responses, Score and Select Finalists (if applicable) or winning Vendor | D30: 46472
C31: Request BAFO (if applicable)
C32: BAFO Due (if applicable)
C33: Evaluate BAFO, Finalize Analysis and Recommendations (if applicable)
C34: Select Vendor | D34: 46539
C35: Implementation (including Open Enrollment) | D35: 46568
C36: Effective Date | D36: 46753
B37: Provided Data: | C37: Current plan documents: SBC/SPD as applicable - separate attachment | D37: Separate Attachment
C38: Census | D38: Separate Attachment
C39: Enrollment data | D39: Separate Attachment
C40: Claims data | D40: Separate Attachment
B43: Disclaimer & Intent to Bid: | C43: By entering my name and date below I am confirming my firm's intent to bid, that I have read the above instructions in full regarding providing responses to the Questions in this workbook, and completion of the proposal forms. I also confirm our firm understands the information provided in this Request for Proposal and all attachments is confidential and proprietary and will only be used to prepare a proposal response.
...

Sheet REPRICING FILE
B1: =INPUT!$C$3 -> Albemarle County
B2: =INPUT!$D$11 -> RFP<ENTER RFP NUMBER>
B3: =INPUT!$C$23 -> PBM
B4: Claims Repricing File
B6: Please complete the repricing excel file that was is posted separately from this bidforms workbook:
B7: =INPUT!C25 -> 2026.09.11_Albemarle - DRUG RFP Repricing File_REQUIRED

Sheet FF 2.0 Contract Reqs.
B1: =INPUT!$C$3 -> Albemarle County
B2: =INPUT!$D$11 -> RFP<ENTER RFP NUMBER>
B3: =INPUT!$C$23 -> PBM
B4: =INPUT!F59 -> Price Proposal Form 2.0 - Business and Contract Requirements
D8: Bidder Name | E8: ='Instructions & Info'!$C$44 -> 0
B9: Category | C9: # | D9: RFP Requirement | E9: Response
B10: General | C10: 1 | D10: Your responses to this Request for Proposal will be binding. Failure to identify any disagreement to the minimum requirements will constitute acceptance of these requirements as written. You agree that these Requirements, along with your responses, will become part of the final agreement.
B11: General | C11: =C10+1 -> 2 | D11: PBM agrees to "crosswalk" the responses in this RFP to the final agreement.
B12: General | C12: =C11+1 -> 3 | D12: PBM agrees the proposed pricing is for a 3 Year Agreement but provides the client the right to terminate after Year 1 without penalty.
B13: General | C13: =C12+1 -> 4 | D13: Any costs PBM incurs related to this RFP, including attending meetings, site visits or negotiations, are the responsibility of the bidding entity.
B14: General | C14: =C13+1 -> 5 | D14: PBM is in full compliance with HIPAA for its processes, systems, and reporting as well as HIPAA compliant for acceptance of claim transactions in the applicable industry standard NCPDP format.
B15: General | C15: =C14+1 -> 6 | D15: Emergencies- It is required that all prescriptions continue to be filled through national disasters or emergencies and assist members with obtaining these scripts, if necessary.
B16: General | C16: =C15+1 -> 7 | D16: Subcontractors- It is required that you agree to disclose all subcontractor relationships used in the performance of your services. Please disclose any subcontractors you intend to use for the following services: (1) claims processing, (2) retail networks, (3) mail order, (4) specialty pharmacy, (5) medication therapy management, and (5) rebate administration.
B17: General | C17: =C16+1 -> 8 | D17: Data Warehouse- It is required that you maintain an efficient auditable process of adding pharmacy benefit accumulator dollars to accurately apply all deductible and maximum out-of-pocket dollars when processing claims on-line in real time.
B18: General | C18: =C17+1 -> 9 | D18: Retail Pharmacy Regulatory Requirements- It is required that your contracts with participating pharmacies require them to be in compliance with all applicable local, state and federal laws and regulations, and if non-compliant, that the pharmacy be removed from your retail networks.
B19: General | C19: =C18+1 -> 10 | D19: PBM shall be properly licensed, certified, and credentialed to operate dispensing mail order facilities and specialty pharmacies in the states in which their pharmacies reside.
B20: General | C20: =C19+1 -> 11 | D20: PBM must provide an electronic copy of their most recent SOC-1 or SSAE-16 audit.
B21: General | C21: =C20+1 -> 12 | D21: Repackaged or Re-labeled NDCs- will not be allowed at either retail or mail.
B22: General | C22: =C21+1 -> 13 | D22: All records and reports provided will be maintained as property of the by the client and remain subject to the confidentiality provisions of the contract.
... B138: Audit | C138: =C137+1 -> 129 | D138: PBM agrees that audits will be performed where the AWP Unit price is to no less than 4 decimal digits past the decimal.

Sheet FF 2.1 Repricing Instructions
B1: =INPUT!$C$3 -> Albemarle County
B2: =INPUT!$D$11 -> RFP<ENTER RFP NUMBER>
B3: =INPUT!$C$23 -> PBM
B4: =INPUT!F60 -> Price Proposal Form 2.1 - Claim Repricing Instructions
C8: Bidder Name | E8: ='Instructions & Info'!$C$44 -> 0
B10: # | C10: CLAIM REPRICING INSTRUCTIONS | E10: Confirmed / Not Confirmed | F10: Comments
B12: 1 | C12: =INPUT!C27 -> Please quote your Broad Retail Network. (Current: "Base National East", approximately 60,000)
B14: =B12+1 -> 2 | C14: =INPUT!C28 -> Please quote your Retail 90 Network. (Currently over 26,000)
B16: =B14+1 -> 3 | C16: =INPUT!C29 -> Please quote your standard Closed / Exclusion Based Formulary. (CarelonRx: "Guided") Current: National Direct Plus Drug List - Four Tier
B18: =B16+1 -> 4 | C18: =INPUT!C30 -> Please quote Exclusive Specialty Network.
C19: Specialty must include 1) individual drug guarantees and 2) overall annual aggregate guarantees (Brand & Generic combined aggregate guarantees)
B21: =B18+1 -> 5 | C21: Confirm that the following fees are embedded in your proposed pricing. These fees are not to be invoiced separately.
C22: $8 Per Member Implementation Credit
C23: =INPUT!C32 -> Annual Pharmacy Management Fund: $125,000
C24: =INPUT!C33 -> Annual Audit Allowance: $40,000
B26: =B21+1 -> 6 | C26: The original 11 digit NDC, fill date, and NABP must be used for the retrospective re-pricing. MAC must be included at both Retail and Mail and include a MAC / Non MAC combined guarantee.
B28: =B26+1 -> 7 | C28: PBM agrees to fully complete the Claims Reprice provided with this RFP. All columns and cells will be completed, and instructions followed. PBM will assume full responsibility for the accuracy for how the claims reprice is completed and that the reprice response matches the financial offer detailed in other areas of the RFP. If errors are found in the reprice, Bidder agrees to rerun the analysis within 24 hours. All RFP responses are kept and used at the first annual audit.
C29: Your per claim re-price summary should include 30 Day Retail, 90 Day Retail, Mail and Specialty results for ingredient costs, dispensing fees, administration fees (if applicable) and rebates.
C30: Your claim detail reprice must include completion of all those fields indicated (including AWP info). Rebate column should be completed assuming your proposed minimum rebate guarantee. Failure to complete all fields may result in disqualification of your response.
B32: =B28+1 -> 8 | C32: The rebates quoted in your repricing must reflect your quoted rebate terms and conditions. For example, if your definition of an eligible rebate excludes Non-Network brand claims but your repricing applies a rebate to a Non-Network claim, then your definition must now include Non-Network claims.
C33: Please propose rebates on plan design included with this RFP.
B35: =B32+1 -> 9 | C35: Please confirm that you have reviewed the current plan designs included with this RFP.
C36: Please confirm that quoted pricing / rebates matches the plan design as submitted with this RFP.
B37: =B35+1 -> 10 | C37: Moving maintenance drugs from retail to mail is not permitted.
B39: =B37+1 -> 11 | C39: Plan design or population changes for either the re-pricing or prospective re-pricing is not permitted.
B41: =B39+1 -> 12 | C41: Applying 90 day retail pricing to drugs historically priced using 30 day retail pricing is not permitted.
B43: =B41+1 -> 13 | C43: Claim re-pricing should take into consideration the requirements set forth in this RFP and not the use of brand/generic algorithms.
B45: =B43+1 -> 14 | C45: Applying trend or annualizing the claims is not permitted.
B47: =B45+1 -> 15 | C47: Do you agree to fulfill all Rx filing requirements under the Consolidated Appropriations Act Section 204 at no cost?

Sheet FF 2.2 Financial Q
B1: =INPUT!$C$3 -> Albemarle County
B2: =INPUT!$D$11 -> RFP<ENTER RFP NUMBER>
B3: =INPUT!$C$23 -> PBM
B4: =INPUT!F61 -> Price Proposal Form 2.2 - Financial Questionnaire
C8: Bidder Name | E8: ='Instructions & Info'!$C$44 -> 0
C10: FINANCIAL QUESTIONS | E10: Response
B12: 1 | C12: General Questions
C13: What is the name of your proposed formulary?
C14: Is your proposed Formulary an Open (no exclusions) or Closed (has excluded medications) Formulary?
C15: How Many Pharmacies are in your proposed Broad Pharmacy Network?
C16: How Many Pharmacies are in your proposed 90 Day Retail Network?
C17: What major chains, if any, are excluded from your proposed Broad national Network?
C18: What major chains, if any, are excluded from your proposed 90 Day Retail Network?
C19: Please specify the term of this agreement. (i.e. 1, 2 or 3 years)
C20: Do you agree to a 90 day Grandfather of currently utilized member medications?
C21: If you subcontract Mail Order, who is that subcontractor?
C22: If you subcontract Specialty Pharmacy, who is that subcontractor?
C23: How Long after Invoicing is Client Required to submit Payment?
B25: 2 | C25: Market Check
C26: Confirm that your pricing includes an Annual Market Check provision.
C27: What is the percentage matching margin for the Market Check?
B29: 3 | C29: Specify the costs for the following
C30: Paper Claim
C31: Cost to Mail Welcome Packets/ID Cards to Member Homes
C32: Replacement ID Card Cost / Postage
C33: HDHP Integration
C34: Mail Order Standard Postage
C35: Miscellaneous Member Mailings
C36: Minimum Mail Charge
B38: 4 | C38: Specialty
C39: Is your proposed Specialty pricing assuming Exclusive or Open Pharmacy?
C40: Is your proposed Specialty pricing Traditional or Pass Through?
C41: If Pass Through, on what basis is Cost (ie, AAC?)
C42: Is your quoted specialty pricing List Pricing Drug Level discount with aggregate guarantee or the same Flat Discount for each Rx?
C43: What is your overall Open Specialty Aggregate Guarantee?
C44: What is your overall Exclusive Specialty Aggregate Guarantee? (Requires Brand and Generic Combined Guarantee)
C45: Are LDD Specialty Medications included in the proposed Aggregate Guarantee? If not included, please list a separate Guarantee.
C46: Are EDD Specialty Medications included in the proposed Aggregate Guarantee? If not included, please list a separate Guarantee.
C47: Are Specialty Biosimilars included in the proposed Aggregate Guarantee? If not included, please list a separate Guarantee.
C48: If LDD /EDD are excluded from the Specialty Aggregate Guarantee, what is the Aggregate Guaratantee if included?
...

Sheet FF 2.3.1 Pricing & Rebate
B1: =INPUT!$C$3 -> Albemarle County
B2: =INPUT!$D$11 -> RFP<ENTER RFP NUMBER>
B3: =INPUT!$C$23 -> PBM
B4: =INPUT!F62 -> Price Proposal Form 2.3.1 - PBM Proposed Pricing & Rebates (Traditional Spread Pricing Option)
B6: Complete the Pricing and Rebate Chart Below. Please quote either or both funding options.
C8: Bidder Name | D8: ='Instructions & Info'!$C$44 -> 0
D10: Traditional Spread Pricing Option
D12: Discounts off AWP (Medi-Span) | G12: Dispensing Fees | H12: Electronic Admin Fee | I12: Manual Claim Admin Fee
D14: Year 1 2028 | E14: Year 2 2029 | F14: Year 3 2030 | G14: Term | H14: Term | I14: Term
B15: Non-Specialty | C15: Retail 30, Brand
C16: Retail 30, Generic (MAC/Non MAC Combined)
C17: Retail 90 (EDS 90), Brand
C18: Retail 90 (EDS 90), Generic (MAC/Non MAC Combined)
C19: Retail 90 (Custom Network), Brand
C20: Retail 90 (Custom Network), Generic (MAC/Non MAC Combined)
C21: Mail, Brand
C22: Mail, Generic (MAC/Non MAC Combined)
B23: Specialty | C23: Retail, Brand
C24: Retail, Generic
C25: Mail, Brand
C26: Mail, Generic
B27: LDD | C27: Retail (Brand / Generic Combined)
C28: Mail (Brand / Generic Combined)
I30: If quoting a custom Retail 90 network, please provide the network name an description.
C31: Custom Network 90 (above)
I33: Please document any other administrative fees (Per Claim, PEPM, PMPM), coalition fees, and carve-out fees here
C34: Other Fees
I36: "Rebate Credit" - If you are quoting with rebate credits (reductions), you must provide an estimate of annual rebate credits on "FF 2.16 Rebate Credit List" cell E14.
C38: Name of Proposed Formulary
D40: Per Rebate Eligible Brand - Please complete both options: (Based on Current Plan Structure )
B41: Excluding Coverage for AOM GLP-1s (Current Benefit Design) | D41: Option 1: No Reductions (Preferred) Fully accounting for market pricing events, such as Reduced WAC, Amp Cap Removals, and Low Cost Biosimilars | G41: Option 2: With Rebate Credits List of Reduced WAC, Amp Cap Removals, and Low Cost Biosimilars, tied to anchor dates, that reduce the following rebates using certain calculations; must include list of products including NDC-11 and dates
D42: Year 1 2028 | E42: Year 2 2029 | F42: Year 3 2030 | G42: Year 1 2028 | H42: Year 2 2029 | I42: Year 3 2030
B43: Minimum Guaranteed Rebates - Without Brand GLP-1 AOM Coverage | C43: Non-Specialty, Retail 30, Brand
C44: Non-Specialty, Retail 90, Brand
C45: Non-Specialty, Mail, Brand
C46: Specialty 30, Retail, Brand
C47: Specialty 30, Mail, Brand
C48: Specialty 90, Retail, Brand
C49: Specialty 90, Mail, Brand
C50: LDD, Retail, Brand
...

Sheet FF 2.3.2 Pricing & Rebate
B1: =INPUT!$C$3 -> Albemarle County
B2: =INPUT!$D$11 -> RFP<ENTER RFP NUMBER>
B3: =INPUT!$C$23 -> PBM
B4: =INPUT!F63 -> Price Proposal Form 2.3.2 - PBM Proposed Pricing & Rebates (Pass Through Pricing Option)
B6: Complete the Pricing and Rebate Chart Below. Please quote either or both funding options.
C8: Bidder Name | D8: ='Instructions & Info'!$C$44 -> 0
D10: Pass Through Pricing Option
D12: Discounts off AWP (Medi-Span) | G12: Dispensing Fees | H12: Electronic Admin Fee | I12: Manual Claim Admin Fee
D14: Year 1 2028 | E14: Year 2 2029 | F14: Year 3 2030 | G14: Term | H14: Term | I14: Term
B15: Non-Specialty | C15: Retail 30, Brand
C16: Retail 30, Generic (MAC/Non MAC Combined)
C17: Retail 90 (EDS 90), Brand
C18: Retail 90 (EDS 90), Generic (MAC/Non MAC Combined)
C19: Retail 90 (Custom Network), Brand
C20: Retail 90 (Custom Network), Generic (MAC/Non MAC Combined)
C21: Mail, Brand
C22: Mail, Generic (MAC/Non MAC Combined)
B23: Specialty | C23: Retail, Brand
C24: Retail, Generic
C25: Mail, Brand
C26: Mail, Generic
B27: LDD | C27: Retail (Brand / Generic Combined)
C28: Mail (Brand / Generic Combined)
I30: If quoting a custom Retail 90 network, please provide the network name an description.
C31: Custom Network 90 (above)
I33: Please document any other administrative fees (Per Claim, PEPM, PMPM), coalition fees, and carve-out fees here
C34: Other Fees
I36: "Rebate Credit" - If you are quoting with rebate credits (reductions), you must provide an estimate of annual rebate credits on "FF 2.16 Rebate Credit List" cell E14.
C38: Name of Proposed Formulary
D40: Per Rebate Eligible Brand - Please complete both options: (Based on Current Plan Structure )
B41: Excluding Coverage for AOM GLP-1s (Current Benefit Design) | D41: Option 1: No Reductions (Preferred) Fully accounting for market pricing events, such as Reduced WAC, Amp Cap Removals, and Low Cost Biosimilars | G41: Option 2: With Rebate Credits List of Reduced WAC, Amp Cap Removals, and Low Cost Biosimilars, tied to anchor dates, that reduce the following rebates using certain calculations; must include list of products including NDC-11 and dates
D42: Year 1 2028 | E42: Year 2 2029 | F42: Year 3 2030 | G42: Year 1 2028 | H42: Year 2 2029 | I42: Year 3 2030
B43: Minimum Guaranteed Rebates - Without Brand GLP-1 AOM Coverage | C43: Non-Specialty, Retail 30, Brand
C44: Non-Specialty, Retail 90, Brand
C45: Non-Specialty, Mail, Brand
C46: Specialty 30, Retail, Brand
C47: Specialty 30, Mail, Brand
C48: Specialty 90, Retail, Brand
C49: Specialty 90, Mail, Brand
C50: LDD, Retail, Brand
...

Sheet FF 2.4 MAC Summary
B1: =INPUT!$C$3 -> Albemarle County
B2: =INPUT!$D$11 -> RFP<ENTER RFP NUMBER>
B3: =INPUT!$C$23 -> PBM
B4: =INPUT!F64 -> Price Proposal Form 2.4 - Maximum Allowed Cost (MAC) Summary
C8: Bidder Name | D8: ='Instructions & Info'!$C$44 -> 0
C10: Based on the claims data provided (not your book of business) complete the following based on the MAC list being proposed:
C11: Category | D11: Response
C12: Total Number of Generic Rx
C13: Total Number of Generic Drugs adjudicating with MAC pricing
C14: Total Generic AWP
C15: Total MAC’d Generics AWP
C16: Total Generic Ingredient Cost
C17: Total MAC’d Generics Ingredient Cost
C18: Multi Source Brand Drugs with MAC Price
C20: Category | D20: Response
C21: Overall Generic Discount
C22: Overall Non-MAC generic discount
C23: Overall MAC’d Generic Discount
C24: Performance Guarantee for MAC list updates

Sheet FF 2.5 SA Programs
B1: =INPUT!$C$3 -> Albemarle County
B2: =INPUT!$D$11 -> RFP<ENTER RFP NUMBER>
B3: =INPUT!$C$23 -> PBM
B4: =INPUT!F65 -> Price Proposal Form 2.5 - Specialty Patient Assistance Programs
C8: Bidder Name | E8: ='Instructions & Info'!$C$44 -> 0
C10: Please provide the following regarding your Specialty Patient Assistance Programs (Coupons and/or Alternate Funding) (Do Not Annualize): | E10: MFG Coupon Response | G10: Alternate Funding Response (if Available)
C11: Program Name
C12: Total Claims Identified for Savings Opportunities
C13: Estimated Gross Savings based on Claim set
C14: Program's Fee Basis (ie, 25% of Savings, $$ PMPM, $$ per Claim)
C15: Total Fees
C16: Rebate Offset (if Applicable)
C17: Total Net Savings based on claim set (Please do not Annualize)
C20: Does your program require a change in SPD language? (Yes/No)
C21: If a change in SPD Language needed, will you provide such language?
C22: Would you define your proposed program as a) a Manufacturer's Coupon Program or b) Alternate Funding Program?
C23: Is this program applicable to High Deductible plan designs?
C24: Do the results above include PAP savings from High Deductible plan designs?
... C28: What Financial Guarantees will you provide?

Sheet FF 2.6 Rebates
B1: =INPUT!$C$3 -> Albemarle County
B2: =INPUT!$D$11 -> RFP<ENTER RFP NUMBER>
B3: =INPUT!$C$23 -> PBM
B4: =INPUT!F66 -> Price Proposal Form 2.6 - Rebates
C8: Bidder Name | D8: ='Instructions & Info'!$C$44 -> 0
C9: Directions: Please complete the Rebate Tables below:
C11: Category | D11: Insert Year 1 $$ Rebate Per Eligible Brand | E11: Number of Rebate Eligible Claims from RFP Claim Detail
C12: Retail 30 Brand
C13: Retail 90 Brand
C14: Mail Order Brand
C15: Specialty Brand at Retail
C16: Specialty Brand at Mail

Sheet FF 2.7 SSG
B1: =INPUT!$C$3 -> Albemarle County
B2: =INPUT!$D$11 -> RFP<ENTER RFP NUMBER>
B3: =INPUT!$C$23 -> PBM
B4: =INPUT!F67 -> Price Proposal Form 2.7 - Single Source Generics (SSG)
C8: Bidder Name | D8: ='Instructions & Info'!$C$44 -> 0
C10: Please specify how Single Source Generics, New to Market Generics, Limited Supply Generics and
C11: Patent Litigated Generics are adjudicated and paid by completing the chart below:
C13: Generic Description | D13: Adjudicated | E13: Paid (What discount is applied at POS) | F13: Reconciled (for Guarantee Purposes)
C14: Single Source Generic | D14: <Select One> | E14: <Select One> | F14: <Select One>
C15: New to Market Generic | D15: <Select One> | E15: <Select One> | F15: <Select One>
C16: Patent Litigated Generic | D16: <Select One> | E16: <Select One> | F16: <Select One>
C17: Insufficient Supply Generics | D17: <Select One> | E17: <Select One> | F17: <Select One>
C20: Are DAW 5 Claims adjudicated as a Generic and included in the Generic Guarantee? (Yes/No) | F20: <Select One>
C21: If not in Generic, under what guarantee do DAW 5 Claims fall?

Sheet FF 2.8 Discount Guarantee
B1: =INPUT!$C$3 -> Albemarle County
B2: =INPUT!$D$11 -> RFP<ENTER RFP NUMBER>
B3: =INPUT!$C$23 -> PBM
B4: =INPUT!F68 -> Price Proposal Form 2.8 - Discount Guarantee Claims
C8: Bidder Name | D8: ='Instructions & Info'!$C$44 -> 0
C9: Please advise if the following claims are "Included" or "Excluded" in the Annual Financial Claim Reconciliation
C10: Type of Claim | D10: Included or Excluded
C11: Over the Counter Medications
C12: Diabetic Testing Strips
C13: Member Copays for Member Pay the Difference Claims
C14: Member Copays for ZBD Claims
C15: ZBD Claims
C16: Claims Audit Recoveries
C17: Therapeutic Substitution Savings
C18: U&C Claims
C19: Out of Network Claims
C20: Savings generated from coupon programs
C21: Compounds
C22: Powders
... C40: Member cost share and primary payor amounts (on COB claims) for all discount guarantees and calculations including but not limited to DAW penalty amounts which shall be recoded as increased member contribution and not reduced drug cost.

Sheet FF 2.9 Termination File Costs
B1: =INPUT!$C$3 -> Albemarle County
B2: =INPUT!$D$11 -> RFP<ENTER RFP NUMBER>
B3: =INPUT!$C$23 -> PBM
B4: =INPUT!F69 -> Price Proposal Form 2.9 - Termination File Costs
C8: Bidder Name | D8: ='Instructions & Info'!$C$44 -> 0
B10: If you did not agree to waive termination file costs, please identify those costs, File Frequency, and Inclusions/Exclusions associated with the specific transition reports in the following table:
B12: File Type: | C12: Refill Transfers | D12: Prior Authorizations | E12: Claims History | F12: Account Balances
B13: Cost:
B14: File Frequency:
B15: Inclusions/Exclusions:

Sheet FF 2.10 Rebate Eligible Brands
B1: =INPUT!$C$3 -> Albemarle County
B2: =INPUT!$D$11 -> RFP<ENTER RFP NUMBER>
B3: =INPUT!$C$23 -> PBM
B4: =INPUT!F70 -> Price Proposal Form 2.10 - Rebate Eligible Brand Claims
C8: Bidder Name | D8: ='Instructions & Info'!$C$44 -> 0
B10: Indicate if the following claim types are included or excluded in Rebate Guarantees. If excluded, please provide explanation for exclusion. | C10: Included or Excluded | D10: If Excluding, provide an Explanation for Excluding from Guarantee
B11: Multi Source Brands
B12: Multi Source Brands not having DAW 1 or 2
B13: Multi Source Brand Claims with a DAW 1 or DAW 2 Code Requiring the Substitution with a Brand product over a Generic Product
B14: Single Source Brands
B15: Non-Formulary Covered Brands
B16: Non-Network Covered Brands
B17: Formulary Brand Claims that may not be Eligible for Rebates
B18: Formulary Excluded Claims
B19: Brand Claims with Generic Alternatives
B20: Brands paid at MAC
B21: Brands filled at DAW 5
B22: Claims from Devices (Other than Insulin and Test Strips)
... B58: Subrogation Claims

Sheet FF 2.11 Rebate Revenue
B1: =INPUT!$C$3 -> Albemarle County
B2: =INPUT!$D$11 -> RFP<ENTER RFP NUMBER>
B3: =INPUT!$C$23 -> PBM
B4: =INPUT!F71 -> Price Proposal Form 2.11 - Rebate Revenue Components
C8: Bidder Name | D8: ='Instructions & Info'!$C$44 -> 0
C10: Please complete the chart below so we understand those sources of manufacturer revenue included in your rebate offering.
C11: Pharma Revenue Components Included in Rebate Offer
C12: Source | D12: Included or Excluded
C13: Administrative Fees
C14: Clinical Program Fees
C15: Consulting Fees
C16: Credits
C17: Discounts
C18: Education Program Fees
C19: Financial Incentives
C20: Formulary Placement or Access Fees
C21: Implementation Fees
C22: Market Share Based Payments
C23: Price Concessions
C24: Promotional Allowances
... C31: All Other Payments Received from Pharmaceutical Manufacturers

Sheet FF 2.12 Min Req Claim Fields
B1: =INPUT!$C$3 -> Albemarle County
B2: =INPUT!$D$11 -> RFP<ENTER RFP NUMBER>
B3: =INPUT!$C$23 -> PBM
B4: =INPUT!F72 -> Price Proposal Form 2.12 - Minimum Required Claim Fields
D8: Bidder Name | E8: ='Instructions & Info'!$C$44 -> 0
B10: PBM Agrees to provide individual claim details upon request with the following minimum claim fields:
C12: Claim Field | D12: This Field May Be supplied to Other Vendors for Market Competitve Analysis (Please do Not Change this field. This Field is a description of how each field may be used.) | E12: Bidding PBM Agree / Disagree | F12: If Disagree, Reason for Disagree
B13: 1 | C13: Account ID | D13: Yes
B14: 2 | C14: Account Name | D14: Yes
B15: 3 | C15: Group ID | D15: Yes
B16: 4 | C16: Group Name | D16: Yes
B17: 5 | C17: Member ID | D17: Yes
B18: 6 | C18: Employer Plan Number | D18: Yes
B19: 7 | C19: PPO / HDHP Plan Indicator | D19: Yes
B20: 8 | C20: Claim Fill Date | D20: Yes
B21: 9 | C21: Drug NDC | D21: Yes
B22: 10 | C22: Drug Strength | D22: Yes
B23: 11 | C23: Product / Drug Label Name | D23: Yes
B24: 12 | C24: GPI 4 Class Name Description | D24: Yes
... B55: 43 | C55: Manufacturer Coupon Savings | D55: No, Internal Purposes Only

Sheet FF 2.13 RX Cost Programs
B1: =INPUT!$C$3 -> Albemarle County
B2: =INPUT!$D$11 -> RFP<ENTER RFP NUMBER>
B3: =INPUT!$C$23 -> PBM
B4: =INPUT!F73 -> Price Proposal Form 2.13 - Recommended Cost Containment Programs
B6: Bidder Name | C6: ='Instructions & Info'!$C$44 -> 0
B8: Offer / Program Name | C8: Program Description | D8: Estimated Member Impact (Low, Medium, High) | E8: Total Financial Value (Based on Provided Claim Set) | F8: ROI or Minimum Guarantee Total

Sheet FF 2.14 Generic Brand Def
A1: =INPUT!$C$3 -> Albemarle County
A2: =INPUT!$D$11 -> RFP<ENTER RFP NUMBER>
A3: =INPUT!$C$23 -> PBM
A4: Price Proposal Form 2.14 - Generic Brand Definitions
A8: GENERIC / BRAND DEFINITIONS
A10: Enter "Generic" and "Brand" definitions below | F10: Enter "Generic" or "Brand" (automatically color coded - you may copy/paste)
B12: Medi-Span Indicators | F12: No Product Selection Indicated | G12: Prescriber Dispense as Written | H12: Patient Requested Brand | I12: Pharmacy Selected Brand | J12: Generic Not Available | K12: Brand Dispensed as Generic | L12: Override | M12: Brand Mandated by Law | N12: Generic Not Available in Marketplace | O12: Plan/Other Payor Requires Brand
A13: Definitions | B13: Multi Source Code | C13: Multi Source Code Desc | D13: Name Type Code | E13: Name Type Code Desc | F13: DAW 0 | G13: DAW 1 | H13: DAW 2 | I13: DAW 3 | J13: DAW 4 | K13: DAW 5 | L13: DAW 6 | M13: DAW 7 | N13: DAW 8 | O13: DAW 9
A14: Enter "Generic Definition" Here Enter "Brand Definition" Here | B14: M | C14: Single-source, co-licensed product | D14: T | E14: Trademarked Name
B15: M | C15: Single-source, co-licensed product | D15: B | E15: Branded Generic Name
B16: M | C16: Single-source, co-licensed product | D16: G | E16: Generic Name
B17: N | C17: Single-source product | D17: T | E17: Trademarked Name
B18: N | C18: Single-source product | D18: B | E18: Branded Generic Name
B19: N | C19: Single-source product | D19: G | E19: Generic Name
B20: O | C20: Multi-source, originator product | D20: T | E20: Trademarked Name
B21: O | C21: Multi-source, originator product | D21: B | E21: Branded Generic Name
B22: O | C22: Multi-source, originator product | D22: G | E22: Generic Name
B23: Y | C23: Multi-source product | D23: T | E23: Trademarked Name
B24: Y | C24: Multi-source product | D24: B | E24: Branded Generic Name
B25: Y | C25: Multi-source product | D25: G | E25: Generic Name

Sheet FF 2.15 Guarantee Clarification
A1: =INPUT!$C$3 -> Albemarle County
A2: =INPUT!$D$11 -> RFP<ENTER RFP NUMBER>
A3: =INPUT!$C$23 -> PBM
A4: Price Proposal Form 2.15- Guarantee Clarification
D8: Discount Guarantees | E8: Rebate Guarantees
C9: Type of Claim | D9: Included / Excluded | E9: Included / Excluded
A10: Clinical / Therapy-Based | B10: HX01 | C10: PCSK9 inhibitors
B11: HX02 | C11: Vaccine and vaccine administration claims (including COVID)
B12: HX03 | C12: Hepatitis C
B13: HX04 | C13: Hepatitis B
B14: HX05 | C14: HIV treatment claims (antiretroviral therapy and related medications)
B15: HX06 | C15: Transplant Drugs
B16: HX07 | C16: Vitamins/Multivitamins
B17: HX08 | C17: COVID Anti-Virals
B18: HX09 | C18: COVID testing-related claims
A19: Government / Statutory | B19: HX10 | C19: Government‑mandated therapies, including HIV pre‑exposure prophylaxis (PrEP), preventive medications required under the Affordable Care Act
B20: HX11 | C20: Claims paid at government‑required amounts
A21: Formulary / UM / Transition Overrides | B21: HX12 | C21: Claims approved by formulary exception (medical necessity override)
B22: HX13 | C22: Continuation‑of‑therapy claims
B23: HX14 | C23: Specialty starter fills
B24: HX15 | C24: Non-Formulary Covered Brands
A25: OTC + Diabetes Monitoring + Insulin | B25: HX16 | C25: Over-the-Counter drugs as identified by Medi-Span® as of the Dispensing date
B26: HX17 | C26: Lancets (OTC)
B27: HX18 | C27: Blood glucose test strips (OTC)
B28: HX19 | C28: Blood glucose test strips (Prescription)
B29: HX20 | C29: CGM sensors (Prescription)
B30: HX21 | C30: CGM transmitters & receivers (Prescription)
B31: HX22 | C31: Insulin Administration Supplies (including pen needles, syringes, insulin pump infusion supplies, and disposable insulin delivery pods)
B32: HX23 | C32: Insulin Products
A33: Member Payment / Pricing Basis Exclusions | B33: HX24 | C33: 100% member‑paid claims
B34: HX25 | C34: U&C claims
B35: HX26 | C35: Submitted Cash Price by the participating pharmacy
B36: HX27 | C36: Claims below a minimum plan‑paid percentage
B37: HX28 | C37: Subrogation claims
A38: Product Classification / Market Status / Access Restrictions | B38: HX29 | C38: Multi‑source brands
B39: HX30 | C39: Authorized generics
B40: HX31 | C40: Biosimilars - 351(k) Biosimilar, 351(k) Interchangeable
B41: HX32 | C41: Synthroid claims
B42: HX33 | C42: Limited distribution and exclusive distribution drugs
B43: HX34 | C43: Specialty New to Market Brand Drugs
...

Sheet FF 2.16 Rebate Credit List
A1: =INPUT!$C$3 -> Albemarle County
A2: =INPUT!$D$11 -> RFP<ENTER RFP NUMBER>
A3: =INPUT!$C$23 -> PBM
A4: Price Proposal Form 2.16 - Rebate Credit List
B8: Rebate Credit Lists / Adjusted Product Lists ("Rebate Credits")
B10: The following addresses situations for which minimum guaranteed rebates are reduced for specific drugs / products as a result of substantial list (WAC) price decreases and market pricing events, such as the introduction of lower costing biosimilars.
B12: Does your offer include usage of "rebate credits"? | E12: Select
B14: If yes, list the value of your "rebate credit" given the claim repricing file: | E14: Enter Dollar Amount | G14: << MUST COMPLETE
B16: If yes, what percentage does "rebate credit" represent in terms of ingredient cost? (i.e. Percentage (%) = Rebate Credit Adjustment / Total Ingredient Cost) | E16: Enter %
B18: Please state how your "rebate credits" are calculated:
B20: Definition & Calculation (Method) | C20: Insert Definition and Calculations
B22: If your offer includes a "Rebate Credit" or "Adjusted Product" assumption, please provide the associated listing below:
B24: WAC Price Reduction Products | G24: Low Net Cost Brands
B26: NDC-11 | C26: Product | D26: Effective Date | E26: Program Name | G26: NDC-11 | H26: Name | I26: Reference NDC | J26: Reference Drug Name | K26: Effective Date | L26: Program Name
A27: 1
A28: 2
A29: 3
A30: 4
A31: 5
A32: 6
A33: 7
A34: 8
A35: 9
A36: 10
A37: 11
A38: 12
... A226: 200

Sheet FF 2.17 Specialty Fee Schedule
A1: =INPUT!$C$3 -> Albemarle County
A2: =INPUT!$D$11 -> RFP<ENTER RFP NUMBER>
A3: =INPUT!$C$23 -> PBM
A4: Price Proposal Form 2.17 - Specialty Fee Schedule
B8: SPECIALTY FEE SCHEDULE
B10: Please provide your specialty drug list below. Include % discount off AWP (Medi-Span) for each year; if the drug price is based on MAC, please provide equivalent discount off AWP for Estimated MAC.
B12: Please include any caveats at the bottom. Sample layout below. You may adjust accordingly.
B14: Minimum Guarantees | F14: Year 1 | H14: Year 2 | J14: Year 3
B16: Default Rate Discount | E16: Discount off AWP
B17: Overall Effective Discount | E17: Discount off AWP
B18: Dispensing Fee | E18: Per fill fee
B20: Exceptions / Separate from Above Overall
B21: New to Market Brand Drugs | E21: Discount off AWP
B22: New to Market Generic Drugs | E22: Discount off AWP
B23: New to Market Limited and exclusive distribution Drugs | E23: Discount off AWP
B24: Biosimilar Claims | E24: Discount off AWP
B27: Specialty Rebate Per Fill, assuming 30 day | E27: Per Rebateable Fill
B28: Specialty Rebate Per Fill, assuming 90 day | E28: Per Rebateable Fill
B31: Specialty Drug List - Please expand below to account for all specialty drugs applicable to specialty discount & rebate guarantees
B33: NDC11 | C33: Drug Name | D33: Therapy | E33: MAC Indicator (Yes/No) | F33: Discount Year1 | G33: Dispense Fee Year 1 | H33: Discount Year2 | I33: Dispense Fee Year 2 | J33: Discount Year 3 | K33: Dispense Fee Year 3 | L33: Limited Dist. Indicator (Yes / No) | M33: Brand / Generic | N33: Minimum Guaranteed Specialty Rebate Applicable (Yes/No) | O33: Rebate Credit / Low WAC (Yes/No) See "Rebate Credit List"
A34: 1
A35: =+A34+1 -> 2
A36: =+A35+1 -> 3
A37: =+A36+1 -> 4
A38: =+A37+1 -> 5
A39: =+A38+1 -> 6
A40: =+A39+1 -> 7
A41: =+A40+1 -> 8
A42: =+A41+1 -> 9
A43: =+A42+1 -> 10
A44: =+A43+1 -> 11
A45: =+A44+1 -> 12
A46: =+A45+1 -> 13
... A233: =+A232+1 -> 200

Sheet FF 2.18 340B Definition
A1: =INPUT!$C$3 -> Albemarle County
A2: =INPUT!$D$11 -> RFP<ENTER RFP NUMBER>
A3: =INPUT!$C$23 -> PBM
A4: Price Proposal Form 2.18 - 340B Definition
A8: 340B CLAIMS | G8: Common Sources / Codes
C9: Yes / No | D9: If no, please clarify. | G9: Source | H9: Code | I9: Code Value
A10: 1 | B10: Do you agree that 340B claims from network participating pharmacies (including both 340B covered entities and 340B contracted pharmacies) will be INCLUDED in the discount guarantees? | C10: Select | G10: Submission Clarification Code (420-DK) | H10: 20 | I10: 340B - Indicates that, prior to providing service, the pharmacy has determined the product being billed is purchased pursuant to rights available under Section 340B of the Public Health Act of 1992 uncluding sub-ceiling purchases authorized by Section 340B (a)(10) and those made through the Prime Vendor Program (Section 340B(a)(8)).
A12: 2 | B12: Do you agree that the definition of 340B claim will NOT apply to any claim from your PBM-owned pharmacies (retail, mail, and specialty)? (including any parent company owned / co-owned subsidiaries) | C12: Select | G12: NCPDP DataQ | H12: 38 | I12: Site is owned by a participating 340B covered entity but also serves non Eligible Patients
A14: 3 | B14: Please enter your definition of 340B. "340B Claim means…" | C14: Enter Definition Here | G14: NCPDP DataQ | H14: 39 | I14: Site is owned by a participating 340B covered entity and serves only Eligible Patients
A16: 4a | B16: Does your parent company own or co-own any subsidiary (entity) involved in the identification of 340B claims? (commonly known as 340B third party administrator [340B TPA]) | C16: Select
A17: If 4a is "Yes", please complete the following: (4b, 4c, 4d)
A18: 4b | B18: Please provide information on the subsidiary that identifies 340B claim status - name, address, years of operation
A19: 4c | B19: How are 340B claims identified by your subsidiary? Does your subsidiary verify established patient relationship with the covered entity? Does your subsidiary verify the covered entity is Disproportionate Share Hospital [DISH] Qualified?
A20: 4d | B20: How is your subsidiary compensated?
A22: 5 | B22: REQUIRED ACCESS TO 340B CLAIM RECORDS - Upon request by plan sponsor, consultant, and designated PBM auditor, do you agree to provide access to all 340B claim records to said parties (plan sponsor, consultant, PBM auditor). Elements include but are not limited to: Claim ID, patient ID, patient first name, patient last name, patient date of birth, date of service (fill date), NDC-11, drug label, pharmacy NPI, pharmacy name, prescriber NPI, prescriber name, unit quantity, days supply, AWP, ingredient cost, dispensing fees, sales tax, gross cost, member cost, plan cost If any claim identified as 340B which result in exclusion from financial guarantees and/or loss of rebates, the plan sponsor, consultant, and PBM auditor must have full access and transparency into these record details. | C22: Select | D22: Optional Clarification
A24: 6 | B24: REQUIRED ACCESS TO 340B IDENTIFICATION DETAILS - Do you agree to provide access to all records and communications associated with a 340B third party administrator, manufacturer, or covered entity, specific to identification of a 340B claim for plan sponsor. (You may redact or exclude any information for other plan sponsors, but continue to provide details specific to this plan sponsor.) In other words, if a claim is identified as a "340B claim" and ineligible for a rebate to the plan sponsor, will you provide all supporting documentation applicable to the 340B claim assignment? This would include (but not limited to) documentation showing established patient relationship. If any claim identified as 340B which result in exclusion from financial guarantees and/or loss of rebates, the plan sponsor, consultant, and PBM auditor must have full access and transparency into these record details. | C24: Select | D24: Optional Clarification

Sheet FF 2.19 Effective Rebate
A1: =INPUT!$C$3 -> Albemarle County
A2: =INPUT!$D$11 -> RFP<ENTER RFP NUMBER>
A3: =INPUT!$C$23 -> PBM
A4: Price Proposal Form 2.19 - Effective Rebate
A8: EFFECTIVE REBATE
A10: Assuming no coverage for weight-loss GLP-1 drugs:
C12: % - Book of Business - Actual value of rebates (less "rebate credits", if applicable) as a percentage of ingredient cost (most recent reconciled year / audit) i.e. [25% - 45%] = actual rebates to client / ingredient cost
A14: Assuming your formulary offering:
C16: % - Estimated value of rebates (less "rebate credits", if applicable) as a percentage of ingredient cost i.e. [25% - 45%] = estimated actual rebates received by client / ingredient cost

Sheet FF 2.20 PBSA Copy
A1: =INPUT!$C$3 -> Albemarle County
A2: =INPUT!$D$11 -> RFP<ENTER RFP NUMBER>
A3: =INPUT!$C$23 -> PBM
A4: Price Proposal Form 2.20 - PBSA Copy
A8: PHARMACY BENEFIT SERVICE AGREEMENT
B10: Yes / No
B11: Select | C11: Please confirm you provided a copy of your Pharmacy Benefit Service Agreement (may be draft) with all applicable definitions/terms for this quote. If there is a separate contract, please include that contract. If any participation agreements are required, please provide them.

Sheet FF 3.0 PG
B1: =INPUT!$C$3 -> Albemarle County
B2: =INPUT!$D$11 -> RFP<ENTER RFP NUMBER>
B3: =INPUT!$C$23 -> PBM
B4: =INPUT!F91 -> Price Proposal Form 3.0 - Performance Guarantees
B6: Please confirm your acceptance of the Minimum Standard for each performance guarantee metric and the correlating fees at risk. These commitments must be client-specific and not reflective of your overall book of business.
B7: If you are able to provide an Alternative Minimum Standard for any of the items (i.e., over and above the Minimum Standard), please detail these Alternative Minimum Standards.
C9: Bidder Name | D9: ='Instructions & Info'!$C$44 -> 0
B11: Service Category | C11: Minimum Standards/Results | D11: Response | E11: Alternative Minimum Standard (Describe) | F11: Required Percent of Fees at Risk | G11: Unit Basis
B12: Implementation | C12: Code benefits in the systems (claims, member services, etc.) with 100% accuracy | D12: <Select One> | G12: <Select One>
C13: Provide benefits and financial contracts within two months of the plan effective date | D13: <Select One> | G13: <Select One>
B14: Eligibility | C14: Eligibility updates: System must be updated within 2 business days of receipt of enrollment/eligibility data ; receipts after 4:00 pm are recorded as the following business day. | D14: <Select One> | G14: <Select One>
C15: Manual eligibility updates: Emergency requests completed within one hour; rush requests completed by close of business the same day | D15: <Select One> | G15: <Select One>
C16: Eligibility updates will be guaranteed with 98% accuracy. | D16: <Select One> | G16: <Select One>
B17: ID Cards | C17: Timely delivery of initial ID cards: 99% mailed within 10 business days after eligibility data has been provided by the client. This includes all initial ID cards for new enrollees. | D17: <Select One> | G17: <Select One>
C18: Accuracy of new and replacement ID cards: 100% of all ID cards will contain accurate information compared to the enrollment information furnished by the client. | D18: <Select One> | G18: <Select One>
B19: Account Management | C19: Average evaluation score of 4.0 or higher out of 5 or 85% satisfaction. | D19: <Select One> | G19: <Select One>
C20: Client inquiry: Response Less than or equal to 2 business days | D20: <Select One> | G20: <Select One>
B21: Network Maintenance | C21: Network utilization rate must be 80% or greater | D21: <Select One> | G21: <Select One>
C22: Report loss of providers and provider groups with membership greater than 50 employees within 10 days of notification of plan withdrawal | D22: <Select One> | G22: <Select One>
B23: Claims Administration | C23: 95.0% of all claims processed within 5 business days | D23: <Select One> | G23: <Select One>
C24: 99% financial (dollar) accuracy the total dollar amount paid correctly in the sample divided by the total dollar amount paid in the sample. | D24: <Select One> | G24: <Select One>
C25: 97% payment accuracy the number of claims in the sample without payment errors divided by the total number of claims in the sample. | D25: <Select One> | G25: <Select One>
C26: 95% processing accuracy the number of claims in the sample without payment or nonpayment errors divided by the total number of claims in the sample | D26: <Select One> | G26: <Select One>
B27: Customer Service | C27: Average speed of answer will be less than 25 seconds | D27: <Select One> | G27: <Select One>
C28: Call abandonment rate will be 3% or less, reported annually | D28: <Select One> | G28: <Select One>
C29: Same day call resolution will be > 98% | D29: <Select One> | G29: <Select One>
C30: Complaint acknowledgement within five business days (all cases) | D30: <Select One> | G30: <Select One>
C31: Complaint resolution within 30 calendar days (all cases) | D31: <Select One> | G31: <Select One>
C32: 85% of participants that respond to the Enrollee Satisfaction Survey will rate carrier overall as Good, Very Good or Excellent. | D32: <Select One> | G32: <Select One>
C33: Preferred provider retention rate of > 90% (based on voluntary turnover) | D33: <Select One> | G33: <Select One>
B34: Web Portal Availability | C34: Portal must be available for all members to access 99% of the time | D34: <Select One> | G34: <Select One>
C35: All members must have access to enroll in an online member account within 30 days of their enrollment. | D35: <Select One> | G35: <Select One>
B36: Client Reporting | C36: Client-specific reporting package as agreed upon will be provided within 25 days from the close of the month. | D36: <Select One> | G36: <Select One>
B37: TOTAL ADMINISTRATION AT RISK | F37: =SUM(F12:F36) -> 0 | G37: <Select One>
B38: Unless specified above, the length of the Performance Guarantee period will follow the term of the sold contract period.

Sheet TF 4.0 DEV
B1: =INPUT!$C$3 -> Albemarle County
B2: =INPUT!$D$11 -> RFP<ENTER RFP NUMBER>
B3: =INPUT!$C$23 -> PBM
B4: =INPUT!F86 -> Price Proposal Form 4.0 - Deviations
B7: All deviations to the current plans arrangements, programs, specifications, etc. must be noted on this proposal form.
D9: Bidder Name | E9: ='Instructions & Info'!$C$44 -> 0
B11: Form / Section | C11: Item # | D11: Description | E11: Deviations

Sheet TF 5.0 DIFF
B1: =INPUT!$C$3 -> Albemarle County
B2: =INPUT!$D$11 -> RFP<ENTER RFP NUMBER>
B3: =INPUT!$C$23 -> PBM
B4: =INPUT!F87 -> Price Proposal Form 5.0 - Key Differentiators
B6: Please note any capabilities or offerings specific to your organization that are beneficial to your book of business.
B9: Bidder Name | C9: ='Instructions & Info'!$C$44 -> 0
B11: CATEGORY | C11: KEY DIFFERENTIATORS

Sheet TF 6.0 REF
B1: =INPUT!$C$3 -> Albemarle County
B2: =INPUT!$D$11 -> RFP<ENTER RFP NUMBER>
B3: =INPUT!$C$23 -> PBM
B4: =INPUT!F88 -> Price Proposal Form 6.0 - References
C6: Bidder Name | D6: ='Instructions & Info'!$C$44 -> 0
B8: References
B9: Provide three (3) current and two (2) former clients of similar size for whom you provide administration for the benefit plans you are quoting. Provide requested references of similar sized contracts serviced during the past eighteen (18) months.
B10: Current Client References
B11: 1 | C11: Client Name
B12: a | C12: City / State
B13: b | C13: Contact Name(s)
B14: c | C14: Title
B15: d | C15: Number of Years Since Implementation
B16: e | C16: Number of Covered Lives
B17: f | C17: Contact Email Address
B18: g | C18: Contact Phone Number
B19: h | C19: List Services Provided (applicable to RFP)
B21: =1+B11 -> 2 | C21: Client Name
B22: a | C22: City / State
B23: b | C23: Contact Name(s)
B24: c | C24: Title
B25: d | C25: Number of Years Since Implementation
B26: e | C26: Number of Covered Lives
B27: f | C27: Contact Email Address
B28: g | C28: Contact Phone Number
B29: h | C29: List Services Provided (applicable to RFP)
B31: =1+B21 -> 3 | C31: Client Name
B32: a | C32: City / State
B33: b | C33: Contact Name(s)
B34: c | C34: Title
B35: d | C35: Number of Years Since Implementation
B36: e | C36: Number of Covered Lives
B37: f | C37: Contact Email Address
B38: g | C38: Contact Phone Number
B39: h | C39: List Services Provided (applicable to RFP)
B41: Former Client References
B42: 1 | C42: Client Name
B43: a | C43: City / State
B44: b | C44: Contact Name(s)
B45: c | C45: Title
...
