Workbook

Sheet Rate History
B1: =INPUT!$C$3 -> Albemarle County
B2: =INPUT!$D$11 -> RFP#<######>
B3: =INPUT!$C$23 -> Medical
B4: Rate History - Monthly Rates
B8: =INPUT!C16 -> Medical | E8: Enrollment | G8: =INPUT!D8 -> 46023 | H8: =EDATE(G8,-12) -> 45658 | I8: =EDATE(H8,-12) -> 45292 | J8: =EDATE(I8,-12) -> 44927
B9: =INPUT!$C$3 -> Albemarle County
C10: Base ASO Fee | E10: =SUM(E19,E28,E37,E46) -> 3348 | G10: 28.15
C12: Specific Stop Loss Deductible | G12: 450000 | H12: 400000 | I12: 400000
C13: Specific Stop Loss Fee | E13: =SUM(E19,E28,E37,E46) -> 3348 | G13: 93.77 | H13: 91.07
C18: Plan Name | E18: PPO
C19: TOTAL | E19: =SUM(E20:E25) -> 1745
B20: Premiums | C20: =INPUT!$C$123 -> Subscriber Only | E20: =INPUT!D182 -> 847
C21: =INPUT!$C$124 -> Subscriber + Spouse | E21: =INPUT!D183 -> 167
C22: =INPUT!$C$125 -> Subscriber + Child | E22: =INPUT!D184 -> 243
C23: =INPUT!$C$126 -> Subscriber + Child(ren) | E23: =INPUT!D185 -> 218
C24: =INPUT!$C$127 -> Family | E24: =INPUT!D186 -> 270
C25: =INPUT!$C$128 -> Medicare
C27: Plan Name | E27: HDHP
C28: TOTAL | E28: =SUM(E29:E34) -> 1117
B29: Premiums | C29: =INPUT!$C$123 -> Subscriber Only | E29: =INPUT!F182 -> 654
C30: =INPUT!$C$124 -> Subscriber + Spouse | E30: =INPUT!F183 -> 81
C31: =INPUT!$C$125 -> Subscriber + Child | E31: =INPUT!F184 -> 99
C32: =INPUT!$C$126 -> Subscriber + Child(ren) | E32: =INPUT!F185 -> 135
C33: =INPUT!$C$127 -> Family | E33: =INPUT!F186 -> 148
C34: =INPUT!$C$128 -> Medicare
C36: Plan Name | E36: POS
C37: TOTAL | E37: =SUM(E38:E43) -> 486
B38: Premiums | C38: =INPUT!$C$123 -> Subscriber Only | E38: {=INPUT!H182:H186} -> 263
C39: =INPUT!$C$124 -> Subscriber + Spouse | E39: 24
C40: =INPUT!$C$125 -> Subscriber + Child | E40: 44
C41: =INPUT!$C$126 -> Subscriber + Child(ren) | E41: 76
C42: =INPUT!$C$127 -> Family | E42: 79
C43: =INPUT!$C$128 -> Medicare
C45: Plan Name
C46: TOTAL | E46: =SUM(E47:E52) -> 0
B47: Premiums | C47: =INPUT!$C$123 -> Subscriber Only
C48: =INPUT!$C$124 -> Subscriber + Spouse
C49: =INPUT!$C$125 -> Subscriber + Child
C50: =INPUT!$C$126 -> Subscriber + Child(ren)
C51: =INPUT!$C$127 -> Family
...

Sheet INPUT
B1: Key: | C1: Internal Inputs (Bolton) | D1: Bidder Inputs | K1: Internal Instructions
K2: -Hide this worksheet before releasing to Market
B3: Group Name: | C3: Albemarle County | D3: Group Abbreviation: | E3: <Abbreviation> | F3: Additional Group Name: | G3: <Other Group Name>
B5: Sub-Groups: | C5: <Sub-group 1> | D5: <Sub-group 2> | E5: <Sub-group 3> | F5: <Sub-group 4> | G5: <Sub-group 5> | S5: TF | T5: Technical Proposal Form
S6: FF | T6: Financial Proposal Form
C7: Effective Date (MM/DD/YYY) | D7: Current YTD | E7: Prior Year 1 | F7: Prior Year 2 | S7: PF | T7: Price Proposal Form
B8: Plan Years: | C8: 46753 | D8: 46023 | E8: 45658 | F8: 45292
D10: Final For Reference
B11: RFP# | C11: <######> | D11: =B11&C11 -> RFP#<######>
B13: Proposal Form Type: | C13: Technical Proposal | D13: Price Proposal | K13: Internal Checklist:
F14: Rate Guarantee: | K14: Is everything printer friendly
B15: Benefit Coverage / Services: | F15: Years | K15: Group Name Changed
B16: Benefit Name 1 | C16: Medical | F16: 3 | G16: Three | K16: Worksheet Forms coordinate with name of Worksheet Tab Name
B17: Benefit Name 2 | F17: 3 | G17: Three | K17: Worksheet Form coordinates with table of contents and specific questions referencing Worksheet Form
B18: Benefit Name 3 | F18: 3 | G18: Three | K18: Sheets are protected
B19: Benefit Name 4 | C19: Medical | F19: 3 | G19: Three
B20: Benefit Name 5 | C20: Drug | F20: 3 | G20: Three | K20: Roboto Font
B21: Benefit Name 6 | C21: Stop-Loss
B23: Final For Reference | C23: Medical | E23: Final For Reference | F23: =G16&" ("&F16&")"&" Years" -> Three (3) Years
B35: Applicable Coverages | C35: Proposal Form | D35: # | E35: Name | F35: Final For Reference (Worksheet Name) | G35: Worksheet Tab
B36: ~ | C36: ~ | D36: ~ | E36: ~ | F36: ~ | G36: ~
B37: ALL | C37: Technical | D37: 1.0 | E37: General Questionnaire | F37: =C37&" Proposal Form "&D37&" - "&E37 -> Technical Proposal Form 1.0 - General Questionnaire | G37: =LEFT(C37,1)&"F "&D37 -> TF 1.0
B38: ALL | C38: Technical | D38: 1.1 | E38: Client Specific Questionnaire | F38: =C38&" Proposal Form "&D38&" - "&E38 -> Technical Proposal Form 1.1 - Client Specific Questionnaire | G38: =LEFT(C38,1)&"F "&D38 -> TF 1.1
B39: ALL | C39: Financial | D39: 5.0 | E39: Performance Guarantees | F39: =C39&" Proposal Form "&D39&" - "&E39 -> Financial Proposal Form 5.0 - Performance Guarantees | G39: =LEFT(C39,1)&"F "&D39 -> FF 5.0
B40: ALL | C40: Technical | D40: 6.0 | E40: Deviations | F40: =C40&" Proposal Form "&D40&" - "&E40 -> Technical Proposal Form 6.0 - Deviations | G40: =LEFT(C40,1)&"F "&D40 -> TF 6.0
B41: ALL | C41: Technical | D41: 7.0 | E41: Key Differentiators | F41: =C41&" Proposal Form "&D41&" - "&E41 -> Technical Proposal Form 7.0 - Key Differentiators | G41: =LEFT(C41,1)&"F "&D41 -> TF 7.0
B42: ALL | C42: Technical | D42: 8.0 | E42: References | F42: =C42&" Proposal Form "&D42&" - "&E42 -> Technical Proposal Form 8.0 - References | G42: =LEFT(C42,1)&"F "&D42 -> TF 8.0
F43: =C43&" Proposal Form "&D43&" - "&E43 -> Proposal Form - | G43: =LEFT(C43,1)&"F "&D43 -> F
B44: MED | C44: Technical | D44: 1.2 | E44: Medical Questionnaire | F44: =C44&" Proposal Form "&D44&" - "&E44 -> Technical Proposal Form 1.2 - Medical Questionnaire | G44: =LEFT(C44,1)&"F "&D44 -> TF 1.2
B45: MED | C45: Technical | D45: 5.0 | E45: Proposed Medical Plan Design | F45: =C45&" Proposal Form "&D45&" - "&E45 -> Technical Proposal Form 5.0 - Proposed Medical Plan Design | G45: =LEFT(C45,1)&"F "&D45 -> TF 5.0
B46: MED | C46: Technical | D46: 2.0 | E46: Medical Geo Access | F46: =C46&" Proposal Form "&D46&" - "&E46 -> Technical Proposal Form 2.0 - Medical Geo Access | G46: =LEFT(C46,1)&"F "&D46 -> TF 2.0
B47: MED | C47: Technical | D47: 3.0 | E47: Medical Providers by County | F47: =C47&" Proposal Form "&D47&" - "&E47 -> Technical Proposal Form 3.0 - Medical Providers by County | G47: =LEFT(C47,1)&"F "&D47 -> TF 3.0
B48: MED | C48: Technical | D48: 3.1 | E48: Medical Providers by County HDHP | F48: =C48&" Proposal Form "&D48&" - "&E48 -> Technical Proposal Form 3.1 - Medical Providers by County HDHP | G48: =LEFT(C48,1)&"F "&D48 -> TF 3.1
B49: MED | C49: Technical | D49: 3.2 | E49: Medical Providers by County POS | F49: =C49&" Proposal Form "&D49&" - "&E49 -> Technical Proposal Form 3.2 - Medical Providers by County POS | G49: =LEFT(C49,1)&"F "&D49 -> TF 3.2
B50: MED | C50: Technical | D50: 4.0 | E50: Top Non-Facility Providers | F50: =C50&" Proposal Form "&D50&" - "&E50 -> Technical Proposal Form 4.0 - Top Non-Facility Providers | G50: =LEFT(C50,1)&"F "&D50 -> TF 4.0
B51: MED | C51: Technical | D51: 4.1 | E51: Top Non-Facility Providers HDHP | F51: =C51&" Proposal Form "&D51&" - "&E51 -> Technical Proposal Form 4.1 - Top Non-Facility Providers HDHP | G51: =LEFT(C51,1)&"F "&D51 -> TF 4.1
B52: MED | C52: Technical | D52: 4.2 | E52: Top Non-Facility Providers POS | F52: =C52&" Proposal Form "&D52&" - "&E52 -> Technical Proposal Form 4.2 - Top Non-Facility Providers POS | G52: =LEFT(C52,1)&"F "&D52 -> TF 4.2
B53: MED | C53: Technical | D53: 4.1 | E53: Top Facility Providers | F53: =C53&" Proposal Form "&D53&" - "&E53 -> Technical Proposal Form 4.1 - Top Facility Providers | G53: =LEFT(C53,1)&"F "&D53 -> TF 4.1
B54: MED | C54: Technical | D54: 4.3 | E54: Top Facility Providers HDHP | F54: =C54&" Proposal Form "&D54&" - "&E54 -> Technical Proposal Form 4.3 - Top Facility Providers HDHP | G54: =LEFT(C54,1)&"F "&D54 -> TF 4.3
B55: MED | C55: Technical | D55: 4.3 | E55: Top Facility Providers POS | F55: =C55&" Proposal Form "&D55&" - "&E55 -> Technical Proposal Form 4.3 - Top Facility Providers POS | G55: =LEFT(C55,1)&"F "&D55 -> TF 4.3
...

Sheet Instructions & Info
B1: =INPUT!$C$3 -> Albemarle County
B2: =INPUT!$D$11 -> RFP#<######>
B3: =INPUT!$C$23 -> Medical
B4: Instructions
B6: Please Read:
B7: NOTICE: | C7: You must read these instructions in full and confirm you have read and understand them by entering your name and date in the appropriate fields at the bottom of this spreadsheet.
B8: Instructions: | C8: ="The following Proposal Forms in this workbook will be used to gather vendor responses in regards to your capabilities to provide the required services of this RFP to "&$B$1&". Your responses will be compared and evaluated against the other vendors' responses. " -> The following Proposal Forms in this workbook will be used to gather vendor responses in regards to your capabilities to provide the required services of this RFP to Albemarle County. Your responses will be compared and evaluated against the other vendors' responses.
C9: Please do not modify the tabs. Modifying the tabs or layout may eliminate your company from consideration. Please do not: - Add or Delete Cells - Renumber or Add Questions - Delete Questions - If you cannot respond to a question please just note - 'No Response Available' or 'N/A'. Responses to questions should be brief and concise. 'Yes' or 'No' responses are encouraged when appropriate within the dropdown menu. The maximum amount of characters for a response is 500.
B10: Hold Harmless Agreement | C10: Vendor shall indemnify and hold harmless the Client, its respective directors, officers, employees (acting in the course of their employment, but not as claimants) and agents, against any and all liability or expense (including the cost of legal defense or settlement) which was caused by (vendor’s) negligent or intentional misconduct, breach of this Agreement, fraud, or its breach of fiduciary responsibility, related to or arising out of this Agreement or the Client’s role as employer or Plan sponsor. The party seeking indemnification under (a) above must notify the indemnifying party promptly in writing of any actual or threatened action, suit or proceeding to which it claims such indemnity applies. Failure to notify the indemnifying party shall be deemed a waiver of the right to seek indemnification. The party seeking indemnification may assume responsibility for the direction of its own defense at any time, including the right to settle or compromise any claim against it without the consent of the indemnifying party, provided that in doing so it shall be deemed to have waived its right to indemnification except in cases where the indemnifying party has declined to defend against the claim. The indemnification obligations of (vendor) shall terminate upon the expiration of the Agreement except as to any matter concerning which a claim has been asserted by notice to the other party at the time of such expiration or within 365 days after effective date of Agreement termination.
B11: RFP Information
B12: RFP Coverages: | C12: =INPUT!$C$23 -> Medical
B13: Effective Date for all Lines: | C13: =INPUT!$C$8 -> 46753
B14: Current Carrier(s): | C14: Coverage | D14: Carrier Name
C15: Medical | D15: Anthem
C16: Rx | D16: Anthem
C17: Clinical Programs / Point Solutions | D17: CareATC
C18: HRIS / Benefits Administrator | D18: ADP
B19: Current Plans: | C19: PPO
C20: HDHP
C21: POS
B27: Proposed Plans: | C27: PPO
C28: HDHP
C29: POS
B35: Proposed Fee Guarantee: | C35: =INPUT!F23 -> Three (3) Years
B36: Notes:
B37: Current Commissions: | C37: 1.97
B38: Requested Commissions: | C38: 1.97
B39: RFP Timeline: | C39: Activity | D39: Date
C40: RFP Released | D40: 46297
C41: Deadline to submit questions | D41: 46336
C42: Addendum with responses released to vendors | D42: 46338
C43: RFPs due | D43: 46343
C44: Bidder interviews conducted (Optional) | D44: 46447
C45: Evaluate Financial RFP Responses, Score and Select Finalists (if applicable) or winning Vendor | D45: 46472
C46: Request BAFO (if applicable)
C47: BAFO Due (if applicable)
C48: Evaluate BAFO, Finalize Analysis and Recommendations (if applicable)
C49: Select Vendor | D49: 46539
C50: Implementation (including Open Enrollment) | D50: 46568
C51: Effective Date | D51: =INPUT!$C$8 -> 46753
...

Sheet REPRICING FILE
B1: =INPUT!$C$3 -> Albemarle County
B2: =INPUT!$D$11 -> RFP#<######>
B3: =INPUT!$C$23 -> Medical
B4: Claims Repricing File
B6: Please complete the repricing excel file(s) that was sent separately from this bidforms workbook:
B7: .xlsb

Sheet FF 1.0 MED Q
B1: =INPUT!$C$3 -> Albemarle County
B2: =INPUT!$D$11 -> RFP#<######>
B3: =INPUT!$C$23 -> Medical
B4: =INPUT!F67 -> Financial Proposal Form 1.0 - Medical Questionnaire
B6: This Questionnaire is designed for you to answer specific questions regarding your organization and the services you are proposing. Please respond to these questions completely and accurately. Please choose from the drop down in the "Response" column when available and input your response in the "Additional Response" Section. Also provide attachments when applicable.
E8: Bidder Name | F8: ='Instructions & Info'!$C$59 -> 0
B10: # | C10: Question | D10: ACTION | E10: RESPONSE | F10: ADDITIONAL RESPONSE | G10: Character Length
B11: 1 | C11: Confirm your proposed admin fees are mature for the 1st year. | D11: Provide Response | E11: <Select One> | G11: =LEN(F11) -> 0
B12: =B11+1 -> 2 | C12: Confirm your administration fees are firm for a minimum of 3 years | D12: Provide Response | E12: <Select One> | G12: =LEN(F12) -> 0
B13: =B12+1 -> 3 | C13: Which funding arrangement are you proposing for the proposed Self-Insured standardized plans? | D13: Provide Response | E13: <Select One> | G13: =LEN(F13) -> 0
B14: =B13+1 -> 4 | C14: Confirm you agree to a self-billing format for administrative fees. | D14: Provide Response | E14: <Select One> | G14: =LEN(F14) -> 0
B15: =B14+1 -> 5 | C15: Confirm no advance deposits or prefunding of claims is required. If advanced deposits are required for HSCRC regulated claims, please specify the amount and/or the methodology by which that amount is determined. | D15: Provide Response | E15: <Select One> | G15: =LEN(F15) -> 0
B16: =B15+1 -> 6 | C16: Describe any late penalties that may be assessed. | D16: Provide Response | E16: <Select One> | G16: =LEN(F16) -> 0
B17: =B16+1 -> 7 | C17: How do you determine your fee schedule for Medical claims? | D17: Provide Response | E17: <Select One> | G17: =LEN(F17) -> 0
B18: =B17+1 -> 8 | C18: How often do you update your fee schedule for the Medical provider network(s) for the plan you are proposing? | D18: Provide Response | E18: <Select One> | G18: =LEN(F18) -> 0
B19: =B18+1 -> 9 | C19: Confirm you can provide ID card preparation, printing and mailing to employee's home at no additional cost. If there is an additional cost, please describe. | D19: Provide Response | E19: <Select One> | G19: =LEN(F19) -> 0
B20: =B19+1 -> 10 | C20: Will there be any implementation fees should the business be awarded? | D20: Provide Response | E20: <Select One> | G20: =LEN(F20) -> 0
B21: =B20+1 -> 11 | C21: Will you provide an implementation credit if awarded the business? | D21: Provide Response | E21: <Select One> | G21: =LEN(F21) -> 0
B22: =B21+1 -> 12 | C22: Will you offer any Wellness credits? Please specify amount and if this credit will be provided for all years of the awarded contract (3 years plus 2, 1-year extensions)? Also describe any limitations to the use of this credit and documentation required. | D22: Provide Response | E22: <Select One> | G22: =LEN(F22) -> 0
C23: a. Are wellness credits permitted to be applied toward monetary incentives, such as cash rewards or gift cards outlined by the client if a member participates in an activity. | D23: Provide Response | E23: <Select One> | G23: =LEN(F23) -> 0
B24: =B22+1 -> 13 | C24: Will you offer any communication credits? Please specify amount and if this credit will be provided for all years of the awarded contract (3 years plus 2, 1-year extensions)? Also describe any limitations to the use of this credit and documentation required. | D24: Provide Response | E24: <Select One> | G24: =LEN(F24) -> 0
B25: =B24+1 -> 14 | C25: Will you offer any technology credits? Please specify amount and if this credit will be provided for all years of the awarded contract (3 years plus 2, 1-year extensions)? Also describe any limitations to the use of this credit and documentation required. | D25: Provide Response | E25: <Select One> | G25: =LEN(F25) -> 0
B26: =B25+1 -> 15 | C26: Will you offer any discretionary credits? Please specify amount and if this credit will be provided for all years of the awarded contract (3 years plus 2, 1-year extensions)? Also describe any limitations to the use of this credit and documentation required. | D26: Provide Response | E26: <Select One> | G26: =LEN(F26) -> 0
B27: =B26+1 -> 16 | C27: Is there any impact to rates/fees if you are awarded multiple lines of coverage? | D27: Provide Response | E27: <Select One> | G27: =LEN(F27) -> 0
B28: =B27+1 -> 17 | C28: Indicate whether billing statements and accompanying paid claims detail are available online to the Client's benefits personnel. | D28: Provide Response | E28: <Select One> | G28: =LEN(F28) -> 0
B29: =B28+1 -> 18 | C29: Confirm renewals will be delivered by 180 days prior to the start of each renewal plan year. | D29: Provide Response | E29: <Select One> | G29: =LEN(F29) -> 0
B30: =B29+1 -> 19 | C30: Confirm fees are final regardless of plan enrollment unless enrollment changes by +/- 15% | D30: Provide Response | E30: <Select One> | G30: =LEN(F30) -> 0
B31: =B30+1 -> 20 | C31: How will renewals be calculated for a group of this size? | D31: Provide Response | E31: <Select One> | G31: =LEN(F31) -> 0
B32: =B31+1 -> 21 | C32: Describe how claims are funded and frequency of funding. Please describe the reconciliation process. | D32: Provide Response | E32: <Select One> | G32: =LEN(F32) -> 0
B33: =B32+1 -> 22 | C33: Provide a list all online benefit administration platforms you integrate with, and if you provide a PEPM offset or other credit to the benefit administration fee if one of these platforms are used in the future. Please list the amount of credit or offset that would be provided in the event a new online benefit administration system is implemented. | D33: Provide Response / Attachment | E33: <Select One> | G33: =LEN(F33) -> 0
B34: =B33+1 -> 23 | C34: Please provide details for all shared savings components of your program, including OON claims, subrogated claims, secondary network claims, claims adjudicated outside of the local network (if applicable), etc. | D34: Provide Response / Attachment | E34: <Select One> | G34: =LEN(F34) -> 0
B35: =B34+1 -> 24 | C35: Describe the process for reporting shared savings to the client and the frequency reported.
B36: =B35+1 -> 25 | C36: Please propose a PEPM cap for shared savings fees. | D36: Provide Response | E36: <Select One>
B37: =B36+1 -> 26 | C37: Confirm there will be no run-out fees on claims incurred under the contract period If the contract were terminated at the end of year one. | D37: Provide Response | E37: <Select One> | G37: =LEN(F37) -> 0
B38: =B37+1 -> 27 | C38: With respect to provider contracting, are you capable of bundling services for payment? If so, please describe the savings opportunity for the Client and provide examples of services that would be bundled. | D38: Provide Response | E38: <Select One> | G38: =LEN(F38) -> 0
B39: =B38+1 -> 28 | C39: Will there be any impact to the ASO fee or any proposed pricing if stop loss is carved-out? | D39: Provide Response | E39: <Select One> | G39: =LEN(F39) -> 0
B40: ~ | C40: CAPITATION | G40: =LEN(F40) -> 0
B41: =B39+1 -> 29 | C41: Does your proposal include fixed charges for behavioral health services? If so, what are the associated costs on a PEPM basis? What is the annual increase to these charges? | D41: Provide Response | E41: <Select One> | G41: =LEN(F41) -> 0
B42: =B41+1 -> 30 | C42: Does the proposal include capitated charges for the provision of High-Tech Radiology or management of certain Specialists (e.g. Chiropractic)? If so, what are the associated costs on a PEPM basis? What is the annual increase to these charges? | D42: Provide Response | E42: <Select One> | G42: =LEN(F42) -> 0
B43: =B42+1 -> 31 | C43: Describe any other services that have capitation or fixed charges and the estimated PEPM associated with these charges. Describe the annual increases to these charges. | D43: Provide Response | E43: <Select One> | G43: =LEN(F43) -> 0
...

Sheet FF 2.0 MED ASO Fee
B1: =INPUT!$C$3 -> Albemarle County
B2: =INPUT!$D$11 -> RFP#<######>
B3: =INPUT!$C$23 -> Medical
B4: =INPUT!F60 -> Financial Proposal Form 2.0 - Medical Self-Funded ASO Fees
B6: Bidder Name | D6: ='Instructions & Info'!$C$59 -> 0
D8: ALL PLANS
B9: MEDICAL - Administrative Services Only (ASO) | D9: Current Plan Design
B10: Enrollment (Monthly)
B11: Enrolled Subscribers | D11: =SUM('Rate History'!$E$20:$E$25,'Rate History'!$E$29:$E$34,'Rate History'!$E$38:$E$43,'Rate History'!$E$47:$E$52) -> 3348
B13: Total
B14: FEES - Per Subscriber Per Month (PSPM) | D14: Mature Basis ($) | E14: Included in Base Admin Fee | F14: Optional / Buy-Up | G14: Comments
B15: Base Administrative Fee | D15: <Enter Amount>
B16: Initial Plan Installation Fees (set-up fees) | D16: <Enter Amount> | E16: <Select One> | F16: <Select One>
B17: Network Access Fee | D17: <Enter Amount> | E17: <Select One> | F17: <Select One>
B18: PBM Interface/Integration Fee (Carve-out) | D18: <Enter Amount> | E18: <Select One> | F18: <Select One>
B19: 3rd Party Stop Loss Interface/Integration Fee (Carve-out) | D19: <Enter Amount> | E19: <Select One> | F19: <Select One>
B20: Vendor Interface Fee/Data Extract File Fee | D20: <Enter Amount> | E20: <Select One> | F20: <Select One>
B21: Utilization & Case Management | D21: <Enter Amount> | E21: <Select One> | F21: <Select One>
B22: Disease Management Programs | D22: <Enter Amount> | E22: <Select One> | F22: <Select One>
B23: Behavioral Care (Mental Health & Substance Abuse) | D23: <Enter Amount> | E23: <Select One> | F23: <Select One>
B24: Claims Fiduciary - As claims fiduciary, you will be responsible for final claims determination and the legal defense of disputed benefits payments for vision. | D24: <Enter Amount> | E24: <Select One> | F24: <Select One>
B25: Self-funded run-off claims for 12 months following the termination | D25: <Enter Amount> | E25: <Select One> | F25: <Select One>
B26: ID Card(s) Printed and Mailed to New Members | D26: <Enter Amount> | E26: <Select One> | F26: <Select One>
B27: SBCs, Benefit Summaries, and Evidence or Certificate of Coverage | D27: <Enter Amount> | E27: <Select One> | F27: <Select One>
... B36: Other (Name) | D36: <Enter Amount> | E36: <Select One> | F36: <Select One>
B37: TOTAL ADMINISTRATIVE FEES
B38: TOTAL ANNUAL FIXED COST | D38: =D37*12*D11 -> 0
B39: ADMINISTRATIVE FEE / PREMIUM RATE GUARANTEES | D39: Provide Fee Cap or Guarantee for all Years of Contract
B40: ="YEAR 2 - "&YEAR(INPUT!$C$8)+1 -> YEAR 2 - 2029
B41: ="YEAR 3 - "&YEAR(INPUT!$C$8)+2 -> YEAR 3 - 2030
B42: ="YEAR 4 - "&YEAR(INPUT!$C$8)+3 -> YEAR 4 - 2031
B43: ="YEAR 5 - "&YEAR(INPUT!$C$8)+4 -> YEAR 5 - 2032
B44: GUARANTEES | D44: Dollar, % Admin Fee and/or PSPM
B45: Provider Recruitment Guarantee
B46: In-Network Utilization Guarantee
B47: Trend OR Discount Guarantee
B48: Other (Name)
B50: CREDITS (List amount, duration, and conditions if any) | D50: Requested Amount | E50: Frequency | F50: Response | G50: COMMENTS
B51: Discretionary Credit | E51: Annually
B52: Wellness Programs | E52: Annually
...

Sheet FF 3.0 MED Care Management
B1: =INPUT!$C$3 -> Albemarle County
B2: =INPUT!$D$11 -> RFP#<######>
B3: =INPUT!$C$23 -> Medical
B4: =INPUT!F61 -> Financial Proposal Form 3.0 - Care Management Programs
B6: Complete the following grid regarding your organization’s Care Management programs. Check all that apply.
C7: Bidder Name | D7: ='Instructions & Info'!$C$59 -> 0
B8: Care Management | C8: Check if offered | D8: # Years in Place | E8: # of members currently participating in program? | F8: In-House Staff or Outsourced | G8: Included in Admin Fee (Y/N) | H8: If not included in base admin fee note the additional cost below
B9: 1) Diabetes | C9: <Select One> | F9: <Select One> | G9: <Select One>
B10: 2) High Risk Pregnancy | C10: <Select One> | F10: <Select One> | G10: <Select One>
B11: 3) Hypertension | C11: <Select One> | F11: <Select One> | G11: <Select One>
B12: 4) HIV/AIDS | C12: <Select One> | F12: <Select One> | G12: <Select One>
B13: 5) Oncology | C13: <Select One> | F13: <Select One> | G13: <Select One>
B14: 6) Chronic obstructive pulmonary (COPD) | C14: <Select One> | F14: <Select One> | G14: <Select One>
B15: 7) Congestive Heart Failure (CHF) | C15: <Select One> | F15: <Select One> | G15: <Select One>
B16: 8) Adult asthma | C16: <Select One> | F16: <Select One> | G16: <Select One>
B17: 9) Pediatric asthma | C17: <Select One> | F17: <Select One> | G17: <Select One>
B18: 10) Pain Management | C18: <Select One> | F18: <Select One> | G18: <Select One>
B19: 11) Chronic renal failure | C19: <Select One> | F19: <Select One> | G19: <Select One>
B20: 12) End Stage Renal Disease (ESRD) | C20: <Select One> | F20: <Select One> | G20: <Select One>
... B30: 22) <Other Program> | C30: <Select One> | F30: <Select One> | G30: <Select One>

Sheet FF 4.1 MED Repricing Summary
B1: =INPUT!$C$3 -> Albemarle County
B2: =INPUT!$D$11 -> RFP#<######>
B3: =INPUT!$C$23 -> Medical
B4: =INPUT!F64 -> Financial Proposal Form 4.1 - Medical Repricing Summary Analysis
B8: Summary of Repricing Analysis
B10: Bidder Name | C10: ='Instructions & Info'!$C$59 -> 0
B12: Instructions:
B13: Based on your repricing analysis, please fill out the chart below with reflecting the billed charges by your in-network penetration percentage. Total billed charges should not change from what is noted in exhibit.
C14: <Enter Proposed Network> | D14: <Enter Proposed Network> | E14: <Enter Proposed Network> | F14: <Enter Proposed Network>
B15: Claims Category | C15: In-Tier 1-Network Billed Claims | D15: In-Tier 2-Network Billed Claims | E15: In-Tier 3-Network Billed Claims | F15: Out-of-Network Billed Claims | G15: Total Billed Claims
B16: Facility HSCRC Regulated Claims
B17: Facility Non HSCRC Regulated Claims
B18: Professional Claims
B19: Behavioral Health (if capitated arrangement is proposed)
B20: Other (please specify categories that are considered "other" in this context)
B21: Total | C21: =SUM(C16:C20) -> 0 | D21: =SUM(D16:D20) -> 0 | E21: =SUM(E16:E20) -> 0 | F21: =SUM(F16:F20) -> 0 | G21: =SUM(G16:G20) -> 0
B23: Based on your repricing analysis, please fill out the chart below reflecting your allowed charges.
C25: In-Tier 1-Network Allowed Claims | D25: In-Tier 2-Network Allowed Claims | E25: In-Tier 3-Network Allowed Claims | F25: Out-of-Network Allowed Claims | G25: Total Allowed Claims
B26: Facility Claims
B27: Professional Claims
B28: Behavioral Health (if capitated arrangement is proposed)
B29: Other (please specify categories that are considered "other" in this context)
B30: Total | C30: =SUM(C26:C29) -> 0 | D30: =SUM(D26:D29) -> 0 | E30: =SUM(E26:E29) -> 0 | F30: =SUM(F26:F29) -> 0 | G30: =SUM(G26:G29) -> 0

Sheet FF 4.0 MED Discounts
B1: =INPUT!$C$3 -> Albemarle County
B2: =INPUT!$D$11 -> RFP#<######>
B3: =INPUT!$C$23 -> Medical
B4: =INPUT!F68 -> Financial Proposal Form 4.0 - Average Medical Discount by Product
B6: Average Medical Discount by Product
B8: Please base all discounts on the following:
B9: The discounts to be based on the "Virginia only zip codes" provided from the census
B10: The discounts to be based on "all other zip codes" provided from the census
B11: The discounts based on the "total zip codes" provided from the census.
B13: Bidder Name | C13: ='Instructions & Info'!$C$59 -> 0
C14: PPO In-network - VA Only | D14: PPO In-network - All other zip codes | E14: PPO In-network - Total zip codes
C15: <Enter Proposed Network> | D15: <Enter Proposed Network> | E15: <Enter Proposed Network> | F15: <Enter Proposed Network>
B16: INPATIENT
B17: OUTPATIENT
B18: PHYSICIAN
B19: MEDICAL PHARMACY
B20: OVERALL

Sheet FF 5.0 MED Allowed
B1: =INPUT!$C$3 -> Albemarle County
B2: =INPUT!$D$11 -> RFP#<######>
B3: =INPUT!$C$23 -> Medical
B4: =INPUT!F65 -> Financial Proposal Form 5.0 - Top CPT Pricing by Zip Codes (Allowed)
B6: TOP MEDICAL CPT CODE PRICING
B9: Please enter your average allowed amounts by procedure (in and out of network) for your proposed network(s) in the requested regions that contains majority of the member population.
E10: Bidder Name | F10: ='Instructions & Info'!$C$59 -> 0
E12: Network Name: | F12: <Enter Proposed Network>
C14: 3-Digit Zip: | F14: =INPUT!E146 -> 229xx | I14: =INPUT!E147 -> 232xx | L14: =INPUT!E148 -> 201xx | O14: =INPUT!E149 -> 245xx | R14: =INPUT!E150 -> 272xx | U14: =INPUT!E151 -> 220xx
B16: Procedure | C16: Procedure Description | F16: In-Network | G16: Out-of Network | I16: In-Network | J16: Out-of Network | L16: In-Network | M16: Out-of Network | O16: In-Network | P16: Out-of Network | R16: In-Network | S16: Out-of Network | U16: In-Network | V16: Out-of Network

Sheet FF 5.0 PG
B1: =INPUT!$C$3 -> Albemarle County
B2: =INPUT!$D$11 -> RFP#<######>
B3: =INPUT!$C$23 -> Medical
B4: =INPUT!F39 -> Financial Proposal Form 5.0 - Performance Guarantees
B6: Please confirm your acceptance of the Minimum Standard for each performance guarantee metric and the correlating fees at risk. These commitments must be client-specific and not reflective of your overall book of business.
B7: If you are able to provide an Alternative Minimum Standard for any of the items (i.e., over and above the Minimum Standard), please detail these Alternative Minimum Standards.
C9: Bidder Name | D9: ='Instructions & Info'!$C$59 -> 0
B11: Implementation (First Year Only) | E11: Total Max %/$ of Fees At Risk
B12: Ongoing Performance Guarantees (Annually) | E12: Total Max %/$ of Fees At Risk
B14: Service Category | C14: Minimum Standards/Results | D14: Response | E14: Alternative Minimum Standard (Describe) | F14: Required Percent of Fees at Risk | G14: Frequency
B15: Implementation | C15: Code benefits in the systems (claims, member services, etc.) with 100% accuracy | D15: <Select One> | G15: <Select One>
C16: Provide benefits and financial contracts within two months of the plan effective date | D16: <Select One> | G16: <Select One>
B17: Eligibility | C17: Eligibility updates: System must be updated within 2 business days of receipt of enrollment/eligibility data ; receipts after 4:00 pm are recorded as the following business day. | D17: <Select One> | G17: <Select One>
C18: Manual eligibility updates: Emergency requests completed within one hour; rush requests completed by close of business the same day | D18: <Select One> | G18: <Select One>
C19: Eligibility updates will be guaranteed with 98% accuracy. | D19: <Select One> | G19: <Select One>
B20: ID Cards | C20: Timely delivery of initial ID cards: 99% mailed within 10 business days after eligibility data has been provided by the County. This includes all initial ID cards for new enrollees. | D20: <Select One> | G20: <Select One>
C21: Accuracy of new and replacement ID cards: 100% of all ID cards will contain accurate information compared to the enrollment information furnished by the County. | D21: <Select One> | G21: <Select One>
B22: Account Management | C22: Average evaluation score of 4.0 or higher out of 5 or 85% satisfaction. | D22: <Select One> | G22: <Select One>
C23: Client inquiry: Response Less than or equal to 2 business days | D23: <Select One> | G23: <Select One>
B24: Network Maintenance | C24: Network utilization rate must be 80% or greater | D24: <Select One> | G24: <Select One>
C25: Report loss of providers and provider groups with membership greater than 50 employees within 10 days of notification of plan withdrawal | D25: <Select One> | G25: <Select One>
B26: Claims Administration | C26: 95.0% of all claims processed within 5 business days | D26: <Select One> | G26: <Select One>
C27: 99% financial (dollar) accuracy the total dollar amount paid correctly in the sample divided by the total dollar amount paid in the sample. | D27: <Select One> | G27: <Select One>
C28: 97% payment accuracy the number of claims in the sample without payment errors divided by the total number of claims in the sample. | D28: <Select One> | G28: <Select One>
C29: 95% processing accuracy the number of claims in the sample without payment or nonpayment errors divided by the total number of claims in the sample | D29: <Select One> | G29: <Select One>
B30: Customer Service | C30: Average speed of answer will be less than 25 seconds | D30: <Select One> | G30: <Select One>
C31: Call abandonment rate will be 3% or less, reported annually | D31: <Select One> | G31: <Select One>
C32: Same day call resolution will be > 98% | D32: <Select One> | G32: <Select One>
C33: Complaint acknowledgement within five business days (all cases) | D33: <Select One> | G33: <Select One>
C34: Complaint resolution within 30 calendar days (all cases) | D34: <Select One> | G34: <Select One>
C35: 85% of participants that respond to the Enrollee Satisfaction Survey will rate carrier overall as Good, Very Good or Excellent. | D35: <Select One> | G35: <Select One>
C36: Preferred provider retention rate of > 90% (based on voluntary turnover) | D36: <Select One> | G36: <Select One>
B37: Web Portal Availability | C37: Portal must be available for all members to access 99% of the time | D37: <Select One> | G37: <Select One>
C38: All members must have access to enroll in an online member account within 30 days of their enrollment. | D38: <Select One> | G38: <Select One>
B39: Client Reporting | C39: Client-specific reporting package as agreed upon will be provided within 25 days from the close of the month. | D39: <Select One> | G39: <Select One>
B40: TOTAL ADMINISTRATION AT RISK | F40: =SUM(F15:F39) -> 0 | G40: <Select One>
B41: Unless specified above, the length of the Performance Guarantee period will follow the term of the sold contract period.
