Workbook

Sheet Rate History
B1: =INPUT!$C$3 -> Albemarle
B2: =INPUT!$D$11 -> RFP#<######>
B3: =INPUT!$C$23 -> Dental
B4: Rate History - Monthly Rates
B8: =INPUT!$C$16 -> Dental | E8: Enrollment | G8: =INPUT!D8 -> 46023 | H8: =EDATE(G8,-12) -> 45658 | I8: =EDATE(H8,-12) -> 45292 | J8: =EDATE(I8,-12) -> 44927
B9: =INPUT!C3 -> Albemarle | C9: ASO Fee | E9: --
C11: Plan Name | G11: =INPUT!D168 -> Low
C12: Subscriber Only | E12: =INPUT!D173 -> 496
C13: Subscriber + Spouse | E13: =INPUT!D174 -> 79
C14: Subscriber + Child | E14: =INPUT!D175 -> 76
C15: Subscriber + Child(ren) | E15: =INPUT!D176 -> 67
C16: Family | E16: =INPUT!D177 -> 121
E17: =INPUT!D178 -> 0
C19: Plan Name | G19: =INPUT!F168 -> High
C20: =C12 -> Subscriber Only | E20: =INPUT!F173 -> 1236
C21: =C13 -> Subscriber + Spouse | E21: =INPUT!F174 -> 278
C22: =C14 -> Subscriber + Child | E22: =INPUT!F175 -> 256
C23: =C15 -> Subscriber + Child(ren) | E23: =INPUT!F176 -> 248
C24: =C16 -> Family | E24: =INPUT!F177 -> 513
C25: =C17 -> 0 | E25: =INPUT!F178 -> 0
C27: Plan Name | G27: =INPUT!H168 -> Dental C
C28: =C20 -> Subscriber Only | E28: =INPUT!H173 -> 0
C29: =C21 -> Subscriber + Spouse | E29: =INPUT!H174 -> 0
C30: =C22 -> Subscriber + Child | E30: =INPUT!H175 -> 0
C31: =C23 -> Subscriber + Child(ren) | E31: =INPUT!H176 -> 0
C32: =C24 -> Family | E32: =INPUT!H177 -> 0
C33: =C25 -> 0 | E33: =INPUT!H178 -> 0
C35: Plan Name | G35: =INPUT!J168 -> Dental D
C36: =C28 -> Subscriber Only | E36: =INPUT!J173 -> 0
C37: =C29 -> Subscriber + Spouse | E37: =INPUT!J174 -> 0
C38: =C30 -> Subscriber + Child | E38: =INPUT!J175 -> 0
C39: =C31 -> Subscriber + Child(ren) | E39: =INPUT!J176 -> 0
C40: =C32 -> Family | E40: =INPUT!J177 -> 0
C41: =C33 -> 0 | E41: =INPUT!J178 -> 0

Sheet INPUT
B1: Key: | C1: Internal Inputs (Bolton) | D1: Bidder Inputs | K1: Internal Instructions
K2: -Hide this worksheet before releasing to Market
B3: Group Name: | C3: Albemarle | D3: Group Abbreviation: | E3: <Abbreviation> | F3: Additional Group Name: | G3: <Other Group Name>
B5: Sub-Groups: | C5: <Sub-group 1> | D5: <Sub-group 2> | E5: <Sub-group 3> | F5: <Sub-group 4> | G5: <Sub-group 5> | S5: TF | T5: Technical Form
C7: Effective Date (MM/DD/YYY) | D7: Current YTD | E7: Prior Year 1 | F7: Prior Year 2 | S7: PF | T7: Proposal Form
B8: Plan Years: | C8: 46753 | D8: 46023 | E8: 45658 | F8: 45292 | S8: BF | T8: Bid Form
D10: Final For Reference
B11: RFP# | C11: <######> | D11: =B11&C11 -> RFP#<######>
B13: Proposal Form Type: | C13: Technical Proposal | D13: Price Proposal | K13: Internal Checklist:
F14: Rate Guarantee: | K14: Is everything printer friendly
B15: Benefit Coverage / Services: | F15: Years | K15: Group Name Changed
B16: Benefit Name 1 | C16: Dental | F16: 3 | G16: Three | K16: Worksheet Forms coordinate with name of Worksheet Tab Name
B17: Benefit Name 2 | F17: 3 | G17: Three | K17: Worksheet Form coordinates with table of contents and specific questions referencing Worksheet Form
B18: Benefit Name 3 | F18: 3 | G18: Three | K18: Roboto Font
B19: Benefit Name 4 | F19: 3 | G19: Three | K19: Sheets are protected
B20: Benefit Name 5 | F20: 3 | G20: Three
B21: Benefit Name 6
B23: Final For Reference | C23: Dental | E23: Final For Reference | F23: =G16&" ("&F16&")"&" Years" -> Three (3) Years
B35: Applicable Coverages | C35: Proposal Form | D35: # | E35: Name | F35: Final For Reference (Worksheet Name) | G35: Worksheet Tab
B36: ~ | C36: ~ | D36: ~ | E36: ~ | F36: ~ | G36: ~
B37: ALL | C37: Technical | D37: 1.0 | E37: General Questionnaire | F37: =C37&" Proposal Form "&D37&" - "&E37 -> Technical Proposal Form 1.0 - General Questionnaire | G37: =LEFT(C37,1)&"F "&D37 -> TF 1.0 | J37: 1 | K37: Technical Form
B38: ALL | C38: Technical | D38: 1.1 | E38: Client Specific Questionnaire | F38: =C38&" Proposal Form "&D38&" - "&E38 -> Technical Proposal Form 1.1 - Client Specific Questionnaire | G38: =LEFT(C38,1)&"F "&D38 -> TF 1.1
B39: DEN | C39: Technical | D39: 1.2 | E39: Dental Questionnaire | F39: =C39&" Proposal Form "&D39&" - "&E39 -> Technical Proposal Form 1.2 - Dental Questionnaire | G39: =LEFT(C39,1)&"F "&D39 -> TF 1.2 | J39: 0.17 | K39: VISION
B40: DEN | C40: Technical | D40: 2.0 | E40: Dental Geo Access PPO | F40: =C40&" Proposal Form "&D40&" - "&E40 -> Technical Proposal Form 2.0 - Dental Geo Access PPO | G40: =LEFT(C40,1)&"F "&D40 -> TF 2.0
B41: DEN | C41: Technical | D41: 2.1 | E41: Dental Providers by County | F41: =C41&" Proposal Form "&D41&" - "&E41 -> Technical Proposal Form 2.1 - Dental Providers by County | G41: =LEFT(C41,1)&"F "&D41 -> TF 2.1 | K41: DENTAL
B42: DEN | C42: Technical | D42: 3.0 | E42: Top Dental Providers | F42: =C42&" Proposal Form "&D42&" - "&E42 -> Technical Proposal Form 3.0 - Top Dental Providers | G42: =LEFT(C42,1)&"F "&D42 -> TF 3.0 | K42: DENTAL
B43: DEN | C43: Technical | D43: 4.0 | E43: Proposed Dental Plan Design | F43: =C43&" Proposal Form "&D43&" - "&E43 -> Technical Proposal Form 4.0 - Proposed Dental Plan Design | G43: =LEFT(C43,1)&"F "&D43 -> TF 4.0
B44: ALL | C44: Technical | D44: 5.0 | E44: Deviations | F44: =C44&" Proposal Form "&D44&" - "&E44 -> Technical Proposal Form 5.0 - Deviations | G44: =LEFT(C44,1)&"F "&D44 -> TF 5.0 | J44: 0.13 | K44: VISION
B45: ALL | C45: Technical | D45: 6.0 | E45: Key Differentiators | F45: =C45&" Proposal Form "&D45&" - "&E45 -> Technical Proposal Form 6.0 - Key Differentiators | G45: =LEFT(C45,1)&"F "&D45 -> TF 6.0 | J45: 0.14 | K45: VISION
B46: ALL | C46: Technical | D46: 7.0 | E46: References | F46: =C46&" Proposal Form "&D46&" - "&E46 -> Technical Proposal Form 7.0 - References | G46: =LEFT(C46,1)&"F "&D46 -> TF 7.0 | J46: 0.15 | K46: VISION
J47: 0.16 | K47: VISION
J48: 0.18 | K48: VISION
K49: DENTAL
J50: 0.19 | K50: VISION
J51: 0.2 | K51: DENTAL
J52: 0.21 | K52: DENTAL
B54: DEN | C54: Financial | D54: 1.0 | E54: Dental Price Questionnaire | F54: =C54&" Proposal Form "&D54&" - "&E54 -> Financial Proposal Form 1.0 - Dental Price Questionnaire | G54: =LEFT(C54,1)&"F "&D54 -> FF 1.0
B55: DEN | C55: Financial | D55: 2.0 | E55: Administrative Services Only (ASO) Fees | F55: =C55&" Proposal Form "&D55&" - "&E55 -> Financial Proposal Form 2.0 - Administrative Services Only (ASO) Fees | G55: =LEFT(C55,1)&"F "&D55 -> FF 2.0
B56: DEN | C56: Financial | D56: 2.1 | E56: DHMO Fee schedule | F56: =C56&" Proposal Form "&D56&" - "&E56 -> Financial Proposal Form 2.1 - DHMO Fee schedule | G56: =LEFT(C56,1)&"F "&D56 -> FF 2.1
B57: DEN | C57: Financial | D57: 3.0 | E57: Monthly Premium Equivalent Rates | F57: =C57&" Proposal Form "&D57&" - "&E57 -> Financial Proposal Form 3.0 - Monthly Premium Equivalent Rates | G57: =LEFT(C57,1)&"F "&D57 -> FF 3.0
...

Sheet Instructions & Info
B1: =INPUT!$C$3 -> Albemarle
B2: =INPUT!$D$11 -> RFP#<######>
B3: =INPUT!$C$23 -> Dental
B4: Instructions
B6: Please Read:
B7: NOTICE: | C7: You must read these instructions in full and confirm you have read and understand them by entering your name and date in the appropriate fields at the bottom of this spreadsheet.
B8: Instructions: | C8: ="The following Proposal Forms in this workbook will be used to gather vendor responses in regards to your capabilities to provide the required services of this RFP to "&$B$1&". Your responses will be compared and scored against the other vendors responses. " -> The following Proposal Forms in this workbook will be used to gather vendor responses in regards to your capabilities to provide the required services of this RFP to Albemarle. Your responses will be compared and scored against the other vendors responses.
C9: Please do not modify the tabs. Modifying the tabs or layout may eliminate your company from consideration. Please do not: - Add or Delete Cells - Renumber or Add Questions - Delete Questions - If you cannot respond to a question please just note - 'No Response Available' or 'N/A'. Responses to questions should be brief and concise. 'Yes' or 'No' responses are encouraged when appropriate within the dropdown menu. The maximum amount of characters for a response is 500.
B10: Hold Harmless Agreement | C10: Vendor shall indemnify and hold harmless the Client, its respective directors, officers, employees (acting in the course of their employment, but not as claimants) and agents, against any and all liability or expense (including the cost of legal defense or settlement) which was caused by (vendor’s) negligent or intentional misconduct, breach of this Agreement, fraud, or its breach of fiduciary responsibility, related to or arising out of this Agreement or the Client’s role as employer or Plan sponsor. The party seeking indemnification under (a) above must notify the indemnifying party promptly in writing of any actual or threatened action, suit or proceeding to which it claims such indemnity applies. Failure to notify the indemnifying party shall be deemed a waiver of the right to seek indemnification. The party seeking indemnification may assume responsibility for the direction of its own defense at any time, including the right to settle or compromise any claim against it without the consent of the indemnifying party, provided that in doing so it shall be deemed to have waived its right to indemnification except in cases where the indemnifying party has declined to defend against the claim. The indemnification obligations of (vendor) shall terminate upon the expiration of the Agreement except as to any matter concerning which a claim has been asserted by notice to the other party at the time of such expiration or within 365 days after effective date of Agreement termination.
B11: RFP Information
B12: RFP Coverages: | C12: =INPUT!$C$23 -> Dental
B13: Effective Date for all Lines: | C13: =INPUT!$C$8 -> 46753
B14: Current Carrier(s): | C14: Coverage | D14: Carrier Name
C15: Dental | D15: Anthem
C16: HRIS / Benefits Administrator | D16: ADP
B17: Current Plans:
B25: Proposed Plans:
B33: Proposed Fee Guarantee: | C33: =INPUT!$F$23 -> Three (3) Years
B34: Notes:
B35: Current Commissions:
B36: Requested Commissions:
B37: RFP Timeline: | C37: Activity | D37: Date
C38: RFP Released | D38: 46297
C39: Deadline to submit questions | D39: 46336
C40: Addendum with responses released to vendors | D40: 46338
C41: RFPs due | D41: 46343
C42: Bidder interviews conducted (Optional) | D42: 46447
C43: Evaluate Financial RFP Responses, Score and Select Finalists (if applicable) or winning Vendor | D43: 46472
C44: Request BAFO (if applicable)
C45: BAFO Due (if applicable)
C46: Evaluate BAFO, Finalize Analysis and Recommendations (if applicable)
C47: Select Vendor | D47: 46539
C48: Implementation (including Open Enrollment) | D48: 46568
C49: Effective Date | D49: =[1]INPUT!$C$8 -> 46753
B50: Provided Data: | C50: Current plan documents: SBC/SPD as applicable - separate attachment | D50: Separate Attachment
C51: Census | D51: Separate Attachment
C52: Enrollment data | D52: Separate Attachment
C53: Claims data | D53: Separate Attachment
B56: Disclaimer & Intent to Bid: | C56: By entering my name and date below I am confirming my firm's intent to bid, that I have read the above instructions in full regarding providing responses to the Questions in this workbook, and completion of the proposal forms. I also confirm our firm understands the information provided in this Request for Proposal and all attachments is confidential and proprietary and will only be used to prepare a proposal response.
B57: Company:
...

Sheet TF 1.0 GEN Q
B1: =INPUT!$C$3 -> Albemarle
B2: =INPUT!$D$11 -> RFP#<######>
B3: =INPUT!$C$23 -> Dental
B4: =INPUT!F37 -> Technical Proposal Form 1.0 - General Questionnaire
B6: This Questionnaire is designed for you to answer specific questions regarding your organization and the services you are proposing. Please respond to these questions completely and accurately. Please choose from the drop down in the "Response" column when available and input your response in the "Additional Response" Section. Also provide attachments when applicable - see Attachments tab in this document for a full list of Attachments to submit with your proposal package.
E8: Bidder Name | F8: ='Instructions & Info'!$C$57 -> 0
B10: # | C10: QUESTION | D10: ACTION | E10: RESPONSE | F10: ADDITIONAL RESPONSE | G10: Character Length
B11: ATTACHMENTS - Please provide the following as attachments to this technical RFP Response
B12: A | C12: Prepare a detailed schedule and time frame to implement this program by the effective date. Please indicate the implementation responsibilities of your organization and the client. Assume implementation will begin 120 days prior to the plan year effective date. | D12: Provide Attachment | E12: <Select One> | G12: =LEN(F12) -> 0
B13: B | C13: Attach a description of premium or administrative fee billing procedures. Include information on the timing of billing, billing-payment reconciliations and ability to provide for client self-billing. | D13: Provide Attachment | E13: <Select One> | G13: =LEN(F13) -> 0
B14: C | C14: Describe your criteria and process for network provider selection. | D14: Provide Attachment | E14: <Select One> | G14: =LEN(F14) -> 0
B15: ~ | C15: GENERAL QUESTIONS | G15: =LEN(F15) -> 0
B16: 1 | C16: Describe the ownership of your organization including any parent company and its location. | D16: Provide Response | E16: <Select One> | G16: =LEN(F16) -> 0
B17: =B16+1 -> 2 | C17: Will any services performed to support the client's plan be provided offshore? If yes, please describe and include location. | D17: Provide Response | E17: <Select One> | G17: =LEN(F17) -> 0
B18: =B17+1 -> 3 | C18: The client reserves the right to select independent auditors at any time with 90-day advanced notice. Net overpayments discovered during any audit must be refunded to the client regardless of whether the administrator can recoup payments from the employees and providers. Confirm you will comply with this request. | D18: Provide Response | E18: <Select One> | G18: =LEN(F18) -> 0
B19: =B18+1 -> 4 | C19: Is there a limit on the time period the client may request an audit (e.g. claims audits are limited to most recent prior two years from date of audit request)? | D19: Provide Response | E19: <Select One> | G19: =LEN(F19) -> 0
B20: =B19+1 -> 5 | C20: Regarding the client's data, describe how your company will use this data. Will any of the client data be shared with outside entities? Will you receive fees from anyone for use of this data? | D20: Provide Response | E20: <Select One> | G20: =LEN(F20) -> 0
B21: =B20+1 -> 6 | C21: Confirm ability to accept contract terms as outlined in shared sample contract as part of RFP release | D21: Provide Response | E21: <Select One>
B22: ~ | C22: COMPLIANCE/SECURITY | G22: =LEN(F22) -> 0
B23: =B21+1 -> 7 | C23: Are you planning any major technological changes (electronic or administrative) that you anticipate will provide significant value to the client in the next 24 months? Please provide details. | D23: Provide Response | E23: <Select One> | G23: =LEN(F23) -> 0
B24: =B23+1 -> 8 | C24: Has the claims department been audited by a third party for accuracy and/or security? | D24: Provide Response | E24: <Select One> | G24: =LEN(F24) -> 0
B25: =B24+1 -> 9 | C25: Is your organization in full compliance with all HIPAA regulations? | D25: Provide Response | E25: <Select One> | G25: =LEN(F25) -> 0
B26: ~ | C26: ACCOUNT/CLIENT SERVICE AND MANAGEMENT | G26: =LEN(F26) -> 0
B27: =B25+1 -> 10 | C27: Identify the Account Manager that will be assigned to the client. Include name, address, phone, title and role, as well as line of business if necessary. | G27: =LEN(F27) -> 0
C28: a. Name: | D28: Provide Response | E28: <Select One> | G28: =LEN(F28) -> 0
C29: b. Title: | D29: Provide Response | E29: <Select One> | G29: =LEN(F29) -> 0
C30: c. City/State: | D30: Provide Response | E30: <Select One> | G30: =LEN(F30) -> 0
C31: d. Phone: | D31: Provide Response | E31: <Select One> | G31: =LEN(F31) -> 0
C32: e. Email: | D32: Provide Response | E32: <Select One> | G32: =LEN(F32) -> 0
C33: f. Primary Role: | D33: Provide Response | E33: <Select One> | G33: =LEN(F33) -> 0
C34: g. How many accounts is the proposed team member responsible for? | D34: Provide Response | E34: <Select One> | G34: =LEN(F34) -> 0
B35: =B27+1 -> 11 | C35: Identify the Account Executive that will be assigned to the client. Include name, address, phone, title and role, as well as line of business if necessary. | G35: =LEN(F35) -> 0
C36: a. Name: | D36: Provide Response | E36: <Select One> | G36: =LEN(F36) -> 0
C37: b. Title: | D37: Provide Response | E37: <Select One> | G37: =LEN(F37) -> 0
C38: c. City/State: | D38: Provide Response | E38: <Select One> | G38: =LEN(F38) -> 0
C39: d. Phone: | D39: Provide Response | E39: <Select One> | G39: =LEN(F39) -> 0
C40: e. Email: | D40: Provide Response | E40: <Select One> | G40: =LEN(F40) -> 0
C41: f. Primary Role: | D41: Provide Response | E41: <Select One> | G41: =LEN(F41) -> 0
C42: g. How many accounts is the proposed team member responsible for? | D42: Provide Response | E42: <Select One> | G42: =LEN(F42) -> 0
C43: Please provide a full listing of proposed team members, inclusive of implementation, wellbeing, & member support | D43: Provide Response / Attachment | E43: <Select One> | G43: =LEN(F43) -> 0
...

Sheet TF 1.2 DEN Q
B1: =INPUT!$C$3 -> Albemarle
B2: =INPUT!$D$11 -> RFP#<######>
B3: =INPUT!$C$23 -> Dental
B4: =INPUT!F39 -> Technical Proposal Form 1.2 - Dental Questionnaire
B6: This Questionnaire is designed for you to answer specific questions regarding your organization and the services you are proposing. Please respond to these questions completely and accurately. Please choose from the drop down in the "Response" column when available and input your response in the "Additional Response" Section. Also provide attachments when applicable - see Attachments tab in this document for a full list of Attachments to submit with your proposal package.
E8: Bidder Name | F8: ='Instructions & Info'!$C$57 -> 0
B10: # | C10: QUESTION | D10: ACTION | E10: RESPONSE | F10: ADDITIONAL RESPONSE | G10: Character Length
B11: ~ | C11: PLAN DESIGN | G11: =LEN(F11) -> 0
B12: 1 | C12: Are there any deviations from the currently administered plan designs? | D12: Provide Response | E12: <Select One> | G12: =LEN(F12) -> 0
B13: =B12+1 -> 2 | C13: Discuss how you have incorporated the ability for members to access providers in your network through telephonic/virtual visits. | D13: Provide Response | E13: <Select One> | G13: =LEN(F13) -> 0
B14: =B13+1 -> 3 | C14: Describe how you would cover a crown core buildup or set up for a crown | D14: Provide Response | E14: <Select One> | G14: =LEN(F14) -> 0
B15: =B14+1 -> 4 | C15: Confirm you will cover fluoride treatments with no age restrictions | D15: Provide Response | E15: <Select One> | G15: =LEN(F15) -> 0
B16: =B15+1 -> 5 | C16: Describe how you cover resin-based composite restorations | D16: Provide Response | E16: <Select One> | G16: =LEN(F16) -> 0
B17: ~ | C17: NETWORK AND PROVIDERS | G17: =LEN(F17) -> 0
B18: 7 | C18: How often are your primary dentist providers re-credentialed? | D18: Provide Response | E18: <Select One> | G18: =LEN(F18) -> 0
B19: =B18+1 -> 8 | C19: How often are your specialist dental providers re-credentialed? | D19: Provide Response | E19: <Select One> | G19: =LEN(F19) -> 0
B20: =B19+1 -> 9 | C20: How often are providers evaluated for cost, utilization, clinical outcomes, member satisfaction, adherence to standards, appropriate use of services, billing accuracy, etc.? | D20: Provide Response | E20: <Select One> | G20: =LEN(F20) -> 0
B21: =B20+1 -> 10 | C21: Is an on-site pre-contractual audit routinely conducted? | D21: Provide Response | E21: <Select One> | G21: =LEN(F21) -> 0
B22: =B21+1 -> 11 | C22: What is the frequency of provider interviews? Are these in person, or virtual/telephonic? | D22: Provide Response | E22: <Select One> | G22: =LEN(F22) -> 0
B23: =B22+1 -> 12 | C23: How do you deal with providers who are not meeting your standards? | D23: Provide Response | E23: <Select One> | G23: =LEN(F23) -> 0
B24: =B23+1 -> 13 | C24: Are you willing to proactively recruit and add dental providers in areas where geo access results are not optimal for the members starting prior to the effective date of this coverage? Briefly describe your recruitment process. | D24: Provide Response | E24: <Select One> | G24: =LEN(F24) -> 0
B25: =B24+1 -> 14 | C25: What steps are being taken to reduce out-of-network utilization in your plans? | D25: Provide Response | E25: <Select One> | G25: =LEN(F25) -> 0
B26: =B25+1 -> 15 | C26: Verify that you have a “hold harmless” agreement that prohibits providers from billing more than the plan’s designated coinsurance or copayment. | D26: Provide Response | E26: <Select One> | G26: =LEN(F26) -> 0
B27: =B26+1 -> 16 | C27: Please identify situations in which employees can or will be balance billed for in-network services. | D27: Provide Response | E27: <Select One> | G27: =LEN(F27) -> 0
B28: =B27+1 -> 17 | C28: Describe your criteria and process for network provider selection. | D28: Provide Response | E28: <Select One> | G28: =LEN(F28) -> 0
B29: =B28+1 -> 18 | C29: Provide the percentage of providers rejected out of total applicants for the past 3 years. | D29: Provide Response | E29: <Select One> | G29: =LEN(F29) -> 0
B30: ~ | C30: WELLNESS | G30: =LEN(F30) -> 0
B31: 22 | C31: Describe any cost/utilization management and wellness programs you offer that you feel differentiate you from other dental plans. | D31: Provide Response | E31: <Select One> | G31: =LEN(F31) -> 0
B32: =B31+1 -> 23 | C32: Do you offer enhanced benefits to pregnant enrollees and any other medical conditions? | D32: Provide Response | E32: <Select One> | G32: =LEN(F32) -> 0
B33: =B32+1 -> 24 | C33: Describe how night guards are covered | D33: Provide Response | E33: <Select One> | G33: =LEN(F33) -> 0
B34: =B33+1 -> 25 | C34: Are you able to transfer data to third parties for the purpose of medical disease management services? | D34: Provide Response | E34: <Select One> | G34: =LEN(F34) -> 0
B35: =B34+1 -> 26 | C35: Opioid pain management - what is dental provider doing to manage and report opioid abuse? | D35: Provide Response | E35: <Select One> | G35: =LEN(F35) -> 0
B36: ~ | C36: INNOVATIVE SOLUTIONS | G36: =LEN(F36) -> 0
B37: 27 | C37: Do you provide mobile dentistry? | D37: Provide Response | E37: <Select One> | G37: =LEN(F37) -> 0
B38: =B37+1 -> 28 | C38: Describe the cost or access to the mobile dentistry service. How would this benefit the client? | D38: Provide Response | E38: <Select One> | G38: =LEN(F38) -> 0
B39: =B38+1 -> 29 | C39: Do you cover direct to consumer orthodontia solutions as in-network and provide the same orthodontia coverage as would be provided for traditional orthodontia? If so, which direct to consumer products do you offer (Smile Direct, Invisalign, etc.)? Describe if the coverage or benefit is different than traditional orthodontia coverage, or if there is a discount through the plan. | D39: Provide Response | E39: <Select One> | G39: =LEN(F39) -> 0
B40: =B39+1 -> 30 | C40: Do you provide Oral Care Discounts for Members: Whitening, Brushes, and Oral Care Supplies? | D40: Provide Response | E40: <Select One> | G40: =LEN(F40) -> 0
B41: =B40+1 -> 31 | C41: Do you provide targeted communications to engage members in better oral care and to educate on tools and resources to assist them? Please describe what a typical client campaign would include, and identify targeted audiences. | D41: Provide Response | E41: <Select One> | G41: =LEN(F41) -> 0
B42: =B41+1 -> 32 | C42: Are any programs that cover additional services, waived coinsurance, reduced copays or deductibles included in this proposal, including for pregnant members? | D42: Provide Response | E42: <Select One> | G42: =LEN(F42) -> 0
B43: =B42+1 -> 33 | C43: Briefly describe the unique programs, systems, or support that you will make available to the client. | D43: Provide Response | E43: <Select One> | G43: =LEN(F43) -> 0
...

Sheet TF 2.0 DEN GEO
B1: =INPUT!$C$3 -> Albemarle
B2: =INPUT!$D$11 -> RFP#<######>
B3: =INPUT!$C$23 -> Dental
B4: =INPUT!F40 -> Technical Proposal Form 2.0 - Dental Geo Access PPO
B6: DENTAL GEO ACCESS
B7: BASED ON ALL IN-NETWORK PROVIDERS
B8: This sheet is designed for you to provide data regarding the geographic access you are proposing. Please complete this form and provide a complete GEO ACCESS Report for the defined standards in the RFP. Complete a separate tab for each network you are quoting.
B10: Please provide the unique provider counts within the designated geo-access area for your proposed network. Each provider may only be counted ONE time, regardless of the number of office locations.
C12: Bidder Name | D12: ='Instructions & Info'!$C$57 -> 0
B15: <Enter Proposed Network> | C15: Number of Subscribers | D15: =INPUT!B180 -> 3370 | E15: =INPUT!$C$3 -> Albemarle
B16: Provider Type | C16: # of Providers and Distance from Residence | D16: Subscribers Matched | E16: % Match | F16: Subscribers Not Matched | G16: # of Unique Providers | H16: # of Unique Locations
B17: General Dentists | C17: 2 in 10 miles | E17: =D17/D$15 -> 0 | F17: =D$15-D17 -> 3370
B18: Orthodontists | C18: 2 in 10 miles | E18: =D18/D$15 -> 0 | F18: =D$15-D18 -> 3370
B19: Prosthodontists | C19: 2 in 10 miles | E19: =D19/D$15 -> 0 | F19: =D$15-D19 -> 3370
B20: Periodontists | C20: 2 in 10 miles | E20: =D20/D$15 -> 0 | F20: =D$15-D20 -> 3370
B21: Endodontists | C21: 2 in 10 miles | E21: =D21/D$15 -> 0 | F21: =D$15-D21 -> 3370
B22: Oral Surgeon | C22: 2 in 10 miles | E22: =D22/D$15 -> 0 | F22: =D$15-D22 -> 3370
B23: Pedodontists | C23: 2 in 10 miles | E23: =D23/D$15 -> 0 | F23: =D$15-D23 -> 3370
B24: Provider Turnover Rate - Dentists (For Prior CY)
B25: % of Licensed Providers Contracted with Your Network

Sheet TF 2.1 DEN by County
B1: =INPUT!$C$3 -> Albemarle
B2: =INPUT!$D$11 -> RFP#<######>
B3: =INPUT!$C$23 -> Dental
B4: =INPUT!F41 -> Technical Proposal Form 2.1 - Dental Providers by County
B6: DENTAL PLAN NETWORK PROVIDERS BY COUNTY
B7: Please list the total number of providers in each County under each specialty. Each provider may only be counted ONE time per County, regardless of the number of offices maintained in that County. Providers can be counted more than once, if they have multiple county locations.
C10: Bidder Name | D10: ='Instructions & Info'!$C$57 -> 0
B13: Provider Type | C13: General Dentists | D13: Orthodontists | E13: Prosthodontists | F13: Periodontists | G13: Endodontists | H13: Oral Surgeon | I13: Pedodontists
B14: <Enter Primary Proposed Network>
B15: =INPUT!C104 -> Albemarle, VA
B16: =INPUT!D104 -> Fluvana, VA
B17: =INPUT!E104 -> Greene, VA
B18: =INPUT!F104 -> Orange, VA
B19: =INPUT!G104 -> Waynesboro, VA
B20: =INPUT!H104 -> Nelson, VA
B21: =INPUT!I104 -> Augusta, VA
B22: Provider Turnover Rate - Dentists (For Prior CY)
B23: % of Licensed Providers Contracted with Your Network
B26: Provider Type | C26: General Dentists | D26: Orthodontists | E26: Prosthodontists | F26: Periodontists | G26: Endodontists | H26: Oral Surgeon | I26: Pedodontists
B27: <Enter Secondary Proposed Network>
B28: =B15 -> Albemarle, VA
B29: =B16 -> Fluvana, VA
B30: =B17 -> Greene, VA
B31: =B18 -> Orange, VA
B32: =B19 -> Waynesboro, VA
B33: =B20 -> Nelson, VA
B34: =B21 -> Augusta, VA
B35: Provider Turnover Rate - Dentists (For Prior CY)
B36: % of Licensed Providers Contracted with Your Network

Sheet TF 3.0 DEN Top Providers
B1: =INPUT!$C$3 -> Albemarle
B2: =INPUT!$D$11 -> RFP#<######>
B3: =INPUT!$C$23 -> Dental
B4: =INPUT!F42 -> Technical Proposal Form 3.0 - Top Dental Providers
B6: Top Providers Utilized
B7: Indicate whether or not the provider is in your network by placing a "Y" for YES or "N" for NO in the Network column.
B8: Only respond for providers in the network included in this proposal. | J8: Bidder Name | K8: ='Instructions & Info'!$C$57 -> 0
J10: Network Name: | K10: <Enter Primary Proposed Network> | N10: <Enter Secondary Proposed Network>
B11: Provider Tax ID | C11: National Provider Identifier (NPI) | D11: Provider Name | E11: Provider Specialty | F11: Address 1 | G11: City | H11: State | I11: Zip | J11: Filler | K11: In-Network? (Yes/No) | L11: Taking New Patients? | M11: Filler2 | N11: In-Network? (Yes/No)2 | O11: Taking New Patients?2
B12: 721567218 | C12: 1063632008 | D12: Brad Spano | E12: Dentist | F12: 1200 Five Springs Rd Ste 101 | G12: Charlottesville | H12: VA | I12: 22902
B13: 872287291 | C13: 1154540110 | D13: Nellie Crowder | E13: Dentist | F13: 325 Four Leaf Ln Ste 10 | G13: Charlottesville | H13: VA | I13: 22903
B14: 273856218 | C14: 1205159282 | D14: Charles B Swisher | E14: Dentist | F14: 80 Whitewood Rd | G14: Charlottesville | H14: VA | I14: 22901
B15: 852694088 | C15: 1487818399 | D15: Robert Lunka | E15: Dentist : Pediatric Dentistry | F15: 895 Rio East Ct Ste B | G15: Charlottesville | H15: VA | I15: 22901
B16: 201990392 | C16: 1154606242 | D16: Mohammed A. Almzayyen | E16: Dentist | F16: 335 Greenbrier Dr Ste 204 | G16: Charlottesville | H16: VA | I16: 22901
B17: 455315249 | C17: 1992144018 | D17: Marissa Deangelis | E17: Dentist | F17: 5690 Three Notched Rd Ste 100 | G17: Crozet | H17: VA | I17: 22932
B18: 455315249 | C18: 1083283931 | D18: Amina Parvez | E18: Dentist | F18: 5690 Three Notch D Rd Ste 100 | G18: Crozet | H18: VA | I18: 22932
B19: 273856218 | C19: 1265847875 | D19: Kathryn Brandt | E19: Dentist | F19: 80 Whitewood Rd | G19: Charlottesville | H19: VA | I19: 22901
B20: 800899458 | C20: 1770788069 | D20: Kevin M. Clifford | E20: Dentist : Pediatric Dentistry | F20: 300 Claremont Ln Ste 101 | G20: Crozet | H20: VA | I20: 22932
B21: 463884621 | C21: 1700086170 | D21: Bradley Gene Delph | E21: Dentist | F21: 676 Berkmar Cir | G21: Charlottesville | H21: VA | I21: 22901
B22: 882922150 | C22: 1689893166 | D22: Cynthia Brooks | E22: Dentist | F22: 1461 Greenbrier Pl | G22: Charlottesville | H22: VA | I22: 22901
B23: 461588371 | C23: 1770077836 | D23: Justin Patrick Feehan | E23: Dentist | F23: 2320 Commonwealth Dr | G23: Charlottesville | H23: VA | I23: 22901
... B911: 823284145 | C911: 1841683364 | D911: Joseph Vaughn | E911: Dentist | F911: 3107 Hungary Spring Rd | G911: Richmond | H911: VA | I911: 23228

Sheet TF 4.0 DEN Plan Design
B1: =INPUT!$C$3 -> Albemarle
B2: =INPUT!$D$11 -> RFP#<######>
B3: =INPUT!$C$23 -> Dental
B4: =INPUT!F43 -> Technical Proposal Form 4.0 - Proposed Dental Plan Design
B6: List all plan design deviations as well as any additional deviations not shown on this summary
B8: If you are matching the current benefit, choose "Matched" from the dropdown under the "Response" column, otherwise input the benefit deviation with an explanation under the "Explanation" column.
B10: Plan Designs - Current and Proposed Deviations to administer
E12: Bidder Name | F12: ='Instructions & Info'!$C$57 -> 0
B14: Plan Name | D14: =INPUT!D168 -> Low | F14: Proposed Plan Deviations | K14: =INPUT!F168 -> High | M14: Proposed Plan Deviations | R14: =INPUT!H168 -> Dental C | T14: Proposed Plan Deviations | Y14: =INPUT!J168 -> Dental D | AA14: Proposed Plan Deviations
B15: Funding | D15: =INPUT!D169 -> Self-Insured | F15: =D15 -> Self-Insured | K15: =INPUT!F169 -> Self-Insured | M15: =K15 -> Self-Insured | R15: =INPUT!H169 -> Self-Insured | T15: =R15 -> Self-Insured | Y15: =INPUT!J169 -> Self-Insured | AA15: =Y15 -> Self-Insured
B16: Provider Network | F16: <Enter Proposed Network> | M16: <Enter Proposed Network> | T16: <Enter Proposed Network> | AA16: <Enter Proposed Network>
B17: In-Network (IN) / Out-of-Network (OUT) | D17: IN | E17: OUT | F17: IN-NETWORK | H17: OUT-OF-NETWORK | K17: IN | L17: OUT | M17: IN-NETWORK | O17: OUT-OF-NETWORK | R17: IN | S17: OUT | T17: IN-NETWORK | V17: OUT-OF-NETWORK | Y17: IN | Z17: OUT | AA17: IN-NETWORK | AC17: OUT-OF-NETWORK
B18: Annual Deductible
B19: Single | D19: 25 | E19: 25 | K19: 50 | L19: 50
B20: Family | D20: 75 | E20: 75 | K20: 150 | L20: 150
B21: Annual Maximum
B22: Single | D22: 1500 | E22: 1500 | K22: 2000
B23: Level 1 | D23: N/A | E23: N/A | K23: N/A | L23: N/A
B24: Level 2 | D24: N/A | E24: N/A | K24: N/A | L24: N/A
B25: Level 3 | D25: N/A | E25: N/A | K25: N/A | L25: N/A
B26: Level 4 | D26: N/A | E26: N/A | K26: N/A | L26: N/A
B27: Diagnostic / Preventive | D27: IN | E27: OUT | F27: RESPONSE | G27: DEVIATION EXPLANATION | H27: RESPONSE | I27: DEVIATION EXPLANATION | K27: IN | L27: OUT | M27: RESPONSE | N27: DEVIATION EXPLANATION | O27: RESPONSE | P27: DEVIATION EXPLANATION | R27: IN | S27: OUT | T27: RESPONSE | U27: DEVIATION EXPLANATION | V27: RESPONSE | W27: DEVIATION EXPLANATION | Y27: IN | Z27: OUT | AA27: RESPONSE | AB27: DEVIATION EXPLANATION | AC27: RESPONSE | AD27: DEVIATION EXPLANATION
B28: Class 1 - Diagnostic / Preventive
B29: Oral Evaluations | D29: 1 | E29: 1 | K29: 1 | L29: 1
B30: X-Rays | D30: 1 | E30: 1 | K30: 1 | L30: 1
B31: Cleanings | D31: 1 | E31: 1 | K31: 1 | L31: 1
B32: Fluoride | D32: 1 | E32: 1 | K32: 1 | L32: 1
B33: Sealants | D33: 1 | E33: 1 | K33: 1 | L33: 1
B34: Basic Services | D34: IN | E34: OUT | F34: RESPONSE | G34: DEVIATION EXPLANATION | H34: RESPONSE | I34: DEVIATION EXPLANATION | K34: IN | L34: OUT | M34: RESPONSE | N34: DEVIATION EXPLANATION | O34: RESPONSE | P34: DEVIATION EXPLANATION | R34: IN | S34: OUT | T34: RESPONSE | U34: DEVIATION EXPLANATION | V34: RESPONSE | W34: DEVIATION EXPLANATION | Y34: IN | Z34: OUT | AA34: RESPONSE | AB34: DEVIATION EXPLANATION | AC34: RESPONSE | AD34: DEVIATION EXPLANATION
B35: Class 2 - Basic Services
B36: Fillings | D36: 0.8 | E36: 0.8 | K36: 0.8 | L36: 0.8
B37: Simple Extractions | D37: 0.8 | E37: 0.8 | K37: 0.8 | L37: 0.8
B38: Oral Surgery | D38: 0.8 | E38: 0.8 | K38: 0.8 | L38: 0.8
B39: Nonsurgical Endodontics | D39: 0.8 | E39: 1 | K39: 0.8 | L39: 1
B40: Surgical Endodontics | D40: 0.8 | E40: 1 | K40: 0.8 | L40: 1
B41: Nonsurgical Periodontics | D41: 0.8 | E41: 0.8 | K41: 0.8 | L41: 0.8
B42: Surgical Periodontics | D42: 0.8 | E42: 0.8 | K42: 0.8 | L42: 0.8
B43: Waiting Period | D43: None | K43: None
B44: Major Services | D44: IN | E44: OUT | F44: RESPONSE | G44: DEVIATION EXPLANATION | H44: RESPONSE | I44: DEVIATION EXPLANATION | K44: IN | L44: OUT | M44: RESPONSE | N44: DEVIATION EXPLANATION | O44: RESPONSE | P44: DEVIATION EXPLANATION | R44: IN | S44: OUT | T44: RESPONSE | U44: DEVIATION EXPLANATION | V44: RESPONSE | W44: DEVIATION EXPLANATION | Y44: IN | Z44: OUT | AA44: RESPONSE | AB44: DEVIATION EXPLANATION | AC44: RESPONSE | AD44: DEVIATION EXPLANATION
B45: Class 3 - Major Services (Restorative)
...

Sheet TF 5.0 Deviations
B1: =INPUT!$C$3 -> Albemarle
B2: =INPUT!$D$11 -> RFP#<######>
B3: =INPUT!$C$23 -> Dental
B4: =INPUT!F44 -> Technical Proposal Form 5.0 - Deviations
B7: All deviations to the current plans arrangements, programs, specifications, etc. must be noted on this proposal form.
D9: Bidder Name | E9: ='Instructions & Info'!$C$57 -> 0
B11: Form / Section | C11: Item # | D11: Description | E11: Deviations

Sheet TF 6.0 Key Diff
B1: =INPUT!$C$3 -> Albemarle
B2: =INPUT!$D$11 -> RFP#<######>
B3: =INPUT!$C$23 -> Dental
B4: =INPUT!F45 -> Technical Proposal Form 6.0 - Key Differentiators
B6: Please note any capabilities or offerings specific to your organization that are beneficial to your book of business.
B9: Bidder Name | C9: ='Instructions & Info'!$C$57 -> 0
B11: CATEGORY | C11: KEY DIFFERENTIATORS

Sheet TF 7.0 REF
B1: =INPUT!$C$3 -> Albemarle
B2: =INPUT!$D$11 -> RFP#<######>
B3: =INPUT!$C$23 -> Dental
B4: =INPUT!F46 -> Technical Proposal Form 7.0 - References
C6: Bidder Name | D6: ='Instructions & Info'!$C$57 -> 0
B8: References
B9: Provide three (3) current and one (1) former clients of similar size for whom you provide administration for the benefit plans you are quoting. Provide requested references of similar sized contracts serviced during the past eighteen (18) months.
B10: Current Client References
B11: 1 | C11: Client Name
B12: a | C12: City / State
B13: b | C13: Contact Name(s)
B14: c | C14: Title
B15: d | C15: Number of Years Since Implementation
B16: e | C16: Number of Covered Lives
B17: f | C17: Contact Email Address
B18: g | C18: Contact Phone Number
B19: h | C19: List Services Provided (applicable to RFP)
B21: =1+B11 -> 2 | C21: Client Name
B22: a | C22: City / State
B23: b | C23: Contact Name(s)
B24: c | C24: Title
B25: d | C25: Number of Years Since Implementation
B26: e | C26: Number of Covered Lives
B27: f | C27: Contact Email Address
B28: g | C28: Contact Phone Number
B29: h | C29: List Services Provided (applicable to RFP)
B31: =1+B21 -> 3 | C31: Client Name
B32: a | C32: City / State
B33: b | C33: Contact Name(s)
B34: c | C34: Title
B35: d | C35: Number of Years Since Implementation
B36: e | C36: Number of Covered Lives
B37: f | C37: Contact Email Address
B38: g | C38: Contact Phone Number
B39: h | C39: List Services Provided (applicable to RFP)
B41: Former Client References
B42: 1 | C42: Client Name
B43: a | C43: City / State
B44: b | C44: Contact Name(s)
B45: c | C45: Title
...
