Workbook

Sheet INPUT
B1: Key: | C1: Internal Inputs (Bolton) | D1: Bidder Inputs | K1: Internal Instructions
K2: -Hide this worksheet before releasing to Market
B3: Group Name: | C3: Albemarle County | D3: Group Abbreviation: | E3: <Abbreviation> | F3: Additional Group Name: | G3: <Other Group Name>
B5: Sub-Groups: | C5: <Sub-group 1> | D5: <Sub-group 2> | E5: <Sub-group 3> | F5: <Sub-group 4> | G5: <Sub-group 5> | S5: TF | T5: Technical Form
C7: Effective Date (MM/DD/YYY) | D7: Current YTD | E7: Prior Year 1 | F7: Prior Year 2 | S7: PF | T7: Proposal Form
B8: Plan Years: | C8: 46753 | D8: 46023 | E8: 45658 | F8: 46023 | S8: BF | T8: Bid Form
D10: Final For Reference
B11: RFP# | C11: <######> | D11: =B11&C11 -> RFP#<######>
B13: Proposal Form Type: | C13: Technical Proposal | D13: Price Proposal | K13: Internal Checklist:
F14: Rate Guarantee: | K14: Is everything printer friendly
B15: Benefit Coverage / Services: | F15: Years | K15: Group Name Changed
B16: Benefit Name 1 | F16: 3 | G16: Three | K16: Worksheet Forms coordinate with name of Worksheet Tab Name
B17: Benefit Name 2 | F17: 3 | G17: Three | K17: Worksheet Form coordinates with table of contents and specific questions referencing Worksheet Form
B18: Benefit Name 3 | F18: 3 | G18: Three
B19: Benefit Name 4 | F19: 3 | G19: Three
B20: Benefit Name 5 | C20: Drug | F20: 3 | G20: Three
B21: Benefit Name 6
B23: Final For Reference | C23: PBM | E23: Final For Reference | F23: =G16&" ("&F16&")"&" Years" -> Three (3) Years
K30: Sheets are protected
K32: Roboto Font?
B35: Applicable Coverages | C35: Proposal Form | D35: # | E35: Name | F35: Final For Reference (Worksheet Name) | G35: Worksheet Tab
B36: ~ | C36: ~ | D36: ~ | E36: ~ | F36: ~ | G36: ~
B37: ALL | C37: Technical | E37: General Questionnaire | F37: =C37&" Proposal Form "&D37&" - "&E37 -> Technical Proposal Form - General Questionnaire | G37: =LEFT(C37,1)&"F "&D37 -> TF | J37: 1 | K37: Technical Form
B38: RX | C38: Technical | D38: 1.0 | E38: General Company Information | F38: =C38&" Proposal Form "&D38&" - "&E38 -> Technical Proposal Form 1.0 - General Company Information | G38: =LEFT(C38,1)&"F "&D38 -> TF 1.0
B39: RX | C39: Technical | D39: 1.1 | E39: Account Management | F39: =C39&" Proposal Form "&D39&" - "&E39 -> Technical Proposal Form 1.1 - Account Management | G39: =LEFT(C39,1)&"F "&D39 -> TF 1.1
B40: RX | C40: Technical | D40: 1.2 | E40: Claims Procesing Information | F40: =C40&" Proposal Form "&D40&" - "&E40 -> Technical Proposal Form 1.2 - Claims Procesing Information | G40: =LEFT(C40,1)&"F "&D40 -> TF 1.2
B41: RX | C41: Technical | D41: 1.3 | E41: Clinical Drug Utilization Review & Prior Authorization | F41: =C41&" Proposal Form "&D41&" - "&E41 -> Technical Proposal Form 1.3 - Clinical Drug Utilization Review & Prior Authorization | G41: =LEFT(C41,1)&"F "&D41 -> TF 1.3
B42: RX | C42: Technical | D42: 1.4 | E42: Customer Service | F42: =C42&" Proposal Form "&D42&" - "&E42 -> Technical Proposal Form 1.4 - Customer Service | G42: =LEFT(C42,1)&"F "&D42 -> TF 1.4
B43: RX | C43: Technical | D43: 1.5 | E43: Eligibility | F43: =C43&" Proposal Form "&D43&" - "&E43 -> Technical Proposal Form 1.5 - Eligibility | G43: =LEFT(C43,1)&"F "&D43 -> TF 1.5
B44: RX | C44: Technical | D44: 1.6 | E44: Formulary | F44: =C44&" Proposal Form "&D44&" - "&E44 -> Technical Proposal Form 1.6 - Formulary | G44: =LEFT(C44,1)&"F "&D44 -> TF 1.6
B45: RX | C45: Technical | D45: 1.7 | E45: Generics | F45: =C45&" Proposal Form "&D45&" - "&E45 -> Technical Proposal Form 1.7 - Generics | G45: =LEFT(C45,1)&"F "&D45 -> TF 1.7
B46: RX | C46: Technical | D46: 1.8 | E46: Clinical GLP-1's | F46: =C46&" Proposal Form "&D46&" - "&E46 -> Technical Proposal Form 1.8 - Clinical GLP-1's | G46: =LEFT(C46,1)&"F "&D46 -> TF 1.8
B47: RX | C47: Technical | D47: 1.9 | E47: Implementation | F47: =C47&" Proposal Form "&D47&" - "&E47 -> Technical Proposal Form 1.9 - Implementation | G47: =LEFT(C47,1)&"F "&D47 -> TF 1.9
B48: RX | C48: Technical | D48: 1.10 | E48: Mail Order | F48: =C48&" Proposal Form "&D48&" - "&E48 -> Technical Proposal Form 1.10 - Mail Order | G48: =LEFT(C48,1)&"F "&D48 -> TF 1.10
B49: RX | C49: Technical | D49: 1.11 | E49: Reporting | F49: =C49&" Proposal Form "&D49&" - "&E49 -> Technical Proposal Form 1.11 - Reporting | G49: =LEFT(C49,1)&"F "&D49 -> TF 1.11
... B54: RX | C54: Technical | D54: 1.16 | E54: Client Specific Questionnaire | F54: =C54&" Proposal Form "&D54&" - "&E54 -> Technical Proposal Form 1.16 - Client Specific Questionnaire | G54: =LEFT(C54,1)&"F "&D54 -> TF 1.16
C56: ~
B57: RX | C57: Price | D57: 2.0 | E57: Business and Contract Requirements | F57: =C57&" Proposal Form "&D57&" - "&E57 -> Price Proposal Form 2.0 - Business and Contract Requirements | G57: =LEFT(C57,1)&"F "&D57 -> PF 2.0 | J57: 2 | K57: Financial/Price Form
B58: RX | C58: Price | D58: 2.1 | E58: Claim Repricing Instructions | F58: =C58&" Proposal Form "&D58&" - "&E58 -> Price Proposal Form 2.1 - Claim Repricing Instructions | G58: =LEFT(C58,1)&"F "&D58 -> PF 2.1 | J58: 0.23 | K58: DENTAL
B59: RX | C59: Price | D59: 2.2 | E59: Financial Questionnaire | F59: =C59&" Proposal Form "&D59&" - "&E59 -> Price Proposal Form 2.2 - Financial Questionnaire | G59: =LEFT(C59,1)&"F "&D59 -> PF 2.2 | K59: DENTAL
...

Sheet Instructions & Info
B1: =INPUT!$C$3 -> Albemarle County
B2: =INPUT!$D$11 -> RFP#<######>
B3: =INPUT!$C$23 -> PBM
B4: Instructions
B6: Please Read:
B7: NOTICE: | C7: You must read these instructions in full and confirm you have read and understand them by entering your name and date in the appropriate fields at the bottom of this spreadsheet.
B8: Instructions: | C8: ="The following Proposal Forms in this workbook will be used to gather vendor responses in regards to your capabilities to provide the required services of this RFP to "&$B$1&". Your responses will be compared and evaluated against the other vendors responses. " -> The following Proposal Forms in this workbook will be used to gather vendor responses in regards to your capabilities to provide the required services of this RFP to Albemarle County. Your responses will be compared and evaluated against the other vendors responses.
C9: Please do not modify the tabs. Modifying the tabs or layout may eliminate your company from consideration. Please do not: - Add or Delete Cells - Renumber or Add Questions - Delete Questions - If you cannot respond to a question please just note - 'No Response Available' or 'N/A'. Responses to questions should be brief and concise. 'Yes' or 'No' responses are encouraged when appropriate within the dropdown menu. The maximum amount of characters for a response is 700.
B10: Hold Harmless Agreement | C10: Vendor shall indemnify and hold harmless the Client, its respective directors, officers, employees (acting in the course of their employment, but not as claimants) and agents, against any and all liability or expense (including the cost of legal defense or settlement) which was caused by (vendor’s) negligent or intentional misconduct, breach of this Agreement, fraud, or its breach of fiduciary responsibility, related to or arising out of this Agreement or the Client’s role as employer or Plan sponsor. The party seeking indemnification under (a) above must notify the indemnifying party promptly in writing of any actual or threatened action, suit or proceeding to which it claims such indemnity applies. Failure to notify the indemnifying party shall be deemed a waiver of the right to seek indemnification. The party seeking indemnification may assume responsibility for the direction of its own defense at any time, including the right to settle or compromise any claim against it without the consent of the indemnifying party, provided that in doing so it shall be deemed to have waived its right to indemnification except in cases where the indemnifying party has declined to defend against the claim. The indemnification obligations of (vendor) shall terminate upon the expiration of the Agreement except as to any matter concerning which a claim has been asserted by notice to the other party at the time of such expiration or within 365 days after effective date of Agreement termination.
B11: RFP Information
B12: RFP Coverages: | C12: =INPUT!$C$23 -> PBM
B13: Effective Date for all Lines: | C13: =INPUT!$C$8 -> 46753
B14: Eligible Employees:
B15: Current Carrier(s): | C15: Coverage | D15: Carrier Name
C16: Medical | D16: Anthem
C17: Rx | D17: Anthem
C18: Clinical Programs / Point Solutions | D18: CareATC
C19: HRIS / Benefits Administrator | D19: ADP
B20: Proposed Fee Guarantee: | C20: =INPUT!F23 -> Three (3) Years
B21: Notes:
B22: Current Commissions:
B23: Requested Commissions:
B24: RFP Timeline: | C24: Activity | D24: Date
C25: RFP Released | D25: 46297
C26: Deadline to submit questions | D26: 46336
C27: Addendum with responses released to vendors | D27: 46338
C28: RFPs due | D28: 46343
C29: Bidder interviews conducted (Optional) | D29: 46447
C30: Evaluate Financial RFP Responses, Score and Select Finalists (if applicable) or winning Vendor | D30: 46472
C31: Request BAFO (if applicable)
C32: BAFO Due (if applicable)
C33: Evaluate BAFO, Finalize Analysis and Recommendations (if applicable)
C34: Select Vendor | D34: 46539
C35: Implementation (including Open Enrollment) | D35: 46568
C36: Effective Date | D36: =INPUT!$C$8 -> 46753
B37: Provided Data: | C37: Current plan documents: SBC/SPD as applicable - separate attachment | D37: Separate Attachment
C38: Census | D38: Separate Attachment
C39: Enrollment data | D39: Separate Attachment
C40: Claims data | D40: Separate Attachment
B43: Disclaimer & Intent to Bid: | C43: By entering my name and date below I am confirming my firm's intent to bid, that I have read the above instructions in full regarding providing responses to the Questions in this workbook, and completion of the proposal forms. I also confirm our firm understands the information provided in this Request for Proposal and all attachments is confidential and proprietary and will only be used to prepare a proposal response.
...

Sheet TF 1.0 Company Info
B1: =INPUT!$C$3 -> Albemarle County
B2: =INPUT!$D$11 -> RFP#<######>
B3: =INPUT!$C$23 -> PBM
B4: =INPUT!F38 -> Technical Proposal Form 1.0 - General Company Information
C8: Bidder Name | D8: ='Instructions & Info'!$C$44 -> 0
B9: # | C9: Question | D9: Response
B10: 1 | C10: Detail the following company information: -Ownership- -Total PBM lives covered -Prior Calendar Year Client Retention Rate
B11: =B10+1 -> 2 | C11: Are retail pharmacy agreements directly negotiated by your organization or are they leased from another PBM?
B12: =B11+1 -> 3 | C12: Do you own and operate your own mail service pharmacies? If not, please provide details on the vendor with whom you contract.
B13: =B12+1 -> 4 | C13: Do you own and operate your own specialty pharmacy? If not, please provide details on the vendor with whom you contract.
B14: =B13+1 -> 5 | C14: List your companies professional accreditations.
B15: =B14+1 -> 6 | C15: Please identify any recent changes in ownership, including but not limited to, acquisitions, mergers, etc. Describe any potential impact to Client or its members.
B16: =B15+1 -> 7 | C16: What contractual reassurances and language will you include that gives Client the right to terminate should you be acquired (1) in full, (2) by asset acquisition, or (3) made a subsidiary by another PBM?
B17: =B16+1 -> 8 | C17: How often do you audit the accuracy of plan program pricing and overall adjudication accuracy? Describe how this will be shared with Client.
B18: =B17+1 -> 9 | C18: Please describe the audit rights available to Client. Client reserves the right to select independent auditors at any time with 90-day advanced notice.
B19: =B18+1 -> 10 | C19: Briefly describe the unique programs, systems, or support that you will make available to Client, specifically those offered for wellness. Cite specific examples of how these have brought value to a company of similar size and structure to Client.

Sheet TF 1.1 AcctMgmt
B1: =INPUT!$C$3 -> Albemarle County
B2: =INPUT!$D$11 -> RFP#<######>
B3: =INPUT!$C$23 -> PBM
B4: =INPUT!F39 -> Technical Proposal Form 1.1 - Account Management
C8: Bidder Name | D8: ='Instructions & Info'!$C$44 -> 0
B9: # | C9: Question | D9: Response
B10: 1 | C10: Confirm ability to accept contract terms as outlined in shared sample contract as part of RFP release
B11: =B10+1 -> 2 | C11: Identify the Account Management and Service Team that will be assigned to Client.
B12: =B11+1 -> 3 | C12: Describe your organization’s approach to proactive account service, including providing information on innovative and creative solutions.
B13: =B12+1 -> 4 | C13: What is the average number of clients your proposed account management will be servicing in addition to Client?
B14: =B13+1 -> 5 | C14: Will you agree to quarterly meetings with Client to discuss plan performance, financial results, areas for improved savings, etc.?
B15: =B14+1 -> 6 | C15: What analytical tools are available to assist Client in reaching their optimal savings and plan performance?
B16: =B15+1 -> 7 | C16: What level of experience does the Client account team have in analyzing data, providing benchmarking reports, shifting drug spend, etc.?
B17: =B16+1 -> 8 | C17: Do you survey Client members annually for program administration satisfaction? Please provide a sample survey.
B18: =B17+1 -> 9 | C18: Will any services to Client be provided offshore? If yes, please describe.
B19: =B18+1 -> 10 | C19: What access level do you recommend regarding client requested overrides? What transmission methods are available for plan sponsors to communicate requests for overrides?
B20: =B19+1 -> 11 | C20: Summarize your desired billing approach.
B21: =B20+1 -> 12 | C21: Are weekly billing reports available through a portal to use for claim payment for each member school?
B22: =B21+1 -> 13 | C22: Will claims pull tie directly to the bi-weekly billing reports?

Sheet TF 1.2 Claim Processing
B1: =INPUT!$C$3 -> Albemarle County
B2: =INPUT!$D$11 -> RFP#<######>
B3: =INPUT!$C$23 -> PBM
B4: =INPUT!F40 -> Technical Proposal Form 1.2 - Claims Procesing Information
C8: Bidder Name | D8: ='Instructions & Info'!$C$44 -> 0
B9: # | C9: Question | D9: Response
B10: 1 | C10: List the location where your organization will process claims.
B11: =B10+1 -> 2 | C11: Will Client have a dedicated contact for claim processing inquiries?
B12: =B11+1 -> 3 | C12: Describe how your claim adjudication system prevents the filling of medications for non-FDA approved indications. Can you manage the pharmacy benefit to the Client SPD?
B13: =B12+1 -> 4 | C13: What safeguards exist for preventing breaches in patient confidentiality?
B14: =B13+1 -> 5 | C14: Do you own your claims adjudication system? If not, please describe the system you use.
B15: =B14+1 -> 6 | C15: What is your claims processing turnaround time? What is your turnaround time for Direct Member Reimbursements (DMRs)?
B16: =B15+1 -> 7 | C16: What is your system downtime? Have you experienced delays or unplanned downtime in the last 12 months? Please describe.
B17: =B16+1 -> 8 | C17: Please describe your appeals process.
B18: =B17+1 -> 9 | C18: How do you integrate the dispensing and adjudication process when mail order and retail are involved?
B19: =B18+1 -> 10 | C19: Is the AWP source on which a claim is adjudicated for charge to the client the same source used to compensate retail pharmacies? Please explain any differences. How frequently is this information updated?
B20: =B19+1 -> 11 | C20: Do you use the entire 11-digit NDC submitted by the pharmacy to calculate AWP & client charges?
B21: =B20+1 -> 12 | C21: Can you accommodate assignment of benefits in the manual claims process?
B22: =B21+1 -> 13 | C22: How do you integrate the data from mail, network retail, non-network retail and manual retail claims? Is it real-time or retrospective? Please describe.
B23: =B22+1 -> 14 | C23: What are your system capabilities for out-of-area providers, deductibles, caps, and copayments? Please describe these in detail including associated timelines

Sheet TF 1.3 DUR & PA
B1: =INPUT!$C$3 -> Albemarle County
B2: =INPUT!$D$11 -> RFP#<######>
B3: =INPUT!$C$23 -> PBM
B4: =INPUT!F41 -> Technical Proposal Form 1.3 - Clinical Drug Utilization Review & Prior Authorization
C8: Bidder Name | D8: ='Instructions & Info'!$C$44 -> 0
B9: # | C9: Question | D9: Response
B10: 1 | C10: What is your standard percentage for the “refill too soon” edit? What is the process for over-riding this edit in cases where member has lost a prescription or will be out of the country and needs earlier refills than the standard percentage allows?
B11: 2 | C11: Describe online integration, if any, with retail pharmacies to ensure non-duplication and to identify potential adverse interaction.
B12: 3 | C12: How do you guard against the filling of separate prescriptions for the same or similar drugs at different pharmacies on the same day?
B13: 4 | C13: Describe your Clinical Prior Authorization (PA) programs. Please provide your standard PA list. How do you develop the list of drugs requiring prior authorization? How often do you review and revise this list? Will Client be able to customize this list at no charge?
B14: 5 | C14: Do you outsource clinical PA’s?
B15: 6 | C15: Identify the criteria by which you would approve filling a PA drug.
B16: 7 | C16: What is the typical turnaround time for prior authorizations?
B17: 8 | C17: How do you manage your step therapy program for new employer groups and for new members with no history on your claims system?
B18: 9 | C18: What utilization management programs (i.e. step therapy, disease management, etc.) would you recommend based on the historical claims provided? How are candidates identified, what is your intervention methodology, and how are outcomes tracked?
B19: 10 | C19: Describe all disease state management programs you offer. Please detail costs associated with each program and also describe how you will work with Client pharmacies to deliver these programs to Client covered plan members.
B20: 11 | C20: Do all of your Prior Authorization procedures require medical records / lab reports when reviewing a Prior Authorization? Are medical records / lab reports required for all specialty prior authorizations? Under what circumstances are Verbal Prior Authorizations accepted? If medical records / lab reports are not required, will you allow Client to require them prior to approval?
B21: 12 | C21: What qualifications are required for those individuals approving or denying Prior Authorizations? Are those individuals performing the Prior Authorizations subject to minimum quotas? Describe the review for claims over $2500.
... B46: 37 | C46: Explain the different prior authorization options available (i.e., automated, pharmacist-supported) and indicate the level of program flexibility for criteria customization.
B47: 38 | C47: Explain your member appeals process levels. If a claim is denied or rejected and the member appeals, what is the process for handling the appeal and at what point do you involve the client contact? Can I client initiate an appeal on behalf of the member? | D47: CB: We already Asked about appeals on TF1.2
B48: 39 | C48: Provide a description of your step therapy programs. List common agents that require step therapy and provide an estimated level of savings for clients who adopt step therapy programs. | D48: CB: What has been quoted? What is available. Ithink we could consolidate a lot of the questions on this page.

Sheet TF 1.4 Customer Service
A1: 22 | B1: =INPUT!$C$3 -> Albemarle County
B2: 4
B3: =INPUT!$C$23 -> PBM
B4: =INPUT!F42 -> Technical Proposal Form 1.4 - Customer Service
C8: Bidder Name | D8: ='Instructions & Info'!$C$44 -> 0
B9: # | C9: Question | D9: Response
B10: 1 | C10: What are your customer service hours of operation? Do you have after hours support?
B11: =B10+1 -> 2 | C11: Confirm the customer service office supporting Albemarle County is located in the United States.
B12: =B11+1 -> 3 | C12: What has been the ratio of client service representatives to members over the past three years?
B13: =B12+1 -> 4 | C13: Please describe the process used to educate your customer service team on the specifics of a client’s benefit design.
B14: =B13+1 -> 5 | C14: Provide your standards for Average Speed of Answer (ASA), call abandonment rate, percentage of calls resolved at time of call, and response time for written inquiries.
B15: =B14+1 -> 6 | C15: What clinical support is provided to prescribers and by whom?
B16: =B15+1 -> 7 | C16: If there is a member issue with a copay / plan design / rejection, what is the response time with regard to problem resolution through customer service (i.e., employee calls customer service)?
B17: =B16+1 -> 8 | C17: What capabilities do you have to communicate with plan sponsor via the Internet, specifically:
B18: a. | C18: Enrollment/Eligibility update capabilities
B19: b. | C19: View of detailed Member enrollment and eligibility records
B20: c. | C20: View of member claim status/EOBs
B21: d. | C21: Order ID Cards on behalf of members
B22: e. | C22: Email/chat with Customer Service/Claims Representatives
B23: f. | C23: Costs for prescription drugs at different pharmacies
B24: g. | C24: General consumer health information
B25: 9 | C25: What capabilities do you have to communicate with plan members via the Internet, specifically:
B26: a. | C26: Enrollment/eligibility and coverage levels
B27: b. | C27: Communication of plan designs and member liability levels
B28: c. | C28: Review of network directories
B29: d. | C29: Detailed claim status/EOBs
B30: e. | C30: Order ID cards
B31: f. | C31: Email/chat with Customer Service/Claims Representatives
B32: g. | C32: Costs for prescription drugs at different pharmacies
B33: h. | C33: General Consumer Health Information
B34: i. | C34: Health Management / Prior Authorizations
B35: j. | C35: Savings Opportunities
B36: k. | C36: Formulary Changes
B37: 10 | C37: Are there any staff that speak a language other than English?
B38: 11 | C38: How often are member surveys sent out? Please provide the most recent results available for your entire book-of-business as well as facility-specific results.

Sheet TF 1.5 Eligibility
B1: =INPUT!$C$3 -> Albemarle County
B2: =INPUT!$D$11 -> RFP#<######>
B3: =INPUT!$C$23 -> PBM
B4: =INPUT!F43 -> Technical Proposal Form 1.5 - Eligibility
C8: Bidder Name | D8: ='Instructions & Info'!$C$44 -> 0
B9: # | C9: Question | D9: Response
B10: 1 | C10: Please provide a detailed description and copy of the data elements required for the initial eligibility file upload. Include description of lead time, turnaround time, and the verification process for a successful upload.
B11: 2 | C11: What happens if a file record is rejected via the load process? Please provide samples of system reports used to reconcile group files with your files and describe your process for resolving eligibility discrepancies.
B12: 3 | C12: What is the turnaround time for groups to receive your eligibility reporting?
B13: 4 | C13: What cycle do you recommend for eligibility file exchanges following initial upload (daily, weekly, monthly)?
B14: 5 | C14: What is the time window for retro termination?
B15: 6 | C15: What is your process for handling termination by omission?
B16: 7 | C16: What is your process when a request is received for prescriptions from someone who is ineligible, or is shown as terminated from the plan?
B17: 8 | C17: What options are available for receiving eligibility? Do you have mandatory eligibility requirements? Do you have preferred formats? Will you accept any format?
B18: 9 | C18: How long does it take you to update eligibility after receipt of a file? Indicate how quickly eligibility information can be updated based upon the different media that a plan sponsor may use to report eligibility data (paper, tape, diskette, CD-ROM, telephone, on-line).
B19: 10 | C19: What options are available for on-line access? If available, describe the internal and external systems security measures in place. Describe any charge for this access.
B20: 11 | C20: Will you accept eligibility information from client designated organizations (i.e., contracted medical vendor)? Please describe format and process requirements.
B21: 12 | C21: Will you allow the medical carrier to generate member ID cards with pharmacy information to ensure one compliant ID card for members
... B23: 12 | C23: Will you allow the medical carrier to generate member ID cards with pharmacy information to ensure one compliant ID card for members
B24: =B23+1 -> 13 | C24: Confirm client retains final right as approver for all eligibility determinations.
B25: =B24+1 -> 14 | C25: Please share process and ability to support eligibility changes including over-age dependents & notification process for Medicare eligible.

Sheet TF 1.6 Formulary
B1: =INPUT!$C$3 -> Albemarle County
B2: =INPUT!$D$11 -> RFP#<######>
B3: =INPUT!$C$23 -> PBM
B4: =INPUT!F44 -> Technical Proposal Form 1.6 - Formulary
C8: Bidder Name | D8: ='Instructions & Info'!$C$44 -> 0
B9: # | C9: Question | D9: Response
B10: 1 | C10: Summarize your overall formulary strategy for this client.
B11: 2 | C11: Proposed Formulary Name
B12: 3 | C12: Is this formulary classified as an Open or Closed Formulary?
B13: 3a | C13: Number of excluded drugs
B14: 3b | C14: % generic - % of NDC [How is this best assessed]
B15: 3c | C15: % brand - % of NDC [How is this best assessed]
B16: 3d | C16: Are any entire drug classes excluded for this formulary
B17: 4 | C17: Do you include biosimilars in your formulary designs?
B18: =B17+1 -> 5 | C18: Are biosimilar medications "preferred" on this formulary
B19: =B18+1 -> 6 | C19: What is your biosimilar strategy for this formulary specifically related to Humira
B20: =B19+1 -> 7 | C20: Are high cost / low value products (duexis, vimovo, etc.) excluded from this formulary, please elaborate
B21: =B20+1 -> 8 | C21: How often is your formulary updated?
B22: =B21+1 -> 9 | C22: How often are negative impacts to the formulary updated?
B23: =B22+1 -> 10 | C23: How will you assist Client in evaluating cost and utilization impact for newly approved drugs added to your formulary or removed from your formulary? Please provide a recent example of both, including the communication to client?
B24: =B23+1 -> 11 | C24: Please provide detail as to strategies this formulary affords to drive the lowest net cost.
B25: =B24+1 -> 12 | C25: Describe your process for communicating formulary changes to members and prescribers.
B26: =B25+1 -> 13 | C26: Do you have programs and tools in place to increase formulary compliance and promote education?
B27: =B26+1 -> 14 | C27: Describe any incentives or programs in place with providers designed to increase generic dispensing and formulary compliance.
B28: =B27+1 -> 15 | C28: Please describe your rebate contracting philosophy.
B29: =B28+1 -> 16 | C29: Please list the number of manufacturers with whom you have rebate agreements. How many rebate contracts does this represent?
... B38: =B37+1 -> 25 | C38: Please define what information, cost impact, and benefit design modeling you provide to clients involving the Rx products that change to OTC status (i.e., Claritin, Prilosec OTC).

Sheet TF 1.7 Generics
B1: =INPUT!$C$3 -> Albemarle County
B2: =INPUT!$D$11 -> RFP#<######>
B3: =INPUT!$C$23 -> PBM
B4: =INPUT!F45 -> Technical Proposal Form 1.7 - Generics
C8: Bidder Name | D8: ='Instructions & Info'!$C$44 -> 0
B9: # | C9: Question | D9: Response
B10: 1 | C10: Please describe your generic programs. How do you promote the use of generic drugs?
B11: =B10+1 -> 2 | C11: Do your MAC price lists vary contractually between network pharmacies? If yes, why?
B12: =B11+1 -> 3 | C12: Do you currently offer identical MAC programs at retail and mail?
B13: =B12+1 -> 4 | C13: Does your MAC pricing fluctuate throughout the year to make the guarantees or is the MAC pricing unchanged throughout the year?
B14: =B13+1 -> 5 | C14: What overall discount off AWP does your MAC pricing generate? How do you calculate this figure?
B15: =B14+1 -> 6 | C15: Are both non-MAC and MAC single source and multi source generic products included in the generic guarantee measurement?
B16: =B15+1 -> 7 | C16: Total # of NDCs on your proposed MAC List.
B17: =B16+1 -> 8 | C17: Total # of GPNs on your proposed MAC List.
B18: =B17+1 -> 9 | C18: How many MAC pricing lists do you manage? Describe the differences between each list (content, pricing, etc.).
B19: =B18+1 -> 10 | C19: What client-specific criteria are used to define the MAC list which will be used for the Client?
B20: =B19+1 -> 11 | C20: If selected as a finalist, will you share with the client the MAC list which includes a listing of drug specific discounts that will be implemented? Will you provide client with notification of all MAC list changes for the duration of the contract? If so, what is the process and timeframe for client notification?
B21: =B20+1 -> 12 | C21: Regarding your proposed MAC list, descibe how it was developed, how it is updated, and what is the frequency of updates.
B22: =B21+1 -> 13 | C22: Define criteria used for product inclusion and removal from your MAC list.
... B24: =B23+1 -> 15 | C24: How many MAC pricing lists do you manage? Please describe the differences between each list.

Sheet TF 1.8 GLP-1
B1: =INPUT!$C$3 -> Albemarle County
B2: =INPUT!$D$11 -> RFP#<######>
B3: =INPUT!$C$23 -> PBM
B4: =INPUT!F46 -> Technical Proposal Form 1.8 - Clinical GLP-1's
C8: Bidder Name | D8: ='Instructions & Info'!$C$44 -> 0
B9: # | C9: Question | D9: Response
B10: 1 | C10: Do all of your Prior Authorization procedures require medical records / lab reports when reviewing a Prior Authorization? Under what circumstances are Verbal Prior Authorizations accepted? If medical records / lab reports are not required, will you allow Client to require them prior to approval?
B11: =B10+1 -> 2 | C11: Please provide detail clinical criteria for GLP-1 drugs (weight loss and diabetes).
B12: =B11+1 -> 3 | C12: Do you agree to provide clinical criteria to the designated County partners (the county themselves, consultant partner, data platform) appropriate NDA?
B13: =B12+1 -> 4 | C13: Confirm client can administer the following for all weight loss drugs with no impact to rebates or other pricing:
B14: a. | C14: Lifetime maximum (dollar)
B15: b. | C15: Fill maximum (number of fills or length of treatment)
B16: c. | C16: Limit day-supply to 30 days at retail and mail.
B17: =B13+1 -> 5 | C17: Specific to GLP-1 medications (all indications), confirm client can administer the following with no rebate or other financial impact, and no additional fee:
B18: a. | C18: Utilization management programs, including prior authorizations.
B19: b. | C19: Confirm your organization obtains documentation i.e. medical chart notes for diagnosis, labs etc. as opposed to verbal attestation.
B20: =B17+1 -> 6 | C20: Do you agree to limit GLP 1s to 30 Days Supply?

Sheet TF 1.9 Implementation
B1: =INPUT!$C$3 -> Albemarle County
B2: =INPUT!$D$11 -> RFP#<######>
B3: =INPUT!$C$23 -> PBM
B4: =INPUT!F47 -> Technical Proposal Form 1.9 - Implementation
C8: Bidder Name | D8: ='Instructions & Info'!$C$44 -> 0
B9: # | C9: Question | D9: Response
B10: 1 | C10: Describe the steps of your implementation process. Please include Client responsibilities as well as your responsibilities throughout the process. Detail the frequency of communication with Client throughout implementation. How do you report on the status of each step? Include a sample timetable for this coverage effective date.
B11: =B10+1 -> 2 | C11: Please provide the names and references for the implementation team that will be used for implementation.
B12: =B11+1 -> 3 | C12: Please describe the benefit design accuracy testing process that occurs during implementation? If issues are found, how are they handled and communicated to Client?
B13: =B12+1 -> 4 | C13: Please confirm that all communication will be provided to Client and not released without prior Client approval.
B14: =B13+1 -> 5 | C14: How are members notified of the following events? Please indicate for each whether this is by phone, email, letter, or other:
B15: a. | C15: Plan Change
B16: b. | C16: New Drug Additions/Formulary Changes
B17: c. | C17: Change in Pharmacy Network
B18: d. | C18: Drug Recalls
B19: =B14+1 -> 6 | C19: What is your turnaround time on producing ID cards and replacement cards?
B20: =B19+1 -> 7 | C20: Provide samples of new member information materials that will be included with the mailing of ID cards – include a description of all data elements that appear on ID cards.
B21: =B20+1 -> 8 | C21: How will you facilitate the transition of members’ prescriptions to your mail order pharmacy?
B22: =B21+1 -> 9 | C22: What type of training will you provide during implementation on your systems and reporting tools? Will the training be provided on-site?
B23: =B22+1 -> 10 | C23: How are Prior Authorizations transferred into your system? Will members be required to obtain new Prior Authorizations?
B24: =B23+1 -> 11 | C24: What timeline do you set for benefit summaries or other documentation?
B25: =B24+1 -> 12 | C25: Prior to the effective date, when would the portal be available to members to review formulary changes and other critical OE details?
B26: =B25+1 -> 13 | C26: PBM agrees to transmit and/or receive data electronically, including FTP, at no charge to client.
B27: =B26+1 -> 14 | C27: Prior to the effective date, when would the service center be available for members to call for support?

Sheet TF 1.10 Mail Order
B1: =INPUT!$C$3 -> Albemarle County
B2: =INPUT!$D$11 -> RFP#<######>
B3: =INPUT!$C$23 -> PBM
B4: =INPUT!F48 -> Technical Proposal Form 1.10 - Mail Order
C8: Bidder Name | D8: ='Instructions & Info'!$C$44 -> 0
B9: # | C9: Question | D9: Response
B10: 1 | C10: Does your mail order process allow the ability to limit first fills to a 30 day supply? Will it allow limiting COBRA participants to a 30 day supply?
B11: =B10+1 -> 2 | C11: How are members notified of their next refill date?
B12: =B11+1 -> 3 | C12: Describe your process for ordering refills by mail, phone, fax, and the Internet. What percent of refills are currently ordered by each of these methods?
B13: =B12+1 -> 4 | C13: Do members need to initiate refills or are they automated? If not automated, is there a proactive outreach by the PBM?
B14: =B13+1 -> 5 | C14: Confirm that you will be responsible for collection of member cost share and will be at risk for uncollected monies.
B15: =B14+1 -> 6 | C15: Do you agree that mail order prescriptions shipped in error, damaged in shipment, lost in transit, left by courier without confirmation of receipt, or rendered unusable due to negligence or error in the delivery process, will not be the financial responsibility of the contracted group or their members?
B16: =B15+1 -> 7 | C16: ="Confirm your mail pharmacy dispensing accuracy for "&YEAR(INPUT!$D$8)&" (if not available, provide for prior year)." -> Confirm your mail pharmacy dispensing accuracy for 2026 (if not available, provide for prior year).
B17: =B16+1 -> 8 | C17: Are there any address types that you do not ship to? PO Box, apartment complex, etc.?
B18: =B17+1 -> 9 | C18: Confirm your average turn around time (TAT) for dispensing a mail order Rx that does not require an intervention.
B19: =B18+1 -> 10 | C19: Confirm your average TAT for dispensing a mail order Rx that does require an intervention.
B20: =B19+1 -> 11 | C20: On average, what percent of mail order claims require an intervention?

Sheet TF 1.11 Reporting
B1: =INPUT!$C$3 -> Albemarle County
B2: =INPUT!$D$11 -> RFP#<######>
B3: =INPUT!$C$23 -> PBM
B4: =INPUT!F49 -> Technical Proposal Form 1.11 - Reporting
C8: Bidder Name | D8: ='Instructions & Info'!$C$44 -> 0
B9: # | C9: Question | D9: Response
B10: 1 | C10: Describe your standard reporting package and include samples. Please include the frequency of reporting and the format in which it is provided.
B11: =B10+1 -> 2 | C11: Outline your integration experience with the current medical vendor.
B12: =B11+1 -> 3 | C12: Is clinical reporting included in your standard reporting? If not, provide detailed information on your clinical reporting. Are these reports available at no additional charge?
B13: =B12+1 -> 4 | C13: Will you be able to provide reports that compare Client results to Medi-Span and other similar clients that result in specific actionable items designed to positively impact Client results?
B14: =B13+1 -> 5 | C14: What financial reporting is provided to client?
B15: =B14+1 -> 6 | C15: What data is routinely shared with medical carriers for stop loss aggregation?
B16: =B15+1 -> 7 | C16: Describe your remote or desk-top access for any ad hoc reporting available to Client. Please include costs and training on this system.
B17: =B16+1 -> 8 | C17: Describe any other reports available regularly at no additional charge and the frequency with which they will be provided.
B18: =B17+1 -> 9 | C18: What analytical reports are provided to Client? Do these reports include benchmarking against groups similar in size, plan design, and utilization?
B19: =B18+1 -> 10 | C19: What reporting is available that identifies gaps in care such as not re-filling scripts for test strips or not getting meds refilled. What Adherence Based reporting can you provide that compares your BOB Adherence results to Client as measured by Medication Possession Ratio (MPR) or Proportion of Days Covered (PDC)?
B20: =B19+1 -> 11 | C20: What innovative solutions do you have that combine medical and pharmacy reporting in order to identify clinical opportunities for gaps in care?
B21: =B20+1 -> 12 | C21: Describe any modeling capabilities that Client could utilize to assist in future budgetary decisions.
B22: =B21+1 -> 13 | C22: Do you provide any high cost claimant reports? Is this included as part of your offering?
... B28: =B27+1 -> 19 | C28: Please confirm your standard reporting package will allow the client to do the following:
C29: a. Separate reports by the group and sub-groups (e.g. actives, retirees, COBRA, etc.) under each employer group
C30: b. Set custom ranges for current year or historical years (e.g., month, year, 6 mos. period)
C31: c. Separate reports at the benefit plan option level (e.g., HMO, PPO, Medicare Supplemental etc., and In-Network/Out-of-Network)
B32: =B28+1 -> 20 | C32: Describe your self-service access for any ad hoc reporting available to the Employer and the training available for using this system.
B33: =B32+1 -> 21 | C33: Confirm ability to build file feeds to client's external data partner(s) free of additional charge
B34: =B33+1 -> 22 | C34: Please confirm your willingness to partner with the third-party data analytics platform, Switchbridge.
B35: =B34+1 -> 23 | C35: From the time of request to the time of data sharing, how long is your typical set-up and implementation process?
B36: =B35+1 -> 24 | C36: What does the contracting process entail for data sharing, specifically with subcontractors, and client approved/directed point solutions and analytics?
B37: =B36+1 -> 25 | C37: Please include a standard BAA or DSA template for between your organization and a third-party data analytics platform.
B38: =B37+1 -> 26 | C38: Please provide a standard layout for eligibility, medical and claims or are you able to create outputs in a format that we provide. If you have a standard data layout that you have available, please provide sample, along with a data dictionary, for our review.
B39: =B38+1 -> 27 | C39: What frequency of data transfer is available for eligibility, medical and claims data?
B40: =B39+1 -> 28 | C40: Confirm you will provide all claims data
B41: =B40+1 -> 29 | C41: How are changes in group structures over time communicated to your partners (e.g. as plan years change and plan codes evolve, how are partners made aware)?
B42: =B41+1 -> 30 | C42: When you are providing data outputs, is there a dedicated contact that is assigned to a partner or is a team used?
B43: =B42+1 -> 31 | C43: How frequently (e.g. monthly, weekly, daily, etc.) are you able to send claims and enrollment data ?
B44: =B43+1 -> 32 | C44: Which data analytics tools do you have connectivity with (i.e. Innovu, Cedar Gate, Springbuk, etc.)?

Sheet TF 1.12 Retail Networks
B1: =INPUT!$C$3 -> Albemarle County
B2: =INPUT!$D$11 -> RFP#<######>
B3: =INPUT!$C$23 -> PBM
B4: =INPUT!F50 -> Technical Proposal Form 1.12 - Retail Networks
C8: Bidder Name | D8: ='Instructions & Info'!$C$44 -> 0
B9: # | C9: Question | D9: Response
B10: 1 | C10: Please describe your retail network and any alternate retail network arrangements you are proposing for Client.
B11: =B10+1 -> 2 | C11: How many total Pharmacies are in your proposed Pharmacy Network?
B12: =B11+1 -> 3 | C12: How many Pharmacies are in your proposed 90 Day Retail Network?
B13: =B12+1 -> 4 | C13: What major chains, if any, are excluded from your proposed 30 Day Retail Pharmacy Network?
B14: =B13+1 -> 5 | C14: What major chains, if any, are excluded from your proposed 90 Day Retail Pharmacy Network?
B15: =B14+1 -> 6 | C15: What percent of your network pharmacy contracts include the “lesser of retail price, MAC price, or discounted price” provision? What procedures are established to ensure that the pharmacy is in compliance?
B16: =B15+1 -> 7 | C16: How do you guarantee that members always receive the lowest price?
B17: =B16+1 -> 8 | C17: Please explain your retail auditing process. Include frequency of audits, types of audits, who conducts the audits, and how results are shared with Client.
B18: =B17+1 -> 9 | C18: Describe your current retail audit practices (Electronic, Desk, Onsite) and protocols.
B19: =B18+1 -> 10 | C19: Describe your process to enroll a current out of network retail pharmacy into your network in order to minimize negative Network Disruption.

Sheet TF 1.13 Specialty Pharmacy
B1: =INPUT!$C$3 -> Albemarle County
B2: =INPUT!$D$11 -> RFP#<######>
B3: =INPUT!$C$23 -> PBM
B4: =INPUT!F51 -> Technical Proposal Form 1.13 - Specialty Pharmacy
C8: Bidder Name | D8: ='Instructions & Info'!$C$44 -> 0
B9: # | C9: Question | D9: Response
B10: 1 | C10: Please provide your contract definition of a specialty drug. Please include any Days Supply dollar amounts if this is part of your specialty definition.
B11: =B10+1 -> 2 | C11: How many therapeutic categories are represented in your specialty program?
B12: =B11+1 -> 3 | C12: How many Limited Distribution Specialty medications are on your specialty drug listing?
B13: =B12+1 -> 4 | C13: Provide a list of your Limited Distribution specialty products.
B14: =B13+1 -> 5 | C14: How many Exclusive Distribution Specialty medications are on your specialty drug listing?
B15: =B14+1 -> 6 | C15: Provide a list of your Exclusive specialty products.
B16: =B15+1 -> 7 | C16: Are there any specialty drugs that you block coverage on? If so, please list and explain.
B17: =B16+1 -> 8 | C17: Do you manage Specialty Pharmacy Services in-house? If not, please identify any Specialty Pharmacy used by your organization, location, a description of your contractual relationship with this provider, and the length of time this organization has provided Specialty Pharmacy Services. Please confirm commitment to notifying the County should these arrangements change.
B18: =B17+1 -> 9 | C18: What disease states do you manage under your specialty program?
B19: =B18+1 -> 10 | C19: Do you require specialty products to be dispensed from accredited specialty pharmacies? If yes, what accredited organization do you require?
B20: =B19+1 -> 11 | C20: Do you dispense all specialty medications from your Specialty Rx pharmacy or do you also dispense them from your non-specialty mail order facility?
B21: =B20+1 -> 12 | C21: Does your firm utilize courier services for specialty product delivery? If so, what carriers are used for shipment?
B22: =B21+1 -> 13 | C22: From which of your facilities will Specialty medications be shipped?
... B47: =B46+1 -> 38 | C47: Please provide detail as to how you coordinate drug procurement and administration to the most effective site of care.

Sheet TF 1.14 High Cost Rx FA
B1: =INPUT!$C$3 -> Albemarle County
B2: =INPUT!$D$11 -> RFP#<######>
B3: =INPUT!$C$23 -> PBM
B4: =INPUT!F52 -> Technical Proposal Form 1.14 - High Cost Rx Financial Assistance
C8: Bidder Name | D8: ='Instructions & Info'!$C$44 -> 0
B9: # | C9: Question | D9: Response
B10: 1 | C10: Please describe all programs you have available to financially assist members and plan sponsors for the following:
B11: a. | C11: Couponing
B12: b. | C12: Patient Assistance Programs
B13: c. | C13: Manufacturer Assistance Programs
B14: =B10+1 -> 2 | C14: Do these strategies include international mail or specialty tourism?
B15: =B14+1 -> 3 | C15: How many medications are included in each of the programs you have available? Use separate exhibit if helpful.
B16: =B15+1 -> 4 | C16: Which programs are automated and which are manual? If a program is manual, please provide a flow chart that illustrates the steps involved and responsibilities associated with each step for both the member and plan sponsor.
B17: =B16+1 -> 5 | C17: How is the opportunity for assistance identified? Do you proactively communicate this to the member? If so, how? Is this prior to the first fill or for subsequent fills?
B18: =B17+1 -> 6 | C18: Is there any anticipated change in your Clinical Prior Authorization protocols for medications that qualify for these programs?
B19: =B18+1 -> 7 | C19: Which programs are administered by a third party vendor? If so, please list vendor(s) used.
B20: =B19+1 -> 8 | C20: Will rebates be impacted for any of these programs?
B21: =B20+1 -> 9 | C21: For each program, who initiates it, the member or the PBM?
B22: =B21+1 -> 10 | C22: For each program, please describe how you track and report true member out of pocket expenses.
B23: =B22+1 -> 11 | C23: What is the cost, if any, for each program, including any percentage of savings or manufacturer remuneration being retained by you or a third party vendor? Will you offer a minimum guarantee? If there is a fixed cost, do you offer an ROI Guarantee?
B24: =B23+1 -> 12 | C24: Which programs require either plan design or SPD language changes? If required, can you provide both?
B25: =B24+1 -> 13 | C25: What is the recommended implementation time for each program, if any? What information is necessary to implement each program?
B26: =B25+1 -> 14 | C26: What reporting is provided for each program after implementation? Please include examples and frequency.
... B31: =B30+1 -> 19 | C31: What information, if any, is necessary to provide a savings estimate for each program, including medical?

Sheet TF 1.15 Technology
B1: =INPUT!$C$3 -> Albemarle County
B2: =INPUT!$D$11 -> RFP#<######>
B3: =INPUT!$C$23 -> PBM
B4: =INPUT!F53 -> Technical Proposal Form 1.15 - Technology
C8: Bidder Name | D8: ='Instructions & Info'!$C$44 -> 0
B9: # | C9: Question | D9: Response
B10: 1 | C10: Please provide a description of your system's infrastructure, including security measures.
B11: =B10+1 -> 2 | C11: Do you anticipate any IS platform changes during the initial term of this contract? If so, please describe.
B12: =B11+1 -> 3 | C12: Are you planning any major technological changes (electronic or administrative) that you anticipate will provide significant value?
B13: =B12+1 -> 4 | C13: Describe your Disaster Recovery plan for data backup. Has the disaster recovery plan been tested? If so, when was your disaster recovery plan last tested? What is the normal frequency of your testing?
B14: =B13+1 -> 5 | C14: Please describe the internet/technology resources available to Client members.
B15: =B14+1 -> 6 | C15: Is your website VIPPS certified and licensed in every state?
B16: =B15+1 -> 7 | C16: Do you have an on-line personalized drug management tool that will compare member cost savings opportunities using the plan design for each drug in a patient’s history?
B17: =B16+1 -> 8 | C17: Can you provide access to your internet services for prospective members during the annual open enrollment period and for new members or dependents during a plan year?
B18: =B17+1 -> 9 | C18: Describe security systems and protocols in place to protect confidential patient records.
B19: =B18+1 -> 10 | C19: What changes do you expect to make to your website in the next 12-36 months?
B20: =B19+1 -> 11 | C20: Can members log onto your website using a secure username and password?
B21: =B20+1 -> 12 | C21: Please describe all of your clinical synchronization capabilities, including your ability to combine medical and pharmacy claims cost accumulators in real time.
B22: =B21+1 -> 13 | C22: Are your systems cloud based and, if so, where is the data warehouse located? Describe your approach to HIPAA/HITECH compliance.
... B24: =B23+1 -> 15 | C24: Describe additional support provided through mobile APPs or other mobile alternatives.

Sheet TF 1.16 REF
B1: =INPUT!$C$3 -> Albemarle County
B2: =INPUT!$D$11 -> RFP#<######>
B3: =INPUT!$C$23 -> PBM
B4: Technical Proposal Form 1.15 - References
C6: Bidder Name | D6: ='Instructions & Info'!$C$44 -> 0
B8: References
B9: Provide three (3) current and one (1) former clients of similar size for whom you provide administration for the benefit plans you are quoting. Provide requested references of similar sized contracts serviced during the past eighteen (18) months.
B10: Current Client References
B11: 1 | C11: Client Name
B12: a | C12: City / State
B13: b | C13: Contact Name(s)
B14: c | C14: Title
B15: d | C15: Number of Years Since Implementation
B16: e | C16: Number of Covered Lives
B17: f | C17: Contact Email Address
B18: g | C18: Contact Phone Number
B19: h | C19: List Services Provided (applicable to RFP)
B21: =1+B11 -> 2 | C21: Client Name
B22: a | C22: City / State
B23: b | C23: Contact Name(s)
B24: c | C24: Title
B25: d | C25: Number of Years Since Implementation
B26: e | C26: Number of Covered Lives
B27: f | C27: Contact Email Address
B28: g | C28: Contact Phone Number
B29: h | C29: List Services Provided (applicable to RFP)
B31: =1+B21 -> 3 | C31: Client Name
B32: a | C32: City / State
B33: b | C33: Contact Name(s)
B34: c | C34: Title
B35: d | C35: Number of Years Since Implementation
B36: e | C36: Number of Covered Lives
B37: f | C37: Contact Email Address
B38: g | C38: Contact Phone Number
B39: h | C39: List Services Provided (applicable to RFP)
B41: Former Client References
B42: 1 | C42: Client Name
B43: a | C43: City / State
B44: b | C44: Contact Name(s)
B45: c | C45: Title
...

Sheet TF 5.0 DEV
B1: =INPUT!$C$3 -> Albemarle County
B2: =INPUT!$D$11 -> RFP#<######>
B3: =INPUT!$C$23 -> PBM
B4: =INPUT!F84 -> Price Proposal Form 5.0 - Deviations
B7: All deviations to the current plans arrangements, programs, specifications, etc. must be noted on this proposal form.
D9: Bidder Name | E9: ='Instructions & Info'!$C$44 -> 0
B11: Form / Section | C11: Item # | D11: Description | E11: Deviations

Sheet TF 6.0 DIFF
B1: =INPUT!$C$3 -> Albemarle County
B2: =INPUT!$D$11 -> RFP#<######>
B3: =INPUT!$C$23 -> PBM
B4: =INPUT!F85 -> Price Proposal Form 6.0 - Key Differentiators
B6: Please note any capabilities or offerings specific to your organization that are beneficial to your book of business.
B9: Bidder Name | C9: ='Instructions & Info'!$C$44 -> 0
B11: CATEGORY | C11: KEY DIFFERENTIATORS
